Workbook

Sheet CFO20_21
A2: Summary of Fruitless and Wasteful Expenditure in 20_21 AFS
A4: Opening balance | B4: 1/7/2020 | C4: 28749126 | F4: =Recon062017!G50+Recon062017!G60 -> 17783497
A5: Written off | B5: 20/21 | C5: 27142606
A6: Balance remaining | C6: =C4-C5 -> 1606520
A7: Added | B7: 20/21 | C7: 3902979
A8: Closing Balance | B8: 30/6/2021 | C8: =C4+C7-C5 -> 5509499
A10: Written off | C10: =C5 -> 27142606 | E10: Added | F10: =C7 -> 3902979
A11: Amatola | B11: ='Amatola Water'!G21 -> 9494148.5 | C11: =C10-B11 -> 17648458 | E11: ='Amatola Water'!G19 -> 756776.97 | F11: =F10-E11 -> 3146202
A12: AG | B12: ='Auditor General'!G62 -> 1299063.2 | C12: =C11-B12 -> 16349394 | E12: ='Auditor General'!G60 -> 0 | F12: =F11-E12 -> 3146202
A13: DWS | B13: =DWS!G31 -> 9592929.5 | C13: =C12-B13 -> 6756464.8 | E13: =DWS!G29 -> 3046693.6 | F13: =F12-E13 -> 99508.47
A14: Eskom | B14: =Eskom!G85 -> 6285640.7 | C14: =C13-B14 -> 470824.07 | E14: =Eskom!G83 -> 80693.22 | F14: =F13-E14 -> 18815.25
A15: Other SP's | B15: ='Other SPs Write off'!G76 -> 200824.12 | C15: =C14-B15 -> 269999.95 | E15: ='Other SPs Write off'!G74 -> 18816.18 | F15: =F14-E15 -> -0.93
A16: Further investigation | B16: ='Needs further Investigation'!G4 -> 270000 | C16: =C15-B16 -> -0.050000002 | E16: 0 | F16: =F15-E16 -> -0.93
A18: ADDED DETAIL
A19: 221 | B19: 31/12/2020 | C19: February 2021 | D19: 31/12/2020 | E19: 'JULY - DEC 2020 | F19: AMATOLA WATER | G19: 652101.26 | H19: PROFFESIONAL FEES
A20: 244 | B20: 30/04/2021 | C20: June 2021 | D20: Not paid | E20: 'INT JAN21-APR21 | F20: 'AMATOLA WATER-AMANZI | G20: 219780.08 | H20: PROFFESIONAL FEES
A21: CFO manual insert | B21: 30/06/2020 | C21: 44012 | D21: Not Paid | E21: 43617 | F21: Amatola Water | G21: -115104.37 | H21: Interest Credit given to Makana during 2020/21 financial year
E22: 2020/21 subtotal | G22: =SUM(G19:G21) -> 756776.97
A24: 233 | B24: 30/10/2020 | C24: June 2021 | D24: Not paid | E24: 'OCT 2020 INT. | F24: 'DEPARTMENT OF WATER AFFAIRS | G24: 1521817.2 | H24: WATER PURCHASES
A25: CFO manual insert | B25: 30/10/2020 | C25: June 2021 | D25: Not paid | E25: OCT 2021 SMALL INT. | F25: 'DEPARTMENT OF WATER AFFAIRS | G25: =226.39+383.09+396.09+411.73+4.32+4.32+4.32+4.45+7.39+7.39+7.39+7.59+7.81+7.81+7.81+8+8.22+8.22+8.22+8.4 -> 1528.96 | H25: INTEREST
A26: 235 | B26: 30/11/2020 | C26: June 2021 | D26: Not paid | E26: 'NOV 2020 INT. | F26: 'DEPARTMENT OF WATER AFFAIRS | G26: 211770.15 | H26: WATER PURCHASES
A27: CFO manual insert | B27: 30/11/2020 | C27: June 2021 | D27: Not paid | E27: NOV 2021 SMALL INT. | F27: 'DEPARTMENT OF WATER AFFAIRS | G27: =213.21+4.43+4.34+4.34+4.34 -> 230.66 | H27: INTEREST
A28: 237 | B28: 31/01/2021 | C28: June 2021 | D28: Not paid | E28: 'JAN 2021 INT. | F28: 'DEPARTMENT OF WATER AFFAIRS | G28: 424485.31 | H28: WATER PURCHASES
A29: CFO manual insert | B29: 31/01/2021 | C29: June 2021 | D29: Not paid | E29: JAN 2021 SMALL INT. | F29: 'DEPARTMENT OF WATER AFFAIRS | G29: =455.55+9.24+9.24+9.24+9.42 -> 492.69 | H29: INTEREST
A30: 238 | B30: 28/02/2021 | C30: June 2021 | D30: Not paid | E30: 'FEB 2021 INT. | F30: 'DEPARTMENT OF WATER AFFAIRS | G30: 214063.83 | H30: WATER PURCHASES
A31: CFO manual insert | B31: 28/02/2021 | C31: June 2021 | D31: Not paid | E31: FEB 2021 SMALL INT. | F31: 'DEPARTMENT OF WATER AFFAIRS | G31: =235.14+4.85+4.85+4.85+4.94 -> 254.63 | H31: INTEREST
A32: 240 | B32: 31/03/2021 | C32: June 2021 | D32: Not paid | E32: 'MARCH 2021 INT. | F32: 'DEPARTMENT OF WATER AFFAIRS | G32: 222737.09 | H32: WATER PURCHASES
A33: CFO manual insert | B33: 31/03/2021 | C33: June 2021 | D33: Not paid | E33: MARCH 2021 SMALL INT. | F33: 'DEPARTMENT OF WATER AFFAIRS | G33: =5.19+5.19+5.19+5.28+249.76 -> 270.61 | H33: INTEREST
A34: CFO manual insert | B34: 30/04/2021 | C34: June 2021 | D34: Not paid | E34: APRIL 2021 INT. | F34: 'DEPARTMENT OF WATER AFFAIRS | G34: =(5.19+5.19+5.19+5.28)+(231.36+38445.21+67.64+1067.45+533.72+160.07+5657.82+176573.82)+249.76 -> 223007.7 | H34: INTEREST
A35: CFO manual insert | B35: 31/05/2021 | C35: June 2021 | D35: Not paid | E35: MAY 2021 INT. | F35: 'DEPARTMENT OF WATER AFFAIRS | G35: =(5.45+5.36+5.36+5.36)+(231.36+38445.21+70.68+1087.74+543.87+163.11+5765.37+179448.79)+257.07 -> 226034.73 | H35: INTEREST
E37: 2020/21 subtotal | G37: =SUM(G24:G36) -> 3046693.6
A39: 215 | B39: 14/07/2020 | C39: August 2020 | D39: Not paid | E39: 'JULY 2020 INT. | F39: ESKOM | G39: 526.37 | H39: FREE BASIC ELECTRICITY
A40: 216 | B40: 13/08/2020 | C40: August 2020 | D40: Not paid | E40: 'AUG 2020 INT. | F40: ESKOM | G40: 921.14 | H40: FREE BASIC ELECTRICITY
A41: 220 | B41: 03/11/2020 | C41: October 2020 | D41: 03/11/2020 | E41: EF011702-0001 | F41: ESKOM | G41: 634.74 | H41: FBE ACCOUNT SEP 20
A42: 222 | B42: 12/01/2021 | C42: February 2021 | D42: 12/01/2021 | E42: 'EF011916-0001 | F42: ESKOM | G42: 1380.65 | H42: FBE ACCCOUNT
A43: 224 | B43: 18/02/2021 | C43: March 2021 | D43: 18/02/2021 | E43: 'EF012135-0001 | F43: ESKOM | G43: 135.86 | H43: FBE ACCCOUNT
A44: 225 | B44: 18/02/2021 | C44: March 2021 | D44: 18/02/2021 | E44: 'EF012136-0001 | F44: ESKOM | G44: 3.56 | H44: PREPAID ELECT
A45: 227 | B45: 15/02/2021 | C45: April 2021 | D45: 15/02/2021 | E45: EF012239-0002 | F45: 'ESKOM | G45: 1904.25 | H45: FREE BASIC ELECTRICITY
A46: 228 | B46: 15/03/2021 | C46: April 2021 | D46: Not paid | E46: 'MARCH 2021 INT. | F46: 'ESKOM | G46: 273.93 | H46: FREE BASIC ELECTRICITY
A47: 229 | B47: 16/03/2021 | C47: April 2021 | D47: Not paid | E47: '473 | F47: 'ESKOM | G47: -526.37 | H47: CREDIT NOTE PASSED
...

Sheet Amatola Water
A1: ANNEXURE A - FRUITLESS & WASTEFULL EXPENDITURE FOR 2018/2019/2020/2021 AMATOLA WATER
A2: NO | B2: DATE OF DISCOVERY | C2: DATE REPORTED ACCOUNTING OFFICER | D2: TRANSACTION DETAILS
D3: DATE OF PAYMENT | E3: REFERENCE | F3: SERVICE PROVIDER | G3: AMOUNT | H3: DESCRIPTION OF INCIDENT | I3: PERSON LIABLE (OFFICIAL OR POLITICAL OFFICE BEARER) | J3: TYPE OF PROHIBITED EXPENDITURE | K3: UI | L3: DP | M3: CC | N3: TR | O3: P | P3: WO | Q3: GENERAL COMMENTS
A4: 77 | B4: 19/03/2018 | C4: March 2018 | D4: Not paid | E4: 'INTEREST OCT-MA | F4: Amatola Water | G4: 1731408 | H4: AMATOLA WATER-AMANZI O&M CONTR | I4: Finance | J4: Wastefull | K4: X | P4: X | Q4: interest charged on an delayed payment
A5: 101 | B5: 31/05/2018 | C5: August 2018 | D5: Not paid | E5: 'INTEREST MAR-MA | F5: AMATOLA WATER-AMANZI O&M CONTR | G5: 970867.55 | H5: AMATOLA WATER-AMANZI O&M CONTR | I5: Finance | J5: Wastefull | K5: X | P5: X | Q5: interest charged on an delayed payment
A6: 108 | B6: 30/06/2018 | C6: August 2018 | D6: Not paid | E6: '000000981 | F6: AMATOLA WATER | G6: 316948.2 | H6: AMATOLA WATER RECON | I6: Finance | J6: Wastefull | K6: X | Q6: interest charged on an delayed payment
E7: 2017/18 subtotal | G7: =SUM(G4:G6) -> 3019223.8
A8: 169 | B8: 31/05/2019 | C8: June 2019 | D8: Not paid | E8: JULY 18-MAY 19 | F8: AMATOLA WATER | G8: 3126958.3 | H8: AMANZI INTEREST | I8: Finance | J8: Wastefull | K8: X | Q8: interest charged on an delayed payment
A9: CFO manual insert | B9: 30/06/2019 | C9: 43646 | D9: Not Paid | E9: 43617 | F9: Amatola Water | G9: 262310.85 | H9: Interest | I9: Finance | J9: Wastefull | K9: X | Q9: interest charged on an delayed payment
E10: 2018/19 subtotal | G10: =SUM(G8:G9) -> 3389269.2 | H10: 3389269.2
A11: 199 | B11: 31/01/2020 | C11: Feb 2020 | D11: Not paid | E11: JULY - JAN 2020 | F11: AMATOLA WATER-AMANZI | G11: 1574500.8 | H11: PROFFESIONAL FEES | I11: Finance | J11: Wastefull | K11: X | Q11: interest charged on an delayed payment
A12: 209 | B12: 30/04/2020 | C12: May 2020 | D12: Not paid | E12: 'INT. FEB - APR | F12: AMATOLA WATER-AMANZI | G12: 467394.6 | H12: WATER MANAGEMENT | I12: Finance | J12: Wastefull | K12: X | Q12: interest charged on an delayed payment
A13: 212 | B13: 31/05/2020 | C13: June 2020 | D13: Not paid | E13: 'MAY 2020 INT. | F13: AMATOLA WATER-AMANZI | G13: 145843.93 | H13: WATER MANAGEMENT | I13: Finance | J13: Wastefull | K13: X | Q13: interest charged on an delayed payment
A14: CFO manual insert | B14: 30/06/2020 | C14: 44012 | D14: Not Paid | E14: 43617 | F14: Amatola Water | G14: 141139.29 | H14: Interest | I14: Finance | J14: Wastefull | K14: X | Q14: interest charged on an delayed payment
E15: 2019/20 subtotal | G15: =SUM(G11:G14) -> 2328878.6
A16: 221 | B16: 31/12/2020 | C16: February 2021 | D16: 31/12/2020 | E16: 'JULY - DEC 2020 | F16: AMATOLA WATER | G16: 652101.26 | H16: PROFFESIONAL FEES | I16: Finance | J16: Wastefull | K16: x | Q16: interest charged on an delayed payment
A17: 244 | B17: 30/04/2021 | C17: June 2021 | D17: Not paid | E17: 'INT JAN21-APR21 | F17: 'AMATOLA WATER-AMANZI | G17: 219780.08 | H17: PROFFESIONAL FEES | I17: Finance | J17: Wastefull | K17: X | Q17: interest charged on an delayed payment
A18: CFO manual insert | B18: 30/06/2020 | C18: 44012 | D18: Not Paid | E18: 43617 | F18: Amatola Water | G18: -115104.37 | H18: Interest Credit given to Makana during 2020/21 financial year | I18: Finance | J18: Wastefull | K18: X | Q18: interest charged on an delayed payment
E19: 2020/21 subtotal | G19: =SUM(G16:G18) -> 756776.97
B21: TOTAL INTEREST CHARGED BY AMATOLA WATER | G21: =G19+G15+G10+G7 -> 9494148.5

Sheet Auditor General
A1: ANNEXURE B - FRUITLESS & WASTEFULL EXPENDITURE FOR 2018/2019/2020/2021 AUDITOR GENERAL
A2: NO | B2: DATE OF DISCOVERY | C2: DATE REPORTED ACCOUNTING OFFICER | D2: TRANSACTION DETAILS
D3: DATE OF PAYMENT | E3: REFERENCE | F3: SERVICE PROVIDER | G3: AMOUNT | H3: DESCRIPTION OF INCIDENT | I3: PERSON LIABLE (OFFICIAL OR POLITICAL OFFICE BEARER) | J3: TYPE OF PROHIBITED EXPENDITURE | K3: UI | L3: DP | M3: CC | N3: TR | O3: P | P3: WO | Q3: GENERAL COMMENTS
A4: 51 | B4: 30/06/2017 | D4: July 17 | E4: EF8736-05 | F4: Auditor-General | G4: 288046.25 | H4: Interest charged on overdue accounts | I4: Finance | J4: Wastefull | K4: X | O4: X | P4: X | Q4: interest charged on an delayed payment
E5: 2016/17 subtotal | G5: =SUM(G4) -> 288046.25
A6: 55 | B6: 31/07/2017 | C6: Dec 2017 | D6: Not paid | E6: 'FC-40062 | F6: Auditor-General | G6: 105467.92 | H6: Interest charged on overdue accounts | I6: Finance | J6: Wastefull | K6: X | P6: X | Q6: interest charged on an delayed payment
A7: 56 | B7: 31/08/2017 | C7: Dec 2017 | D7: Not paid | E7: 'FC-40574 | F7: Auditor-General | G7: 103168.3 | H7: Interest charged on overdue accounts | I7: Finance | J7: Wastefull | K7: X | P7: X | Q7: interest charged on an delayed payment
A8: 57 | B8: 30/09/2017 | C8: Dec 2017 | D8: Not paid | E8: 'FC-41091 | F8: Auditor-General | G8: 95381.69 | H8: Interest charged on overdue accounts | I8: Finance | J8: Wastefull | K8: X | P8: X | Q8: interest charged on an delayed payment
A9: 58 | B9: 31/10/2017 | C9: Dec 2017 | D9: Not paid | E9: 'FC-41634 | F9: Auditor-General | G9: 98163 | H9: Interest charged on overdue accounts | I9: Finance | J9: Wastefull | K9: X | P9: X | Q9: interest charged on an delayed payment
A10: 60 | B10: 30/11/2017 | C10: Dec 2017 | D10: Not paid | E10: 'FC-42203 | F10: Auditor-General | G10: 96194.8 | H10: Interest charged on overdue accounts | I10: Finance | J10: Wastefull | K10: X | P10: X | Q10: interest charged on an delayed payment
A11: 66 | B11: 31/12/2017 | C11: Feb 2018 | D11: Not paid | E11: 'FC-42772 | F11: Auditor-General | G11: 99081.69 | H11: AUDITOR-GENERAL AUDIT FEES | I11: Finance | J11: Wastefull | K11: X | P11: X | Q11: interest charged on an delayed payment
A12: 69 | B12: 31/01/2018 | C12: Feb 2018 | D12: Not paid | E12: 'FC-43360 | F12: Auditor-General | G12: 112771.41 | H12: AUDITOR-GENERAL AUDIT FEES | I12: Finance | J12: Wastefull | K12: X | P12: X | Q12: interest charged on an delayed payment
A13: 74 | B13: 28/02/2018 | C13: March 2018 | D13: Not paid | E13: 'FC-43880 | F13: Auditor-General | G13: 95991.86 | H13: AUDITOR-GENERAL AUDIT FEES | I13: Finance | J13: Wastefull | K13: X | P13: X | Q13: interest charged on an delayed payment
A14: 75 | B14: 15/03/2018 | C14: March 2018 | D14: Not paid | E14: '263 | F14: Auditor-General | G14: -91344.45 | H14: AUDITOR-GENERAL CREDIT NOTE PA | I14: Finance | J14: Wastefull | K14: X | P14: X | Q14: Reversal by AG
A15: 76 | B15: 15/03/2018 | C15: March 2018 | D15: Not paid | E15: '264 | F15: Auditor-General | G15: -105382.07 | H15: AUDITOR-GENERAL CREDIT NOTE PA | I15: Finance | J15: Wastefull | K15: X | P15: X | Q15: Reversal by AG
A16: 85 | B16: 31/03/2018 | C16: Ápril 2018 | D16: Not paid | E16: 'FC-44337 | F16: AUDITOR-GENERAL AUDIT FEES | G16: 110485.34 | H16: AUDITOR-GENERAL AUDIT FEES | I16: Finance | J16: Wastefull | K16: X | P16: X | Q16: interest charged on an delayed payment
A17: 91 | B17: 30/04/2018 | C17: May 2018 | D17: Not paid | E17: 'FC-44753 | F17: AUDITOR-GENERAL AUDIT FEES | G17: 24194.82 | H17: AUDITOR-GENERAL AUDIT FEES | I17: Finance | J17: Wastefull | K17: X | P17: X | Q17: interest charged on an delayed payment
... A19: 105 | B19: 30/06/2018 | C19: August 2018 | D19: Not paid | E19: 'FC-45620 | F19: AUDITOR-GENERAL AUDIT FEES | G19: 24441.97 | H19: AUDITOR-GENERAL AUDIT FEES | I19: Finance | J19: Wastefull | K19: X | P19: X | Q19: interest charged on an delayed payment
E20: 2017/18 subtotal | G20: =SUM(G6:G19) -> 791988.85
A21: 111 | B21: 31/08/2018 | C21: September 2018 | D21: Not paid | E21: 'FC-46417 | F21: AUDITOR-GENERAL AUDIT FEES | G21: 14059.3 | H21: AUDIT FEES | I21: Finance | J21: Wastefull | Q21: interest charged on an delayed payment - reversed later
A22: 118 | B22: 30/09/2018 | C22: November 2018 | D22: 43769 | E22: FC-46842 | F22: AUDITOR-GENERAL | G22: 11023.99 | H22: AUDIT FEES | I22: Finance | J22: Wastefull | K22: X | Q22: interest charged on an delayed payment
A23: 126 | B23: 31/10/2018 | C23: January 2019 | D23: 43769 | E23: FC-47286 | F23: AUDITOR-GENERAL | G23: 12584.58 | H23: AUDIT FEES | I23: Finance | J23: Wastefull | K23: X | Q23: interest charged on an delayed payment
A24: 134 | B24: 30/11/2018 | C24: January 2019 | D24: 43769 | E24: FC-47726 | F24: AUDITOR-GENERAL | G24: 15927.06 | H24: AUDIT FEES | I24: Finance | J24: Wastefull | K24: X | Q24: interest charged on an delayed payment
A25: 140 | B25: 31/07/2018 | C25: January 2019 | D25: Not paid | E25: FC-46026 | F25: AUDITOR-GENERAL | G25: 15991.85 | H25: AUDIT FEES | I25: Finance | J25: Wastefull | Q25: interest charged on an delayed payment - reversed later
A26: 141 | B26: 31/12/2018 | C26: January 2019 | D26: 43769 | E26: FC-48178 | F26: AUDITOR-GENERAL | G26: 15359.55 | H26: AUDIT FEES | I26: Finance | J26: Wastefull | K26: X | Q26: interest charged on an delayed payment
A27: 146 | B27: 31/01/2019 | C27: February 2019 | D27: 43769 | E27: FC-48669 | F27: AUDITOR-GENERAL | G27: 32530.65 | H27: AUDIT FEES | I27: Finance | J27: Wastefull | K27: X | Q27: interest charged on an delayed payment
A28: 147 | B28: 06/02/2019 | C28: February 2019 | D28: Not paid | E28: 344 | F28: AUDITOR-GENERAL | G28: -14059.3 | H28: AUDIT FEES | I28: Finance | J28: Wastefull | Q28: Reversal of interest charged on an delayed payment
A29: 148 | B29: 06/02/2019 | C29: February 2019 | D29: Not paid | E29: 345 | F29: AUDITOR-GENERAL | G29: -15991.85 | H29: AUDIT FEES | I29: Finance | J29: Wastefull | Q29: Reversal of interest charged on an delayed payment
A30: 152 | B30: 28/02/2019 | C30: May 2019 | D30: 43769 | E30: FC-49160 | F30: AUDITOR-GENERAL | G30: 23849.76 | H30: AUDIT FEES | I30: Finance | J30: Wastefull | K30: X | Q30: interest charged on an delayed payment
A31: 154 | B31: 31/03/2019 | C31: May 2019 | D31: 43769 | E31: 'FC-49609 | F31: AUDITOR-GENERAL | G31: 30006.82 | H31: AUDIT FEES | I31: Finance | J31: Wastefull | K31: X | Q31: interest charged on an delayed payment
A32: 162 | B32: 30/04/2019 | C32: May 2019 | D32: 43769 | E32: FC-50054 | F32: AUDITOR-GENERAL | G32: 25640.98 | H32: AUDIT FEES | I32: Finance | J32: Wastefull | K32: X | Q32: interest charged on an delayed payment
A33: 168 | B33: 31/05/2019 | C33: June 2019 | D33: 43769 | E33: FC-50515 | F33: AUDITOR-GENERAL | G33: 26113.2 | H33: AUDIT FEES | I33: Finance | J33: Wastefull | K33: X | Q33: interest charged on an delayed payment
A34: CFO manual insert | B34: 30/06/2019 | C34: 44012 | D34: Not Paid | E34: 43617 | F34: AUDITOR-GENERAL | G34: 28553.65 | H34: Interest | I34: Finance | J34: Wastefull | K34: X | Q34: interest charged on an delayed payment
E35: 2018/19 subtotal | G35: =SUM(G21:G34) -> 221590.24 | H35: 3389269.2
A36: 176 | B36: 31/07/2019 | C36: Oct 2019 | D36: 43769 | E36: FC-51449 | F36: Auditor General | G36: 25991.52 | H36: AUDIT FEES | I36: Finance | J36: Wastefull | K36: x | Q36: interest charged on an delayed payment
A37: 177 | B37: 31/08/2019 | C37: Oct 2019 | D37: Not paid | E37: FC-51909 | F37: Auditor General | G37: 17289.68 | H37: AUDIT FEES | I37: Finance | J37: Wastefull | K37: x | Q37: interest charged on an delayed payment
A38: 183 | B38: 30/09/2019 | C38: Nov 2019 | D38: Not paid | E38: FC-52386 | F38: Auditor-General | G38: 8298.86 | H38: AUDIT FEES | I38: Finance | J38: Wastefull | K38: X | Q38: interest charged on an delayed payment
A39: 189 | B39: 31/10/2019 | C39: Dec 2019 | D39: Not paid | E39: FC-52887 | F39: AUDITOR-GENERAL | G39: 12520.19 | H39: AUDIT FEES | I39: Finance | J39: Wastefull | K39: X | Q39: interest charged on an delayed payment
A40: 194 | B40: 30/11/2019 | C40: Jan 2020 | D40: Not paid | E40: FC-53405 | F40: AUDITOR-GENERAL | G40: 10660.28 | H40: AUDIT FEES | I40: Finance | J40: Wastefull | K40: X | Q40: interest charged on an delayed payment
A41: 196 | B41: 31/12/2019 | C41: Jan 2020 | D41: Not paid | E41: FC-53930 | F41: AUDITOR-GENERAL | G41: 7880.88 | H41: AUDIT FEES | I41: Finance | J41: Wastefull | K41: X | Q41: interest charged on an delayed payment
...

Sheet DWS
A1: ANNEXURE C - FRUITLESS & WASTEFULL EXPENDITURE FOR 2018/2019/2020/2021 DEPARTMENT OF WATER & SANITATION
A2: NO | B2: DATE OF DISCOVERY | C2: DATE REPORTED ACCOUNTING OFFICER | D2: TRANSACTION DETAILS
D3: DATE OF PAYMENT | E3: REFERENCE | F3: SERVICE PROVIDER | G3: AMOUNT | H3: DESCRIPTION OF INCIDENT | I3: PERSON LIABLE (OFFICIAL OR POLITICAL OFFICE BEARER) | J3: TYPE OF PROHIBITED EXPENDITURE | K3: UI | L3: DP | M3: CC | N3: TR | O3: P | P3: WO | Q3: GENERAL COMMENTS
E5: 2016/17 subtotal | G5: =SUM(G4) -> 0
A6: 86 | B6: 30/09/2017 | C6: May 2018 | D6: Not paid | E6: 'SEPT 2018 | F6: DEPT OF WATER AFFAIRS | G6: 211935.99 | H6: DEPT OF WATER | I6: Finance | J6: Wastefull | K6: X | P6: X | Q6: interest charged on an delayed payment
A7: 87 | B7: 31/03/2018 | C7: May 2018 | D7: Not paid | E7: 'MARCH INTEREST | F7: DEPT OF WATER AFFAIRS | G7: 1264966.8 | H7: DEPT OF WATER | I7: Finance | J7: Wastefull | K7: X | P7: X | Q7: interest charged on an delayed payment
A8: 96 | B8: 30/04/2018 | C8: August 2018 | D8: Not paid | E8: 'APRIL INT. | F8: DEPT OF WATER AFFAIRS | G8: 20208.39 | H8: DEPT OF WATER AFFAIRS | I8: Finance | J8: Wastefull | K8: X | P8: X | Q8: interest charged on an delayed payment
E9: 2017/18 subtotal | G9: =SUM(G6:G8) -> 1497111.2
A10: CFO manual insert | B10: 30/06/2019 | C10: 2018/19 | D10: Not paid | E10: 2018/19 Interest charge | F10: DEPT OF WATER AFFAIRS | G10: 2707742.4 | H10: DEPT OF WATER AFFAIRS | I10: Finance | J10: Wastefull | K10: X | P10: X | Q10: interest charged on an delayed payment
E11: 2018/19 subtotal | G11: =SUM(G10:G10) -> 2707742.4 | H11: 3389269.2
A13: Requested Interest breakdown as not reflected in our statements for entire year | B13: 30/06/2020 | C13: 2019/20 | D13: Not paid | E13: 2019/20 Interest charge | F13: DEPT OF WATER AFFAIRS | G13: 2341382.5 | H13: DEPT OF WATER AFFAIRS | I13: Finance | J13: Wastefull | K13: X | P13: X | Q13: interest charged on an delayed payment
E15: 2019/20 subtotal | G15: =SUM(G12:G14) -> 2341382.5
A16: 233 | B16: 30/10/2020 | C16: June 2021 | D16: Not paid | E16: 'OCT 2020 INT. | F16: 'DEPARTMENT OF WATER AFFAIRS | G16: 1521817.2 | H16: WATER PURCHASES | I16: Finance | J16: Wastefull | K16: X | Q16: interest charged on an delayed payment
A17: CFO manual insert | B17: 30/10/2020 | C17: June 2021 | D17: Not paid | E17: OCT 2021 SMALL INT. | F17: 'DEPARTMENT OF WATER AFFAIRS | G17: =226.39+383.09+396.09+411.73+4.32+4.32+4.32+4.45+7.39+7.39+7.39+7.59+7.81+7.81+7.81+8+8.22+8.22+8.22+8.4 -> 1528.96 | H17: INTEREST | I17: Finance | J17: Wastefull | K17: X | Q17: interest charged on an delayed payment
A18: 235 | B18: 30/11/2020 | C18: June 2021 | D18: Not paid | E18: 'NOV 2020 INT. | F18: 'DEPARTMENT OF WATER AFFAIRS | G18: 211770.15 | H18: WATER PURCHASES | I18: Finance | J18: Wastefull | K18: X | Q18: interest charged on an delayed payment
A19: CFO manual insert | B19: 30/11/2020 | C19: June 2021 | D19: Not paid | E19: NOV 2021 SMALL INT. | F19: 'DEPARTMENT OF WATER AFFAIRS | G19: =213.21+4.43+4.34+4.34+4.34 -> 230.66 | H19: INTEREST | I19: Finance | J19: Wastefull | K19: X | Q19: interest charged on an delayed payment
A20: 237 | B20: 31/01/2021 | C20: June 2021 | D20: Not paid | E20: 'JAN 2021 INT. | F20: 'DEPARTMENT OF WATER AFFAIRS | G20: 424485.31 | H20: WATER PURCHASES | I20: Finance | J20: Wastefull | K20: X | Q20: interest charged on an delayed payment
A21: CFO manual insert | B21: 31/01/2021 | C21: June 2021 | D21: Not paid | E21: JAN 2021 SMALL INT. | F21: 'DEPARTMENT OF WATER AFFAIRS | G21: =455.55+9.24+9.24+9.24+9.42 -> 492.69 | H21: INTEREST | I21: Finance | J21: Wastefull | K21: X | Q21: interest charged on an delayed payment
A22: 238 | B22: 28/02/2021 | C22: June 2021 | D22: Not paid | E22: 'FEB 2021 INT. | F22: 'DEPARTMENT OF WATER AFFAIRS | G22: 214063.83 | H22: WATER PURCHASES | I22: Finance | J22: Wastefull | K22: X | Q22: interest charged on an delayed payment
A23: CFO manual insert | B23: 28/02/2021 | C23: June 2021 | D23: Not paid | E23: FEB 2021 SMALL INT. | F23: 'DEPARTMENT OF WATER AFFAIRS | G23: =235.14+4.85+4.85+4.85+4.94 -> 254.63 | H23: INTEREST | I23: Finance | J23: Wastefull | K23: X | Q23: interest charged on an delayed payment
A24: 240 | B24: 31/03/2021 | C24: June 2021 | D24: Not paid | E24: 'MARCH 2021 INT. | F24: 'DEPARTMENT OF WATER AFFAIRS | G24: 222737.09 | H24: WATER PURCHASES | I24: Finance | J24: Wastefull | K24: X | Q24: interest charged on an delayed payment
A25: CFO manual insert | B25: 31/03/2021 | C25: June 2021 | D25: Not paid | E25: MARCH 2021 SMALL INT. | F25: 'DEPARTMENT OF WATER AFFAIRS | G25: =5.19+5.19+5.19+5.28+249.76 -> 270.61 | H25: INTEREST | I25: Finance | J25: Wastefull | K25: X | Q25: interest charged on an delayed payment
A26: CFO manual insert | B26: 30/04/2021 | C26: June 2021 | D26: Not paid | E26: APRIL 2021 INT. | F26: 'DEPARTMENT OF WATER AFFAIRS | G26: =(5.19+5.19+5.19+5.28)+(231.36+38445.21+67.64+1067.45+533.72+160.07+5657.82+176573.82)+249.76 -> 223007.7 | H26: INTEREST | I26: Finance | J26: Wastefull | K26: X | Q26: interest charged on an delayed payment
A27: CFO manual insert | B27: 31/05/2021 | C27: June 2021 | D27: Not paid | E27: MAY 2021 INT. | F27: 'DEPARTMENT OF WATER AFFAIRS | G27: =(5.45+5.36+5.36+5.36)+(231.36+38445.21+70.68+1087.74+543.87+163.11+5765.37+179448.79)+257.07 -> 226034.73 | H27: INTEREST | I27: Finance | J27: Wastefull | K27: X | Q27: interest charged on an delayed payment
E29: 2020/21 subtotal | G29: =SUM(G16:G28) -> 3046693.6
B31: TOTAL INTEREST CHARGED BY DWS (after reversals) | G31: =G29+G15+G11+G9+G5 -> 9592929.5

Sheet Eskom
A1: ANNEXURE D - FRUITLESS & WASTEFULL EXPENDITURE FOR 2018/2019/2020/2021 ESKOM
A2: NO | B2: DATE OF DISCOVERY | C2: DATE REPORTED ACCOUNTING OFFICER | D2: TRANSACTION DETAILS
D3: DATE OF PAYMENT | E3: REFERENCE | F3: SERVICE PROVIDER | G3: AMOUNT | H3: DESCRIPTION OF INCIDENT | I3: PERSON LIABLE (OFFICIAL OR POLITICAL OFFICE BEARER) | J3: TYPE OF PROHIBITED EXPENDITURE | K3: UI | L3: DP | M3: CC | N3: TR | O3: P | P3: WO | Q3: GENERAL COMMENTS
E5: 2016/17 subtotal | G5: =SUM(G4) -> 0
A6: 52 | B6: 21/07/2017 | C6: Nov 2017 | D6: Not paid | E6: 'JUL 17 | F6: Eskom | G6: 238001.33 | H6: Interest charged on overdue accounts | I6: Finance | J6: Wastefull | K6: X | P6: X | Q6: interest charged on a delayed payment
A7: 53 | B7: 26/09/2017 | C7: Nov 2017 | D7: Not paid | E7: 'SEP 2017 | F7: Eskom | G7: 466894.81 | H7: Interest charged on overdue accounts | I7: Finance | J7: Wastefull | K7: X | P7: X | Q7: interest charged on a delayed payment
A8: 54 | B8: 21/10/2017 | C8: Nov 2017 | D8: Not paid | E8: 'OCTOBER 17 | F8: Eskom | G8: 174962.49 | H8: Interest charged on overdue accounts | I8: Finance | J8: Wastefull | K8: X | P8: X | Q8: interest charged on a delayed payment
A9: 59 | B9: 22/11/2017 | C9: Dec 2017 | D9: Not paid | E9: 'NOV 2017 INT | F9: Eskom | G9: 461920.32 | H9: Interest charged on overdue accounts | I9: Finance | J9: Wastefull | K9: X | P9: X | Q9: interest charged on a delayed payment
A10: 61 | B10: 20/01/2017 | C10: Jan 2018 | D10: Not paid | E10: 'JAN 2018 | F10: Eskom | G10: 545385.13 | H10: Interest charged on overdue accounts | I10: Finance | J10: Wastefull | K10: X | P10: X | Q10: interest charged on a delayed payment
A11: 71 | B11: 21/02/2018 | C11: Feb 2018 | D11: Not paid | E11: 'FEB 2018 INT. | F11: Eskom Bulk | G11: 790307.26 | H11: ESKOM BULK ACCOUNT ESKOM BULK | I11: Finance | J11: Wastefull | K11: X | P11: X | Q11: Eskom error. To be reversed
A12: 72 | B12: 14/02/2018 | C12: March 2018 | D12: 14/02/2018 | E12: 'FEB INTEREST | F12: Eskom | G12: 4894.43 | H12: ESKOM FREE BASIC ELEC. | I12: Finance | J12: Wastefull | K12: X | O12: X | P12: X | Q12: EF009161-0003
A13: 82 | B13: 09/03/2018 | C13: Ápril 2018 | D13: Not paid | E13: 'MAR. INT 2018 | F13: ESKOM FREE BASIC ELEC. | G13: 6197.95 | H13: ESKOM FREE BASIC ELEC. | I13: Finance | J13: Wastefull | K13: X | P13: X | Q13: interest charged on a delayed payment
A14: 88 | B14: 16/04/2018 | C14: May 2018 | D14: Not paid | E14: 'APRIL 18 | F14: ESKOM FREE BASIC ELEC. | G14: 7015.03 | H14: Free Basic Electricity | I14: Finance | J14: Wastefull | K14: X | P14: X | Q14: interest charged on a delayed payment
A15: 93 | B15: 03/05/2018 | C15: May 2018 | D15: Not paid | E15: 'APRIL 2018 INT. | F15: ESKOM BULK ACCOUNT ESKOM BULK | G15: 299.39 | H15: ESKOM BULK ACCOUNT ESKOM BULK | I15: Finance | J15: Wastefull | K15: X | P15: X | Q15: interest charged on a delayed payment
A16: 94 | B16: 09/05/2018 | C16: May 2018 | D16: Not paid | E16: 'MAY 18 | F16: ESKOM FREE BASIC ELEC. | G16: 3085.74 | H16: ESKOM FREE BASIC ELEC. | I16: Finance | J16: Wastefull | K16: X | P16: X | Q16: interest charged on a delayed payment
A17: 102 | B17: 12/06/2018 | C17: August 2018 | D17: Not paid | E17: 'JUNE INTEREST | F17: ESKOM FREE BASIC ELEC. | G17: 8726.12 | H17: ESKOM FREE BASIC ELEC. | I17: Finance | J17: Wastefull | K17: X | P17: X | Q17: interest charged on a delayed payment
A18: 104 | B18: 30/06/2018 | C18: August 2018 | D18: Not paid | E18: 'INT. JUNE 2018 | F18: ESKOM BULK ACCOUNT BULK ACCOUN | G18: 424151.72 | H18: ESKOM BULK ACCOUNT ESKOM BULK | I18: Finance | J18: Wastefull | K18: X | P18: X | Q18: interest charged on a delayed payment
E20: 2017/18 subtotal | G20: =SUM(G6:G19) -> 3131841.7
A21: 104 | B21: 30/06/2018 | C21: August 2018 | D21: Not paid | E21: 'INT. JUNE 2018 | F21: ESKOM BULK ACCOUNT BULK ACCOUN | G21: 424151.72 | H21: ESKOM BULK ACCOUNT ESKOM BULK | I21: Finance | J21: Wastefull | K21: X | P21: X | Q21: interest charged on a delayed payment
A22: 110 | B22: 03/08/2018 | C22: September 2018 | D22: Not paid | E22: 'JULY 18 INT. | F22: ESKOM SMALL ACCOUNTS | G22: 47820.94 | H22: ESKOM SMALL ACCOUNTS | I22: Finance | J22: Wastefull | K22: X | Q22: interest charged on a delayed payment
A23: 113 | B23: 03/09/2018 | C23: November 2018 | D23: Not paid | E23: AUG 2018 INT | F23: ESKOM SMALL ACCOUNTS | G23: 51358.22 | H23: ESKOM SMALL ACCOUNTS | I23: Finance | J23: Wastefull | K23: X | Q23: interest charged on a delayed payment
A24: 117 | B24: 11/09/2018 | C24: November 2018 | D24: Not paid | E24: SEPT 2018 INT | F24: ESKOM FREE BASIC ELEC | G24: 9855.75 | H24: ESKOM FREE BASIC ELEC | I24: Finance | J24: Wastefull | K24: X | Q24: interest charged on a delayed payment
A25: 119 | B25: 01/10/2018 | C25: November 2018 | D25: Not paid | E25: SEPT 2018 INT | F25: ESKOM BULK ACCOUNT | G25: 72156.29 | H25: ESKOM BULK ACCOUNT | I25: Finance | J25: Wastefull | K25: X | Q25: interest charged on a delayed payment
A26: 120 | B26: 11/10/2018 | C26: November 2018 | D26: Not paid | E26: OCT 2018 INT | F26: ESKOM FREE BASIC ELEC | G26: 410.65 | H26: ESKOM FREE BASIC ELEC | I26: Finance | J26: Wastefull | K26: X | Q26: interest charged on a delayed payment
A27: 122 | B27: 31/10/2018 | C27: November 2018 | D27: Not paid | E27: OCT 2018 INT | F27: ESKOM BULK ACCOUNT | G27: 911456 | H27: ESKOM BULK ACCOUNT | I27: Finance | J27: Wastefull | K27: X | Q27: interest charged on a delayed payment
A28: 127 | B28: 18/08/2018 | C28: January 2019 | D28: 11/2018 | E28: EF009857-002 | F28: ESKOM | G28: 11585.52 | H28: ESKOM FREE BASIC ELEC | I28: Finance | J28: Wastefull | K28: X | O28: X | Q28: interest charged on a delayed payment
A29: 128 | B29: 10/07/2018 | C29: January 2019 | D29: 11/2018 | E29: EF009857-004 | F29: ESKOM | G29: 11291.1 | H29: ESKOM FREE BASIC ELEC | I29: Finance | J29: Wastefull | K29: X | O29: X | Q29: interest charged on a delayed payment
A30: 131 | B30: 29/11/2018 | C30: January 2019 | D30: 11/2018 | E30: EF010070-0001 | F30: ESKOM | G30: 11445.16 | H30: ESKOM SMALL ACCOUNTS | I30: Finance | J30: Wastefull | K30: X | O30: X | Q30: interest charged on a delayed payment
A31: 132 | B31: 29/11/2018 | C31: January 2019 | D31: 11/2018 | E31: EF010072-0001 | F31: ESKOM | G31: 102489.13 | H31: ESKOM SMALL ACCOUNTS | I31: Finance | J31: Wastefull | K31: X | O31: X | Q31: interest charged on a delayed payment
A32: 133 | B32: 29/11/2018 | C32: January 2019 | D32: 11/2018 | E32: EF010074-0001 | F32: ESKOM | G32: 1501.39 | H32: ESKOM SMALL ACCOUNTS | I32: Finance | J32: Wastefull | K32: X | O32: X | Q32: interest charged on a delayed payment
A33: 135 | B33: 03/12/2018 | C33: January 2019 | D33: Not paid | E33: NOV 2018 INT | F33: ESKOM | G33: 534733.98 | H33: ESKOM BULK ACCOUNT | I33: Finance | J33: Wastefull | K33: X | Q33: interest charged on a delayed payment
A34: 137 | B34: 17/11/2018 | C34: January 2019 | D34: 12/2018 | E34: EF010140-002 | F34: ESKOM | G34: 5810.3 | H34: ESKOM FREE BASIC ELEC | I34: Finance | J34: Wastefull | K34: X | O34: X | Q34: interest charged on a delayed payment
A35: 142 | B35: 02/01/2019 | C35: January 2019 | D35: Not paid | E35: DEC 2018 INT | F35: ESKOM | G35: 443489.26 | H35: ESKOM BULK ACCOUNT | I35: Finance | J35: Wastefull | K35: X | Q35: interest charged on a delayed payment
A36: 144 | B36: 10/12/2018 | C36: January 2019 | D36: Not paid | E36: DEC 2018 INT | F36: ESKOM | G36: 2868.44 | H36: ESKOM FREE BASIC ELEC | I36: Finance | J36: Wastefull | K36: X | Q36: interest charged on a delayed payment
A37: 145 | B37: 16/01/2019 | C37: January 2019 | D37: Not paid | E37: JAN 2019 INT | F37: ESKOM | G37: 1018.23 | H37: ESKOM FREE BASIC ELEC | I37: Finance | J37: Wastefull | K37: X | Q37: interest charged on a delayed payment
A38: 149 | B38: 06/02/2019 | C38: May 2019 | D38: Not paid | E38: JAN 2019 INT | F38: ESKOM | G38: 373154.8 | H38: ESKOM BULK ACCOUNT | I38: Finance | J38: Wastefull | K38: X | Q38: interest charged on a delayed payment
A39: 150 | B39: 06/02/2019 | C39: May 2019 | D39: 27/2/2019 | E39: EF010393-0001 | F39: ESKOM | G39: 2408.52 | H39: ESKOM SMALL ACCOUNTS | I39: Finance | J39: Wastefull | K39: X | O39: X | Q39: interest charged on a delayed payment
A40: 151 | B40: 14/02/2019 | C40: May 2019 | D40: Not paid | E40: FEB 2019 INT | F40: ESKOM | G40: 2327.39 | H40: ESKOM FREE BASIC ELEC | I40: Finance | J40: Wastefull | K40: X | Q40: interest charged on a delayed payment
A41: 158 | B41: 20/03/2019 | C41: May 2019 | D41: Not paid | E41: MARCH 2019 INT | F41: ESKOM | G41: 5293.1 | H41: ESKOM FREE BASIC ELEC | I41: Finance | J41: Wastefull | K41: X | Q41: interest charged on a delayed payment
A42: 161 | B42: 10/04/2019 | C42: May 2019 | D42: Not paid | E42: APRIL 2019 INT | F42: ESKOM | G42: 6013.7 | H42: ESKOM FREE BASIC ELEC | I42: Finance | J42: Wastefull | K42: X | Q42: interest charged on a delayed payment
...

Sheet Other SPs Write off
A1: ANNEXURE E - FRUITLESS & WASTEFULL EXPENDITURE FOR 2018/2019/2020/2021 OTHER SERVICE PROVIDERS
A2: NO | B2: DATE OF DISCOVERY | C2: DATE REPORTED ACCOUNTING OFFICER | D2: TRANSACTION DETAILS
D3: DATE OF PAYMENT | E3: REFERENCE | F3: SERVICE PROVIDER | G3: AMOUNT | H3: DESCRIPTION OF INCIDENT | I3: PERSON LIABLE (OFFICIAL OR POLITICAL OFFICE BEARER) | J3: TYPE OF PROHIBITED EXPENDITURE | K3: UI | L3: DP | M3: CC | N3: TR | O3: P | P3: WO | Q3: GENERAL COMMENTS
A4: 62 | B4: 31/12/2017 | C4: Jan 2018 | D4: Not paid | E4: 'DEC-17 | F4: Telkom | G4: 35.65 | H4: Interest charged on overdue accounts | I4: Finance | J4: Wastefull | K4: X | P4: X | Q4: interest charged on an delayed payment
A5: 63 | B5: 15/01/2018 | C5: Jan 2018 | D5: 15/01/2018 | E5: 268/2017 | F5: Huxtable Attorneys | G5: 2284.14 | H5: Interest and sheriff fees | I5: TBD | J5: Wastefull | K5: X | O5: X | P5: X | Q5: Delayed payment resulting in lawyer/sheriff fees
A6: 64 | B6: 31/10/2017 | C6: Feb 2018 | D6: Not paid | E6: 'INT OCT 17 | F6: BCX | G6: 47.65 | H6: BCX IT MAINTENANCE | I6: Finance | J6: Wastefull | K6: X | P6: X | Q6: interest charged on an delayed payment
A7: 65 | B7: 30/11/2017 | C7: Feb 2018 | D7: Not paid | E7: 'INT NOV 17 | F7: BCX | G7: 917.45 | H7: BCX IT MAINTENANCE | I7: Finance | J7: Wastefull | K7: X | P7: X | Q7: interest charged on an delayed payment
A8: 67 | B8: 31/12/2017 | C8: Feb 2018 | D8: Not paid | E8: 'INT DEC 17 | F8: BCX | G8: 1397.88 | H8: BCX IT MAINTENANCE | I8: Finance | J8: Wastefull | K8: X | P8: X | Q8: interest charged on an delayed payment
A9: 68 | B9: 01/01/2018 | C9: Feb 2018 | D9: Not paid | E9: '64477 | F9: Telkom | G9: 1166.22 | H9: TELKOM SA LTD TELEPHONES | I9: Finance | J9: Wastefull | K9: X | P9: X | Q9: interest charged on an delayed payment
A10: 70 | B10: 31/01/2018 | C10: Feb 2018 | D10: Not paid | E10: 'INT JAN 18 | F10: BCX | G10: 2181.9 | H10: BCX IT MAINTENANCE | I10: Finance | J10: Wastefull | K10: X | P10: X | Q10: interest charged on an delayed payment
A11: 73 | B11: 28/02/2018 | C11: March 2018 | D11: Not paid | E11: 'INTEREST FEB 18 | F11: BCX | G11: 2639.8 | H11: BCX IT MAINTENANCE | I11: Finance | J11: Wastefull | K11: X | P11: X | Q11: interest charged on an delayed payment
A12: 78 | B12: 31/12/2017 | C12: Ápril 2018 | D12: Not paid | E12: 'INT.1017 | F12: Kruiper Spares VEHICLE REPAIRS | G12: 63.51 | H12: MAINTENANCE OF VEHICLES | I12: Finance | J12: Wastefull | K12: X | P12: X | Q12: interest charged on an delayed payment
A13: 79 | B13: 31/01/2018 | C13: Ápril 2018 | D13: Not paid | E13: 'INT.1118 | F13: Kruiper Spares VEHICLE REPAIRS | G13: 63.51 | H13: MAINTENANCE OF VEHICLES | I13: Finance | J13: Wastefull | K13: X | P13: X | Q13: interest charged on an delayed payment
A14: 80 | B14: 28/02/2018 | C14: Ápril 2018 | D14: Not paid | E14: 'INT.1218 | F14: Kruiper Spares VEHICLE REPAIRS | G14: 64.2 | H14: MAINTENANCE OF VEHICLES | I14: Finance | J14: Wastefull | K14: X | P14: X | Q14: interest charged on an delayed payment
A15: 81 | B15: 01/03/2018 | C15: Ápril 2018 | D15: Not paid | E15: 'FEB 2018 INT. | F15: TELKOM SA LTD TELEPHONES | G15: 1355.94 | H15: TELKOM SA LTD TELEPHONES | I15: Finance | J15: Wastefull | K15: X | P15: X | Q15: interest charged on an delayed payment
A16: 83 | B16: 31/03/2018 | C16: Ápril 2018 | D16: Not paid | E16: 'INT. MARCH 2018 | F16: BCX IT MAINTENANCE | G16: 3049.73 | H16: BCX IT MAINTENANCE | I16: Finance | J16: Wastefull | K16: X | P16: X | Q16: interest charged on an delayed payment
A17: 84 | B17: 31/03/2018 | C17: Ápril 2018 | D17: Not paid | E17: 'INT.0118 | F17: Kruiper Spares VEHICLE REPAIRS | G17: 64.89 | H17: MAINTENANCE OF VEHICLES | I17: Finance | J17: Wastefull | K17: X | P17: X | Q17: interest charged on an delayed payment
... A21: 95 | B21: 14/05/2018 | C21: May 2018 | D21: Not paid | E21: 'INA64557 | F21: MUNSOFT (PTY) LTD PROFFESIONAL | G21: 2379.19 | H21: IT FEES - FIN SYSTEM | I21: Finance | J21: Wastefull | K21: X | P21: X | Q21: interest charged on an delayed payment
A22: 98 | B22: 31/05/2018 | C22: August 2018 | D22: June 2018 | E22: 'MAY 2018 INT. | F22: BCX IT MAINTENANCE | G22: 3107.8 | H22: BCX IT MAINTENANCE | I22: Finance | J22: Wastefull | K22: X | O22: X | P22: X | Q22: EF009437-014
A23: 99 | B23: 31/05/2018 | C23: August 2018 | D23: Not paid | E23: 'INT.0318 | F23: Kruiper Spares VEHICLE REPAIRS | G23: 66.29 | H23: MAINTENANCE OF VEHICLES | I23: Finance | J23: Wastefull | K23: X | P23: X | Q23: interest charged on an delayed payment
A24: 100 | B24: 31/05/2018 | C24: August 2018 | D24: Not paid | E24: 'MAY 2018 INT. | F24: TELKOM SA LTD TELEPHONES | G24: 1359.66 | H24: TELKOM SA LTD TELEPHONES | I24: Finance | J24: Wastefull | K24: X | P24: X | Q24: interest charged on an delayed payment
A25: 103 | B25: 30/06/2018 | C25: August 2018 | D25: Not paid | E25: 'INT.0418 | F25: Kruiper Spares VEHICLE REPAIRS | G25: 67 | H25: MAINTENANCE OF VEHICLES | I25: Finance | J25: Wastefull | K25: X | P25: X | Q25: interest charged on an delayed payment
A26: 106 | B26: 30/06/2018 | C26: August 2018 | D26: Not paid | E26: 'JUNE INT. | F26: TELKOM SA LTD TELEPHONES | G26: 1988.1 | H26: TELKOM SA LTD TELEPHONES | I26: Finance | J26: Wastefull | K26: X | P26: X | Q26: interest charged on an delayed payment
E27: 2017/18 subtotal | G27: =SUM(G4:G26) -> 29895.29
A28: 109 | B28: 31/07/2018 | C28: September 2018 | D28: 31/07/2018 | E28: EF009549-003 | F28: TELKOM SA LTD TELEPHONES | G28: 1728.56 | H28: TELEPHONE ACCOUNT | I28: Finance | J28: Wastefull | K28: X | O28: X | Q28: interest charged on an delayed payment
A29: 112 | B29: 31/08/2018 | C29: November 2018 | D29: Not paid | E29: IN016604 | F29: TRANSGEAR BUSINESS TRUST | G29: 2425.95 | H29: VEHICLE MAINTENANCE | I29: Finance | J29: Wastefull | K29: X | Q29: interest charged on an delayed payment
A30: 114 | B30: 13/09/2018 | C30: November 2018 | D30: Not paid | E30: INA65449 | F30: MUNSOFT (PTY) LTD | G30: 1857.86 | H30: PROFFESIONAL FEES | I30: Finance | J30: Wastefull | K30: X | Q30: interest charged on an delayed payment
A31: 115 | B31: 30/09/2018 | C31: November 2018 | D31: Not paid | E31: IN016618 | F31: TRANSGEAR BUSINESS TRUST | G31: 2486.6 | H31: VEHICLE MAINTENANCE | I31: Finance | J31: Wastefull | K31: X | Q31: interest charged on an delayed payment
A32: 116 | B32: 01/09/2018 | C32: November 2018 | D32: Not paid | E32: INT. SEPT 2018 | F32: TELKOM SA LTD | G32: 969 | H32: TELEPHONES | I32: Finance | J32: Wastefull | K32: X | Q32: interest charged on an delayed payment
A33: 121 | B33: 22/10/2018 | C33: November 2018 | D33: Not paid | E33: INA65665 | F33: MUNSOFT (PTY) LTD | G33: 2070.12 | H33: PROFFESIONAL FEES | I33: Finance | J33: Wastefull | K33: X | Q33: interest charged on an delayed payment
A34: 123 | B34: 08/11/2018 | C34: November 2018 | D34: October 18 | E34: EF009963-0001 | F34: DRIVING LICENCE CARD ACC | G34: 464.79 | H34: DRIVING LICENCE CARDS | I34: Finance | J34: Wastefull | K34: X | O34: X | Q34: interest charged on an delayed payment
A35: 124 | B35: 10/07/2018 | C35: January 2019 | D35: Not paid | E35: INA65043 | F35: MUNSOFT | G35: 4741.21 | H35: PROFFESIONAL FEES | I35: Finance | J35: Wastefull | K35: X | Q35: interest charged on an delayed payment
A36: 125 | B36: 31/07/2018 | C36: January 2019 | D36: Not paid | E36: IN016590 | F36: TRANSGEAR BUSINESS TRUST | G36: 2366.78 | H36: VEHICLE MAINTENANCE | I36: Finance | J36: Wastefull | K36: X | Q36: interest charged on an delayed payment
A37: 129 | B37: 31/10/2018 | C37: January 2019 | D37: Not paid | E37: IN016643 | F37: TRANSGEAR BUSINESS TRUST | G37: 2548.77 | H37: VEHICLE MAINTENANCE | I37: Finance | J37: Wastefull | K37: X | Q37: interest charged on an delayed payment
A38: 130 | B38: 16/11/2018 | C38: January 2019 | D38: Not paid | E38: INA65860 | F38: MUNSOFT | G38: 3620.73 | H38: PROFFESIONAL FEES | I38: Finance | J38: Wastefull | K38: X | Q38: interest charged on an delayed payment
A39: 136 | B39: 30/11/2018 | C39: January 2019 | D39: Not paid | E39: IN016659 | F39: TRANSGEAR BUSINESS TRUST | G39: 2612.49 | H39: VEHICLE MAINTENANCE | I39: Finance | J39: Wastefull | K39: X | Q39: interest charged on an delayed payment
A40: 138 | B40: 1/10/2018 | C40: January 2019 | D40: 12/2018 | E40: EF010137-002 | F40: TELKOM | G40: 1016.8 | H40: TELEPHONE ACCOUNT | I40: Finance | J40: Wastefull | K40: X | O40: X | Q40: interest charged on an delayed payment
A41: 139 | B41: 1/11/2018 | C41: January 2019 | D41: Not paid | E41: NOV 2018 INT | F41: TELKOM | G41: 876.3 | H41: TELEPHONE ACCOUNT | I41: Finance | J41: Wastefull | K41: X | Q41: interest charged on an delayed payment
A42: 143 | B42: 31/12/2018 | C42: January 2019 | D42: Not paid | E42: IN016667 | F42: TRANSGEAR BUSINESS TRUST | G42: 955.05 | H42: VEHICLE MAINTENANCE | I42: Finance | J42: Wastefull | K42: X | Q42: interest charged on an delayed payment
A43: 155 | B43: 31/07/2018 | C43: May 2019 | D43: Not paid | E43: INT.0518 | F43: Kruiper Spares | G43: 67.72 | H43: MAINTENANCE OF VEHICLES | I43: Finance | J43: Wastefull | Q43: interest charged on an delayed payment - REVERSED: SEE NR 165
...

Sheet Needs further Investigation
A1: ANNEXURE F - FRUITLESS & WASTEFULL EXPENDITURE FOR 2018/2019/2020/2021 Case requiring further details or investigation
A2: NO | B2: DATE OF DISCOVERY | C2: DATE REPORTED ACCOUNTING OFFICER | D2: TRANSACTION DETAILS
D3: DATE OF PAYMENT | E3: REFERENCE | F3: SERVICE PROVIDER | G3: AMOUNT | H3: DESCRIPTION OF INCIDENT | I3: PERSON LIABLE (OFFICIAL OR POLITICAL OFFICE BEARER) | J3: TYPE OF PROHIBITED EXPENDITURE | K3: UI | L3: DP | M3: CC | N3: TR | O3: P | P3: WO | Q3: GENERAL COMMENTS
A4: 107 | B4: 12/06/2018 | C4: August 2018 | D4: 12/06/2018 | E4: EF 009421-0001 | F4: LEGAL RESOURCE CENTRE | G4: 270000 | H4: COURT ORDER TO PAY DAMAGES | I4: Not identified yet | J4: Fruitless | K4: X | O4: X | Q4: House @ Egazini demolished without proper negotiations
B7: UI | C7: Irregular expenditure under investigation
B8: DP | C8: Disciplinary process initiated against responsible person
B9: CC | C9: Criminal chargers laid with SAPS
B10: TR | C10: Transferred to receivables for recovery
B11: P | C11: Paid or in process of paying in instalments
B12: WO | C12: Written off

Sheet Recon062017
A1: RECONCILIATION: FRUITLESS & WASTEFULL EXPENDITURE FOR 2016/2017
A2: NO | B2: DATE OF DISCOVERY | C2: DATE REPORTED ACCOUNTING OFFICER | D2: TRANSACTION DETAILS
D3: DATE OF PAYMENT | E3: PAYMENT VOUCHER | F3: SERVICE PROVIDER | G3: AMOUNT | H3: DESCRIPTION OF INCIDENT | I3: PERSON LIABLE (OFFICIAL OR POLITICAL OFFICE BEARER) | J3: TYPE OF PROHIBITED EXPENDITURE | K3: UI | L3: DP | M3: CC | N3: TR | O3: P | P3: WO | Q3: GENERAL COMMENTS
G4: 10998668 | H4: Opening Balance | J4: Wastefull | Q4: From AFS 2015/2016
A5: 1 | B5: 12/07/2016 | D5: July 16 | F5: Eskom | G5: 9597.47 | H5: Interest charged on overdue accounts | I5: Finance | J5: Wastefull | K5: X | O5: X | P5: X | Q5: interest charged on an delayed payment
A6: 2 | B6: 28/07/2016 | D6: July 16 | F6: Telkom | G6: 904.86 | H6: Interest charged on overdue accounts | I6: Finance | J6: Wastefull | K6: X | O6: X | P6: X | Q6: interest charged on an delayed payment
A7: 3 | B7: 06/07/2016 | D7: July 16 | F7: Eskom | G7: 1405.06 | H7: Interest charged on overdue accounts | I7: Finance | J7: Wastefull | K7: X | O7: X | P7: X | Q7: interest charged on an delayed payment
A8: 4 | B8: 28/07/2016 | D8: July 16 | F8: Eskom | G8: 701803.8 | H8: Interest charged on overdue accounts | I8: Finance | J8: Wastefull | K8: X | O8: X | P8: X | Q8: interest charged on an delayed payment
A9: 5 | B9: 31/08/2016 | D9: Sept 16 | F9: Eskom | G9: 61074.92 | H9: Interest charged on overdue accounts | I9: Finance | J9: Wastefull | K9: X | O9: X | Q9: interest charged on an delayed payment
A10: 6 | B10: 12/09/2016 | D10: Sept 16 | F10: Eskom | G10: 225.18 | H10: Interest charged on overdue accounts | I10: Finance | J10: Wastefull | K10: X | O10: X | Q10: interest charged on an delayed payment
A11: 7 | B11: 26/09/2016 | D11: Sept 16 | F11: Telkom | G11: 3424.34 | H11: Interest charged on overdue accounts | I11: Finance | J11: Wastefull | K11: X | O11: X | Q11: interest charged on an delayed payment
A12: 8 | B12: 27/09/2016 | D12: Sept 16 | F12: Eskom | G12: 853924.65 | H12: Interest charged on overdue accounts | I12: Finance | J12: Wastefull | K12: X | O12: X | Q12: interest charged on an delayed payment
A13: 9 | B13: 27/09/2016 | D13: Óct 16 | F13: Telkom | G13: 3295.66 | H13: Interest charged on overdue accounts | I13: Finance | J13: Wastefull | K13: X | O13: X | Q13: interest charged on an delayed payment
A14: 10 | B14: 30/09/2016 | D14: Óct 16 | F14: Eskom | G14: 3472.7 | H14: Interest charged on overdue accounts | I14: Finance | J14: Wastefull | K14: X | O14: X | Q14: interest charged on an delayed payment
A15: 11 | B15: 21/10/2016 | D15: Óct 16 | F15: Eskom | G15: 701552.66 | H15: Interest charged on overdue accounts | I15: Finance | J15: Wastefull | K15: X | O15: X | Q15: interest charged on an delayed payment
A16: 12 | B16: 30/09/2016 | D16: Nov 16 | F16: Auditor-General | G16: 79314.45 | H16: Interest charged on overdue accounts | I16: Finance | J16: Wastefull | K16: X | O16: X | Q16: interest charged on an delayed payment
A17: 13 | B17: 28/10/2016 | D17: Nov 16 | F17: Telkom | G17: 2496.07 | H17: Interest charged on overdue accounts | I17: Finance | J17: Wastefull | K17: X | O17: X | Q17: interest charged on an delayed payment
A18: 16 | B18: 10/10/2016 | D18: Dec 16 | F18: Eskom | G18: 176.61 | H18: Interest charged on overdue accounts | I18: Finance | J18: Wastefull | K18: X | O18: X | Q18: interest charged on an delayed payment
A19: 17 | B19: 10/11/2016 | D19: Dec 16 | F19: Eskom | G19: 335.91 | H19: Interest charged on overdue accounts | I19: Finance | J19: Wastefull | K19: X | O19: X | Q19: interest charged on an delayed payment
A20: 18 | B20: 24/11/2016 | D20: Dec 16 | F20: Eskom | G20: 2774.69 | H20: Interest charged on overdue accounts | I20: Finance | J20: Wastefull | K20: X | O20: X | Q20: interest charged on an delayed payment
... A38: 37 | B38: 30/04/2017 | D38: April 17 | F38: AG RECON 2016 | G38: 172056.69 | H38: Interest charged on overdue accounts | I38: Finance | J38: Wastefull | K38: X | O38: X | Q38: interest charged on an delayed payment
A39: 38 | B39: 31/03/2017 | D39: May 17 | F39: Dept of Water | G39: 1130704.5 | H39: Interest charged on overdue accounts | I39: Finance | J39: Wastefull | K39: X | Q39: interest charged on an delayed payment
A40: 39 | B40: 30/04/2017 | D40: May 17 | F40: Eskom | G40: 3477.2 | H40: Interest charged on overdue accounts | I40: Finance | J40: Wastefull | K40: X | O40: X | Q40: interest charged on an delayed payment
A41: 40 | B41: 30/04/2017 | D41: May 17 | F41: Auditor-General | G41: 99933.44 | H41: Interest charged on overdue accounts | I41: Finance | J41: Wastefull | K41: X | O41: X | Q41: interest charged on an delayed payment
A42: 41 | B42: 24/05/2017 | D42: May 17 | F42: Eskom | G42: 74748.97 | H42: Interest charged on overdue accounts | I42: Finance | J42: Wastefull | K42: X | O42: X | Q42: interest charged on an delayed payment
A43: 42 | B43: 31/05/2017 | D43: June 17 | E43: EF008400-0001 | F43: Eskom | G43: 2071.06 | H43: Interest charged on overdue accounts | I43: Finance | J43: Wastefull | K43: X | O43: X | Q43: interest charged on an delayed payment
A44: 43 | B44: 31/05/2017 | D44: June 17 | F44: Auditor-General | G44: 101673.54 | H44: Interest charged on overdue accounts | I44: Finance | J44: Wastefull | K44: X | Q44: interest charged on an delayed payment
A45: 44 | B45: 31/05/2017 | D45: June 17 | F45: NHLS EC | G45: 4.48 | H45: Interest charged on overdue accounts | I45: Finance | J45: Wastefull | K45: X | Q45: interest charged on an delayed payment
A46: 46 | B46: 26/06/2017 | D46: June 17 | F46: Eskom | G46: 215756.8 | H46: Interest charged on overdue accounts | I46: Finance | J46: Wastefull | K46: X | Q46: interest charged on an delayed payment
A47: 47 | B47: 30/06/2017 | D47: June 17 | F47: Eskom | G47: 159.24 | H47: Interest charged on overdue accounts | I47: Finance | J47: Wastefull | K47: X | Q47: interest charged on an delayed payment
A48: 48 | B48: 30/06/2017 | D48: June 17 | F48: Solstice Networks | G48: 35520 | H48: Interest charged on overdue accounts | I48: Finance | J48: Wastefull | K48: X | Q48: interest charged on an delayed payment
A49: 49 | B49: 30/06/2017 | D49: June 17 | F49: Telkom | G49: 1002.6 | H49: Interest charged on overdue accounts | I49: Finance | J49: Wastefull | K49: X | Q49: interest charged on an delayed payment
F50: Total | G50: =SUM(G4:G49) -> 17069786
F51: GL | G51: 8842666.2
F52: Difference | G52: =G50-G51 -> 8227119.3
G53: =G23 -> 3791.93
G54: =G19 -> 335.91
E56: GL Total | G56: =[2]June17!L65 -> 5540985.6
E57: Difference | G57: =G50-G56 -> 11528800
G58: =G4 -> 10998668 | H58: Opening Balance as per AFS 15/16
...

Sheet COMBINEDnov25
A1: ANNEXURE 2 - FRUITLESS & WASTEFULL EXPENDITURE FOR 2018/2021/2022/2023/2024/2025/2026/2027
A2: NO | B2: DATE OF DISCOVERY | C2: DATE REPORTED ACCOUNTING OFFICER | D2: TRANSACTION DETAILS
D3: DATE OF PAYMENT | E3: REFERENCE | F3: SERVICE PROVIDER | G3: AMOUNT | H3: DESCRIPTION OF INCIDENT | I3: PERSON LIABLE (OFFICIAL OR POLITICAL OFFICE BEARER) | J3: TYPE OF PROHIBITED EXPENDITURE | K3: UI | L3: DP | M3: CC | N3: TR | O3: P | P3: WO | Q3: GENERAL COMMENTS
A4: 107 | B4: 12/06/2018 | C4: August 2018 | D4: 12/06/2018 | E4: EF 009421-0001 | F4: LEGAL RESOURCE CENTRE | G4: 270000 | H4: COURT ORDER TO PAY DAMAGES | I4: Not identified yet | J4: Fruitless | K4: X | O4: X | Q4: House @ Egazini demolished without proper negotiations
F5: 2017/2018 | G5: =G4 -> 270000
A6: 244 | B6: 30/04/2021 | C6: July 2021 | E6: 'APR 2021 INT. | F6: DEPARTMENT OF WATER AFFAIRS | G6: 222737.09 | H6: INTEREST | I6: FINANCE | J6: WASTEFULL | K6: x | P6: x | Q6: interest charged on an delayed payment
A7: 245 | B7: 03/05/2021 | C7: July 2021 | E7: 'APRIL 2021 INT. | F7: ESKOM BULK ACCOUNT | G7: 20443.04 | H7: INTEREST | I7: FINANCE | J7: WASTEFULL | K7: x | P7: x | Q7: interest charged on an delayed payment
A8: 246 | B8: 31/05/2021 | C8: July 2021 | E8: 'MAY 2021 INT. | F8: AMATOLA WATER-AMANZI | G8: 56776.52 | H8: INTEREST | I8: FINANCE | J8: WASTEFULL | K8: x | P8: x | Q8: interest charged on an delayed payment
A9: 247 | B9: 31/05/2021 | C9: July 2021 | E9: 'MAY 2021 INT. | F9: DEPARTMENT OF WATER AFFAIRS | G9: 225756.13 | H9: INTEREST | I9: FINANCE | J9: WASTEFULL | K9: x | P9: x | Q9: interest charged on an delayed payment
A10: 248 | B10: 31/05/2021 | C10: July 2021 | E10: 'MAY 2021 INT. | F10: CRASH TOWING AND RECOVERY | G10: 143.75 | H10: INTEREST | I10: FINANCE | J10: WASTEFULL | K10: x | P10: x | Q10: interest charged on an delayed payment
A11: 249 | B11: 01/06/2021 | C11: July 2021 | E11: 'MAY 2021 INT. | F11: ESKOM BULK ACCOUNT BULK ACC | G11: 23546.77 | H11: INTEREST | I11: FINANCE | J11: WASTEFULL | K11: x | P11: x | Q11: interest charged on an delayed payment
A12: 250 | B12: 18/06/2021 | C12: July 2021 | D12: 18/06/2021 | E12: 'EF012659-0002 | F12: 'ESKOM FREE BASIC ELECTRICITY | G12: 270.52 | H12: INTEREST | I12: FINANCE | J12: WASTEFULL | K12: x | O12: x | P12: x | Q12: interest charged on an delayed payment
A13: 251 | B13: 30/06/2021 | C13: July 2021 | E13: 'JUNE 2021 INT. | F13: CRASH TOWING AND RECOVERY | G13: 147.34 | H13: INTEREST | I13: FINANCE | J13: WASTEFULL | K13: x | P13: x | Q13: interest charged on an delayed payment
A14: 252 | B14: 30/06/2021 | C14: July 2021 | E14: 'JUNE 2021 INT. | F14: ESKOM BULK ACCOUNT BULK ACC | G14: 287.32 | H14: INTEREST | I14: FINANCE | J14: WASTEFULL | K14: x | P14: x | Q14: interest charged on an delayed payment
A15: 253 | B15: 29/07/2021 | C15: August | D15: 29/07/2021 | E15: 'EF012699-0001 | F15: 'ESKOM SMALL ACCOUNTS | G15: 144.32 | H15: INTEREST | I15: FINANCE | J15: WASTEFULL | K15: x | O15: x | P15: x | Q15: interest charged on an delayed payment
A16: 254 | B16: 09/07/2021 | C16: August | E16: '000001708 | F16: 'AUDITOR-GENERAL | G16: 3724.16 | H16: INTEREST | I16: FINANCE | J16: WASTEFULL | K16: x | O16: x | P16: x | Q16: interest charged on an delayed payment
A17: 255 | B17: 09/07/2021 | C17: August | E17: '000001711 | F17: 'AMATOLA WATER JUNE 2021 | G17: 54945.03 | H17: INTEREST | I17: FINANCE | J17: WASTEFULL | K17: x | P17: x | Q17: interest charged on an delayed payment
A18: 256 | B18: 09/07/2021 | C18: August | E18: '000001711 | F18: 'INTEREST REVERSED DEC 20 | G18: -184633.78 | H18: INTEREST REVERSED | I18: FINANCE | J18: WASTEFULL | K18: x | P18: x | Q18: interest charged on an delayed payment reversed
A19: 257 | B19: 09/07/2021 | C19: August | E19: '000001702 | F19: 'DWAF INTEREST JUNE 2021 | G19: 228598.95 | H19: INTEREST | I19: FINANCE | J19: WASTEFULL | P19: x | Q19: interest charged on an delayed payment
A20: 258 | B20: 09/07/2021 | C20: August | E20: '000001713 | F20: 'BATE CHUBB & ASSOCIATES | G20: 19550 | H20: INTEREST | I20: FINANCE | J20: WASTEFULL | K20: x | O20: x | P20: x | Q20: interest charged on an delayed payment
A21: 259 | B21: 31/07/2021 | C21: September | E21: 'JULY 2021 INT. | F21: 'DEPARTMENT OF WATER AFFAIRS | G21: 232031.85 | H21: INTEREST | I21: FINANCE | J21: WASTEFULL | K21: x | P21: x | Q21: interest charged on an delayed payment
A22: 260 | B22: 25/08/2021 | C22: September | D22: 25/08/2021 | E22: 'EF012761-0001 | F22: 'ESKOM SMALL ACCOUNTS | G22: 126.35 | H22: INTEREST | I22: FINANCE | J22: WASTEFULL | K22: x | O22: x | P22: x | Q22: interest charged on an delayed payment
A23: 261 | B23: 26/08/2021 | C23: September | D23: 26/08/2021 | E23: 'EF012775-0001 | F23: 'ESKOM FBE | G23: 1758.37 | H23: INTEREST July Account | I23: FINANCE | J23: WASTEFULL | K23: x | O23: x | P23: x | Q23: interest charged on an delayed payment
A24: 262 | B24: 04/11/2021 | C24: December | D24: 04/11/2021 | E24: 'EF012918-0001 | F24: 'ESKOM FBE | G24: 136.29 | H24: INTEREST October Account | I24: FINANCE | J24: WASTEFULL | K24: x | O24: x | P24: x | Q24: interest charged on an delayed payment
A25: 263 | B25: 02/12/2021 | C25: December | D25: 02/12/2021 | E25: 'EF012938-0001 | F25: 'WHEELDON RUSHMERE & COLE | G25: 7202.37 | H25: INTEREST | I25: FINANCE | J25: WASTEFULL | K25: x | O25: x | P25: x | Q25: interest charged on an delayed payment
A26: 264 | B26: 02/12/2021 | C26: December | D26: 02/12/2021 | E26: 'EF012997-0001 | F26: 'X NGQOYIYA STIPEND | G26: 2200 | H26: STIPEND PAID TO INCORRECT ACCOUNT | I26: FINANCE | J26: WASTEFULL | K26: x | O26: x
A27: 265 | B27: 02/12/2021 | C27: December | D27: 02/12/2021 | E27: 'EF013001-0001 | F27: 'ESKOM SMALL ACCOUNTS | G27: 481.9 | H27: INTEREST | I27: FINANCE | J27: WASTEFULL | K27: x | O27: x | P27: x | Q27: interest charged on an delayed payment
A28: 266 | B28: 02/12/2021 | C28: December | D28: 02/12/2021 | E28: 'EF013001-0003 | F28: 'ESKOM SMALL ACCOUNTS | G28: 726.59 | H28: INTEREST | I28: FINANCE | J28: WASTEFULL | K28: x | O28: x | P28: x | Q28: interest charged on an delayed payment
A29: 267 | B29: 02/12/2021 | C29: December | D29: 02/12/2021 | E29: 'EF013001-0004 | F29: 'ESKOM FBE ACCOUNT | G29: 136.29 | H29: INTEREST | I29: FINANCE | J29: WASTEFULL | K29: x | O29: x | P29: x | Q29: interest charged on an delayed payment
A30: 268 | B30: 03/12/2021 | C30: December | D30: 03/12/2021 | E30: 'EF013017-0001 | F30: 'GOODHOPE CYCLE & KEYS SERVICE | G30: 250 | H30: TENDER BOX LOCK OPENED | I30: SCM | J30: WASTEFULL | K30: x | O30: x | P30: x | Q30: Locksmith had to unlock Tender Box as SCM staff on leave with key
A31: 269 | B31: 05/01/2022 | C31: January | D31: 05/01/2022 | E31: 'EF013040-0001 | F31: ESKOM | G31: -153285.74 | H31: INTEREST REVERSED | I31: FINANCE | J31: WASTEFULL | K31: x | O31: x | P31: x | Q31: Interest charged on an delayed payment reversed
A32: 270 | B32: 31/01/2022 | C32: March | D32: 31/01/2022 | E32: 'EF013050-0002 | F32: ESKOM FBE ACCOUNT | G32: 1090.15 | H32: INTEREST | I32: FINANCE | J32: WASTEFULL | K32: x | O32: x | P32: x | Q32: Interest charged on an delayed payment
A33: 271 | B33: 31/01/2022 | C33: March | D33: 31/01/2022 | E33: 'EF013071-0001 | F33: ESKOM SMALL ACCOUNTS | G33: 706.33 | H33: INTEREST | I33: FINANCE | J33: WASTEFULL | K33: x | O33: x | P33: x | Q33: Interest charged on an delayed payment
A34: 272 | B34: 31/01/2022 | C34: March | D34: 31/01/2022 | E34: 'EF013071-0002 | F34: ESKOM SMALL ACCOUNTS | G34: 515.52 | H34: INTEREST | I34: FINANCE | J34: WASTEFULL | K34: x | O34: x | P34: x | Q34: Interest charged on an delayed payment
A35: 273 | B35: 28/02/2022 | C35: March | D35: 28/02/2022 | E35: 'EF013153-0008 | F35: SALA PENSION FUND | G35: 8390.78 | H35: INTEREST | I35: FINANCE | J35: WASTEFULL | K35: x | O35: x | P35: x | Q35: Interest charged on an delayed payment
A36: 274 | B36: 28/02/2022 | C36: March | D36: 28/02/2022 | E36: 'EF013153-0009 | F36: SALA PENSION FUND | G36: 2832.78 | H36: INTEREST | I36: FINANCE | J36: WASTEFULL | K36: x | O36: x | P36: x | Q36: Interest charged on an delayed payment
A37: 275 | B37: 07/03/2022 | C37: April | D37: 07/03/2022 | E37: 'EF013157-0006 | F37: 'TELKOM SA LTD | G37: 3046.52 | H37: INTEREST | I37: FINANCE | J37: WASTEFULL | K37: x | O37: x | P37: x | Q37: Interest charged on an delayed payment
A38: 276 | B38: 07/03/2022 | C38: April | D38: 07/03/2022 | E38: 'EF013157-0002 | F38: 'ESKOM SMALL ACCOUNT | G38: 236.69 | H38: INTEREST | I38: FINANCE | J38: WASTEFULL | K38: x | O38: x | P38: x | Q38: Interest charged on an delayed payment
... A41: 279 | B41: 14/03/2022 | C41: April | D41: 14/03/2022 | E41: 'EF013158-0033 | F41: 'ESKOM FBE ACCOUNT | G41: 4900.68 | H41: INTEREST | I41: FINANCE | J41: WASTEFULL | K41: x | O41: x | P41: x | Q41: Interest charged on an delayed payment
A42: 280 | B42: 29/04/2022 | C42: June | E42: TO001322 | F42: 'ESKOM SMALL ACCOUNTS | G42: 0.02 | H42: INTEREST | I42: FINANCE | J42: WASTEFULL | K42: x | P42: x | Q42: Interest charged on an delayed payment
...

Sheet Nov 2025
A1: Fin Year: | B1: 2026
A3: From Fiscal: | C3: To Fiscal:
A5: Item: | B5: Expenditure:Interest | C5: Dividends and Rent on Land:Interest Paid:Overdue Accounts
A6: Function: | B6: Function:Finance and Administration:Core Function:Finance:Finance (204)
A7: Project: | B7: Operational:Municipal Running Cost
A8: Costing: | B8: Costing:Default
A9: Funding: | B9: Fund:Operational:Revenue:General Revenue:Taxes:Property Rates:Levies
A10: Regional: | B10: Regional:Regional Identifier:Local Government by Province:Eastern Cape:District Municipalities:DC10 Sarah Baartman:Municipalities:EC104 Makana:Whole of the Municipality
A11: Segment: | B11: Interest on Overdue accounts
A13: Opening for YEAR (2026): | D13: Closing for YEAR (2026): | E13: 790780.93
A15: Fiscal | B15: Trans Date | C15: Journal No | D15: Remarks | E15: Source Code | F15: PayDocNo | G15: Amount | H15: Costing Code | I15: Kilometer | J15: Fuel Litre | K15: OPR | L15: Name | M15: PostQcdePREFIX | N15: PostQcdeCODE | O15: InterfaceNo | P15: Cbk InterfaceNo | Q15: VatRate | R15: Document Reference Number | S15: Module | T15: Accrual Order Number | U15: Credi
A16: 45839 | B16: 22/07/2025 | C16: '883618855184. | D16: 'ESKOM SMALL ACCOUNTS interest | E16: CRS | F16: ' | G16: 105.01 | O16: 2073 | R16: ' | S16: STDEXP | T16: ' | U16: '
A17: 45870 | B17: 11/8/2025 | C17: '612818150124. | D17: 'ESKOM SMALL ACCOUNTS interest | E17: CRS | F17: 'EF013930-0002 | G17: 1942.13 | O17: 2116 | R17: ' | S17: STDEXP | T17: ' | U17: '
A18: 45870 | B18: 12/8/2025 | C18: '649689274890. | D18: 'ESKOM SMALL ACCOUNTS interest | E18: CRS | F18: 'EF013930-0002 | G18: 28.18 | O18: 2116 | R18: ' | S18: STDEXP | T18: ' | U18: '
