Workbook
Name DATAFILESPREVIEW0105: 'OVERTIME APRIL CO 01'!$A$1:$A$692
Name DATAFILESPREVIEW0105: 'OVERTIME CO 01 FEB 2018'!$A$1:$Q$674
Name DATAFILESPREVIEW0105: 'OVERTIME MARCH 2018 CO 01'!$A$1:$A$633
Name DATAFILESPREVIEW0105: 'OVERTIME MAY 2018 CO 01'!$A$1:$Q$787
Name DATAFILESPREVIEW0112: Aug22CO1!$A$1:$A$613
Name DATAFILESPREVIEW0112: 'Nov22'!$A$1:$A$615
Name DATAFILESPREVIEW0141: 'Apr1'!$A$1:$A$755
Name DATAFILESPREVIEW0141: 'CO,01march'!$A$1:$A$657
Name DATAFILESPREVIEW0141: 'May1'!$A$1:$A$806
Name DATAFILESPREVIEW0141: 'OVERTIME JAN 24'!$A$1:$A$617
Name DATAFILESPREVIEW2205: 'OVERTIME JUNE 2018 CO 01'!$A$1:$Q$720
Name DATAFILESPREVIEWFX41: 'overtime Feb24'!$A$1:$A$678
Name DATAFILESPREVIEWHA41: June24!$A$1:$A$745
Name DATAFILESPREVIEWR605: 'JAN 2018 OVERTIME CO 01'!$A$1:$A$641
Name desc: '[1]Template names'!$B$30
Name Head1: '[1]Template names'!$B$2
Name Head10: '[1]Template names'!$B$16
Name Head11: '[1]Template names'!$B$17
Name head1A: '[1]Template names'!$B$3
Name head1b: '[1]Template names'!$B$4
Name Head2: '[1]Template names'!$B$5
Name head27: '[1]Template names'!$B$33
Name head27a: '[2]Template names'!$B$34
Name Head3: '[1]Template names'!$B$7
Name Head5: '[2]Template names'!$B$9
Name Head5A: '[1]Template names'!$B$10
Name Head6: '[1]Template names'!$B$12
Name Head7: '[1]Template names'!$B$13
Name Head8: '[1]Template names'!$B$14
Name Head9: '[1]Template names'!$B$15
Name muni: '[1]Template names'!$B$93
Name PREVIEWHI41: STAFFjuly24!$A$1:$A$700
Name TableA24: '[1]Template names'!$B$136
Name TableA4: '[2]Template names'!$B$114
Name TableA5: '[2]Template names'!$B$115
Name TableA6: '[2]Template names'!$B$116
Name TableA7: '[2]Template names'!$B$117

Sheet Budget
DK2: OVERTIME REPORT AS OF 30 SEPTEMBER 2026 | DP2: ANNEXURE 1
B6: YTD AMOUNT SPENT | D6: NORMAL OVERTIME | E6: SHIFT HOURS | F6: NORMAL OVERTIME | G6: SHIFT HOURS | H6: NORMAL OVERTIME | I6: SHIFT HOURS | J6: NORMAL OVERTIME | K6: SHIFT HOURS | L6: NORMAL OVERTIME | M6: SHIFT HOURS | N6: NORMAL OVERTIME | O6: SHIFT HOURS | P6: NORMAL OVERTIME | Q6: SHIFT HOURS | R6: NORMAL OVERTIME | S6: SHIFT HOURS | T6: NORMAL OVERTIME | U6: SHIFT HOURS | V6: NORMAL OVERTIME | W6: SHIFT HOURS | X6: NORMAL OVERTIME | Y6: SHIFT HOURS | Z6: NORMAL OVERTIME | AA6: SHIFT HOURS | AB6: NORMAL OVERTIME | AC6: SHIFT HOURS | AD6: NORMAL OVERTIME | AE6: SHIFT HOURS | AF6: NORMAL OVERTIME | AG6: SHIFT HOURS | AH6: YTD AMOUNT SPENT | AI6: NORMAL OVERTIME | AJ6: SHIFT HOURS | AK6: NORMAL OVERTIME | AL6: SHIFT HOURS | AM6: NORMAL OVERTIME | AN6: SHIFT HOURS | AO6: NORMAL OVERTIME | AP6: SHIFT HOURS | AQ6: NORMAL OVERTIME | AR6: SHIFT HOURS | AS6: NORMAL OVERTIME | AT6: SHIFT HOURS | AU6: NORMAL OVERTIME | AV6: SHIFT HOURS | AW6: NORMAL OVERTIME | AX6: SHIFT HOURS | AY6: NORMAL OVERTIME | AZ6: SHIFT HOURS | BA6: NORMAL OVERTIME | BB6: SHIFT HOURS | BC6: NORMAL OVERTIME | BD6: SHIFT HOURS | BE6: NORMAL OVERTIME | BF6: SHIFT HOURS | BG6: YTD AMOUNT SPENT | BI6: NORMAL OVERTIME | BJ6: SHIFT HOURS | BK6: NORMAL OVERTIME | BL6: SHIFT HOURS | BM6: NORMAL OVERTIME | BN6: SHIFT HOURS | BO6: SHIFT HOURS | BP6: NORMAL OVERTIME | BQ6: SHIFT HOURS | BR6: NORMAL OVERTIME | BS6: SHIFT HOURS | BT6: NORMAL OVERTIME | BU6: SHIFT HOURS | BV6: NORMAL OVERTIME | BW6: SHIFT HOURS | BX6: NORMAL OVERTIME | BY6: SHIFT HOURS | BZ6: NORMAL OVERTIME | CA6: SHIFT HOURS | CB6: NORMAL OVERTIME | CC6: SHIFT HOURS | CD6: NORMAL OVERTIME | CE6: SHIFT HOURS | CF6: YTD AMOUNT SPENT | CH6: NORMAL OVERTIME | CI6: SHIFT HOURS | CJ6: NORMAL OVERTIME | CK6: SHIFT HOURS | CL6: NORMAL OVERTIME | CM6: SHIFT HOURS | CN6: NORMAL OVERTIME | CO6: SHIFT HOURS | CP6: NORMAL OVERTIME | CQ6: SHIFT HOURS | CR6: NORMAL OVERTIME | CS6: SHIFT HOURS | CT6: NORMAL OVERTIME | CU6: SHIFT HOURS | CV6: NORMAL OVERTIME | CW6: SHIFT HOURS | CX6: NORMAL OVERTIME | CY6: SHIFT HOURS | CZ6: NORMAL OVERTIME | DA6: SHIFT HOURS | DB6: NORMAL OVERTIME | DC6: SHIFT HOURS | DD6: NORMAL OVERTIME | DE6: SHIFT HOURS | DF6: YTD AMOUNT SPENT | DH6: NORMAL OVERTIME | DI6: SHIFT HOURS | DJ6: Perc Per Dept | DK6: NORMAL OVERTIME | DL6: SHIFT HOURS | DM6: Perc Per Dept | DN6: NORMAL OVERTIME | DO6: SHIFT HOURS | DP6: Perc Per Dept | DQ6: NORMAL OVERTIME | DR6: SHIFT HOURS | DS6: NORMAL OVERTIME | DT6: SHIFT HOURS | DU6: NORMAL OVERTIME | DV6: SHIFT HOURS | DW6: NORMAL OVERTIME | DX6: SHIFT HOURS | DY6: NORMAL OVERTIME | DZ6: SHIFT HOURS | EA6: NORMAL OVERTIME | EB6: SHIFT HOURS | EC6: NORMAL OVERTIME | ED6: SHIFT HOURS | EE6: NORMAL OVERTIME | EF6: SHIFT HOURS | EG6: NORMAL OVERTIME | EH6: SHIFT HOURS | EI6: YTD AMOUNT SPENT
A7: DEPARTMENT | B7: 21/22 | D7: 44764 | E7: 44764 | F7: 44795 | G7: 44795 | H7: 44826 | I7: 44826 | J7: Quarter 1 | K7: Quarter 1 | L7: 44856 | M7: 44856 | N7: 44887 | O7: 44887 | P7: 44917 | Q7: 44917 | R7: Quarter 2 | S7: Quarter 2 | T7: 44949 | U7: 44949 | V7: 44980 | W7: 44980 | X7: 45008 | Y7: 45008 | Z7: Quarter 3 | AA7: Quarter 3 | AB7: 45039 | AC7: 45039 | AD7: 45069 | AE7: 45069 | AF7: 45100 | AG7: 45100 | AH7: 22/23 | AI7: 45130 | AJ7: 45130 | AK7: 45161 | AL7: 45161 | AM7: 45192 | AN7: 45192 | AO7: 45222 | AP7: 45222 | AQ7: 45253 | AR7: 45253 | AS7: 45283 | AT7: 45283 | AU7: 45315 | AV7: 45315 | AW7: 45346 | AX7: 45346 | AY7: 45375 | AZ7: 45375 | BA7: 45406 | BB7: 45406 | BC7: 45436 | BD7: 45436 | BE7: 45467 | BF7: 45467 | BG7: 23/24 | BI7: JULY 24 | BJ7: JULY 24 | BK7: AUG 24 | BL7: AUG 24 | BM7: SEPT 24 | BN7: SEPT 24 | BO7: OCT 24 | BP7: NOV 24 | BQ7: NOV 24 | BR7: DEC 24 | BS7: DEC 24 | BT7: JAN 25 | BU7: JAN 25 | BV7: FEB 25 | BW7: FEB 25 | BX7: MARCH 25 | BY7: MARCH 25 | BZ7: APRIL 25 | CA7: APRIL 25 | CB7: MAY 25 | CC7: MAY 25 | CD7: JUNE 25 | CE7: JUNE 25 | CF7: 24/25 | CH7: JULY 25 | CI7: JULY 25 | CJ7: AUGUST 25 | CK7: AUGUST 25 | CL7: SEPT 25 | CM7: SEPT 25 | CN7: OCT 25 | CO7: OCT 25 | CP7: NOV 25 | CQ7: NOV 25 | CR7: DEC 25 | CS7: DEC 25 | CT7: JAN 26 | CU7: JAN 26 | CV7: FEB 26 | CW7: FEB 26 | CX7: MAR 26 | CY7: MAR 26 | CZ7: APR 26 | DA7: APR 26 | DB7: MAY 26 | DC7: MAY 26 | DD7: JUNE 26 | DE7: JUNE 26 | DF7: 25/26 | DH7: JULY 26 | DI7: JULY 26 | DJ7: % | DK7: AUGUST 26 | DL7: AUGUST 26 | DM7: % | DN7: SEPT 26 | DO7: SEPT 26 | DP7: % | DQ7: OCT 26 | DR7: OCT 26 | DS7: NOV 26 | DT7: NOV 26 | DU7: DEC 26 | DV7: DEC 26 | DW7: JAN 27 | DX7: JAN 27 | DY7: FEB 27 | DZ7: FEB 27 | EA7: MAR 27 | EB7: MAR 27 | EC7: APR 27 | ED7: APR 27 | EE7: MAY 27 | EF7: MAY 27 | EG7: JUNE 27 | EH7: JUNE 27 | EI7: 26/27
A8: TECHNICAL ADMIN | B8: 40506.57 | D8: 2380.68 | F8: 4661.78 | H8: 4248.24 | J8: =D8+F8+H8 -> 11290.7 | K8: =E8+G8+I8 -> 0 | L8: 5225.71 | N8: 7255.98 | P8: 7067.86 | R8: =L8+N8+P8 -> 19549.55 | S8: =M8+O8+Q8 -> 0 | T8: 5225.71 | V8: 4782.96 | X8: 4323.43 | Z8: =T8+V8+X8 -> 14332.1 | AA8: =U8+W8+Y8 -> 0 | AB8: 5000.14 | AD8: 5263.3 | AF8: =12082.53+4285.83 -> 16368.36 | AH8: =D8+E8+F8+G8+H8+I8+L8+M8+N8+O8+P8+Q8+T8+U8+V8+W8+X8+Y8+AB8+AC8+AD8+AE8+AF8+AG8 -> 71804.15 | AI8: =4736.97+15130.7 -> 19867.67 | AK8: =5200.64+9695.41 -> 14896.05 | AM8: 5642.01 | AO8: 5357.88 | AQ8: 5357.88 | AS8: 5357.88 | AU8: =12461.13-AV8 -> 11324.61 | AV8: 1136.52 | AW8: =26320.68+5114.34 -> 31435.02 | AY8: =5236.11+1734.08 -> 6970.19 | BA8: 5733.09 | BC8: =7027.36+4006.7 -> 11034.06 | BE8: 9448.2 | BG8: =AI8+AJ8+AK8+AL8+AM8+AN8+AO8+AP8+AQ8+AR8+AS8+AT8+AU8+AV8+AW8+AX8+AY8+AZ8+BA8+BB8+BC8+BD8+BE8+BF8 -> 133561.06 | BI8: =6286.04+4870.8 -> 11156.84 | BK8: 3325.2 | BO8: 1497.54 | BP8: 6037.47 | BT8: 6083.44 | BX8: 5622.55 | BZ8: =6492.5+5622.55 -> 12115.05 | CB8: 6233.99 | CD8: =5339.4+5554.71 -> 10894.11 | CF8: =SUM(BI8:CE8) -> 62966.19 | CH8: 8434.23 | CL8: 8890.11 | CN8: 7622.94 | CP8: 14471.04 | CR8: 7300.37 | CT8: =1991.01+3982.02 -> 5973.03 | CV8: 4645.69 | CX8: 4645.69 | CZ8: 11060.01 | DB8: 4930.12 | DC8: 1991.01 | DD8: =[3]Sheet1!$D$11+[3]Sheet1!$F$11 -> 7146.61 | DF8: =CJ8+CK8+CL8+CM8+CN8+CO8+CP8+CQ8+CR8+CS8+CT8+CU8+CV8+CW8+CX8+CY8+CZ8+DA8+DB8+DC8+DD8+DE8+CI8+CH8 -> 87110.85 | DH8: 0 | DI8: 0 | DJ8: =(DH8+DI8)/$DH$69 -> 0 | DK8: 8845.44 | DM8: =(DK8+DL8)/$DK$69 -> 0.014330254 | DN8: 10340.21 | DP8: =(DN8+DO8)/$DN$69 -> 0.013854967 | EI8: =DK8+DL8+DN8+DO8+DQ8+DR8+DS8+DT8+DU8+DV8+DW8+DX8+DY8+DZ8+EA8+EB8+EC8+ED8+EE8+EF8+EG8+EH8+DI8+DH8 -> 19185.65
A9: MASONS/CARPENTERS | B9: 0 | J9: =D9+F9+H9 -> 0 | K9: =E9+G9+I9 -> 0 | R9: =L9+N9+P9 -> 0 | S9: =M9+O9+Q9 -> 0 | Z9: =T9+V9+X9 -> 0 | AA9: =U9+W9+Y9 -> 0 | AH9: =D9+E9+F9+G9+H9+I9+L9+M9+N9+O9+P9+Q9+T9+U9+V9+W9+X9+Y9+AB9+AC9+AD9+AE9+AF9+AG9 -> 0 | BA9: 3754.39 | BG9: =AI9+AJ9+AK9+AL9+AM9+AN9+AO9+AP9+AQ9+AR9+AS9+AT9+AU9+AV9+AW9+AX9+AY9+AZ9+BA9+BB9+BC9+BD9+BE9+BF9 -> 3754.39 | CF9: =SUM(BI9:CE9) -> 0 | DF9: =CJ9+CK9+CL9+CM9+CN9+CO9+CP9+CQ9+CR9+CS9+CT9+CU9+CV9+CW9+CX9+CY9+CZ9+DA9+DB9+DC9+DD9+DE9+CI9+CH9 -> 0 | DJ9: =(DH9+DI9)/$DH$69 -> 0 | DM9: =(DK9+DL9)/$DK$69 -> 0 | DP9: =(DN9+DO9)/$DN$69 -> 0 | EI9: =DK9+DL9+DN9+DO9+DQ9+DR9+DS9+DT9+DU9+DV9+DW9+DX9+DY9+DZ9+EA9+EB9+EC9+ED9+EE9+EF9+EG9+EH9+DI9+DH9 -> 0
A10: ENG DISTR PLANT | B10: 85430.38 | D10: 5171.79 | F10: 881.41 | H10: 4717.2 | J10: =D10+F10+H10 -> 10770.4 | K10: =E10+G10+I10 -> 0 | L10: 6243.25 | N10: 4056.15 | P10: 4166.33 | R10: =L10+N10+P10 -> 14465.73 | S10: =M10+O10+Q10 -> 0 | T10: 449.87 | V10: 3525.6 | X10: 4774.25 | Z10: =T10+V10+X10 -> 8749.72 | AA10: =U10+W10+Y10 -> 0 | AB10: 1652.63 | AD10: 9879.04 | AF10: 771.23 | AH10: =D10+E10+F10+G10+H10+I10+L10+M10+N10+O10+P10+Q10+T10+U10+V10+W10+X10+Y10+AB10+AC10+AD10+AE10+AF10+AG10 -> 46288.75 | AI10: 8263.13 | AK10: 8631.22 | AM10: 7121.72 | AO10: 7053.01 | AQ10: 9211.8 | AS10: 5147.77 | AU10: =15907.76-AV10 -> 14204.74 | AV10: 1703.02 | AW10: 7083.02 | AY10: 9143.08 | BC10: 6365.03 | BE10: 5225.18 | BG10: =AI10+AJ10+AK10+AL10+AM10+AN10+AO10+AP10+AQ10+AR10+AS10+AT10+AU10+AV10+AW10+AX10+AY10+AZ10+BA10+BB10+BC10+BD10+BE10+BF10 -> 89152.72 | BI10: 7044.31 | BO10: 697.26 | BR10: 2961.88 | CF10: =SUM(BI10:CE10) -> 10703.45 | CH10: 2771.21 | CJ10: 2457.27 | DB10: 1034.64 | DC10: 1293.3 | DD10: =[3]Sheet1!$D$15+[3]Sheet1!$F$15 -> 2759.04 | DF10: =CJ10+CK10+CL10+CM10+CN10+CO10+CP10+CQ10+CR10+CS10+CT10+CU10+CV10+CW10+CX10+CY10+CZ10+DA10+DB10+DC10+DD10+DE10+CI10+CH10 -> 10315.46 | DH10: 0 | DJ10: =(DH10+DI10)/$DH$69 -> 0 | DK10: 4922.44 | DM10: =(DK10+DL10)/$DK$69 -> 0.0079747096 | DP10: =(DN10+DO10)/$DN$69 -> 0 | EI10: =DK10+DL10+DN10+DO10+DQ10+DR10+DS10+DT10+DU10+DV10+DW10+DX10+DY10+DZ10+EA10+EB10+EC10+ED10+EE10+EF10+EG10+EH10+DI10+DH10 -> 4922.44
A11: ENG DISTR TRANSPORT | B11: 81797.74 | D11: 3564.69 | F11: 2431.43 | H11: 2489.77 | J11: =D11+F11+H11 -> 8485.89 | K11: =E11+G11+I11 -> 0 | L11: 3814 | N11: 3957.03 | R11: =L11+N11+P11 -> 7771.03 | S11: =M11+O11+Q11 -> 0 | Z11: =T11+V11+X11 -> 0 | AA11: =U11+W11+Y11 -> 0 | AH11: =D11+E11+F11+G11+H11+I11+L11+M11+N11+O11+P11+Q11+T11+U11+V11+W11+X11+Y11+AB11+AC11+AD11+AE11+AF11+AG11 -> 16256.92 | AI11: 4964.11 | AK11: 1456.79 | AM11: 3770.75 | AO11: 1510.74 | BG11: =AI11+AJ11+AK11+AL11+AM11+AN11+AO11+AP11+AQ11+AR11+AS11+AT11+AU11+AV11+AW11+AX11+AY11+AZ11+BA11+BB11+BC11+BD11+BE11+BF11 -> 11702.39 | CF11: =SUM(BI11:CE11) -> 0 | CV11: 1243.52 | DF11: =CJ11+CK11+CL11+CM11+CN11+CO11+CP11+CQ11+CR11+CS11+CT11+CU11+CV11+CW11+CX11+CY11+CZ11+DA11+DB11+DC11+DD11+DE11+CI11+CH11 -> 1243.52 | DJ11: =(DH11+DI11)/$DH$69 -> 0 | DM11: =(DK11+DL11)/$DK$69 -> 0 | DN11: 10702.92 | DP11: =(DN11+DO11)/$DN$69 -> 0.014340966 | EI11: =DK11+DL11+DN11+DO11+DQ11+DR11+DS11+DT11+DU11+DV11+DW11+DX11+DY11+DZ11+EA11+EB11+EC11+ED11+EE11+EF11+EG11+EH11+DI11+DH11 -> 10702.92
A12: WORKSHOPS | B12: 82239.28 | F12: 776.26 | H12: 5427.55 | J12: =D12+F12+H12 -> 6203.81 | K12: =E12+G12+I12 -> 0 | L12: 3522.86 | N12: 1729.53 | P12: 6129.63 | R12: =L12+N12+P12 -> 11382.02 | S12: =M12+O12+Q12 -> 0 | T12: 4325.71 | V12: 4132.22 | X12: 1784.66 | Z12: =T12+V12+X12 -> 10242.59 | AA12: =U12+W12+Y12 -> 0 | AB12: 121.14 | AD12: 1816 | AF12: 3391.68 | AH12: =D12+E12+F12+G12+H12+I12+L12+M12+N12+O12+P12+Q12+T12+U12+V12+W12+X12+Y12+AB12+AC12+AD12+AE12+AF12+AG12 -> 33157.24 | AI12: 33348.95 | AK12: 2014.05 | AO12: 2252.74 | AQ12: 1839.31 | AS12: 2963.8 | AU12: =4755.03-AV12 -> 3852.99 | AV12: 902.04 | AW12: 3303.89 | AY12: 3223 | BA12: 3091.71 | BC12: 4129.28 | BE12: 1335.11 | BG12: =AI12+AJ12+AK12+AL12+AM12+AN12+AO12+AP12+AQ12+AR12+AS12+AT12+AU12+AV12+AW12+AX12+AY12+AZ12+BA12+BB12+BC12+BD12+BE12+BF12 -> 62256.87 | BI12: 1447.04 | BK12: 37.56 | BR12: 2111.26 | CF12: =SUM(BI12:CE12) -> 3595.86 | DD12: 228.53 | DF12: =CJ12+CK12+CL12+CM12+CN12+CO12+CP12+CQ12+CR12+CS12+CT12+CU12+CV12+CW12+CX12+CY12+CZ12+DA12+DB12+DC12+DD12+DE12+CI12+CH12 -> 228.53 | DH12: 0 | DJ12: =(DH12+DI12)/$DH$69 -> 0 | DM12: =(DK12+DL12)/$DK$69 -> 0 | DP12: =(DN12+DO12)/$DN$69 -> 0 | EI12: =DK12+DL12+DN12+DO12+DQ12+DR12+DS12+DT12+DU12+DV12+DW12+DX12+DY12+DZ12+EA12+EB12+EC12+ED12+EE12+EF12+EG12+EH12+DI12+DH12 -> 0
A13: ENG PAIL REMOVALS | B13: 514806.01 | D13: 14948.79 | F13: =15229.68-2074.68 -> 13155 | G13: 2074.68 | H13: =26365.27-I13 -> 24982.15 | I13: 1383.12 | J13: =D13+F13+H13 -> 53085.94 | K13: =E13+G13+I13 -> 3457.8 | L13: =22304.15-M13 -> 20921.03 | M13: =1383.12 -> 1383.12 | N13: =28344.75-2074.68 -> 26270.07 | O13: 2074.68 | P13: 13805.14 | R13: =L13+N13+P13 -> 60996.24 | S13: =M13+O13+Q13 -> 3457.8 | T13: =33603.22-U13 -> 27379.18 | U13: =6224.04 -> 6224.04 | V13: 30565.89 | X13: =26879.62-Y13 -> 24113.38 | Y13: 2766.24 | Z13: =T13+V13+X13 -> 82058.45 | AA13: =U13+W13+Y13 -> 8990.28 | AB13: 15621.12 | AD13: =36770.93-AE13 -> 31930.01 | AE13: 4840.92 | AF13: 15168.79 | AH13: =D13+E13+F13+G13+H13+I13+L13+M13+N13+O13+P13+Q13+T13+U13+V13+W13+X13+Y13+AB13+AC13+AD13+AE13+AF13+AG13 -> 279607.35 | AK13: =34262.41-AL13 -> 32768.17 | AL13: 1494.24 | AM13: =32749.17-AN13 -> 31256.37 | AN13: 1492.8 | AO13: =40320.59-AP13 -> 36588.59 | AP13: =2239.2+1492.8 -> 3732 | AQ13: 23231.09 | AS13: 20926.64 | AU13: =19054.24-AV13 -> 18744.6 | AV13: 309.64 | AW13: 28319.69 | AY13: 32743.06 | BA13: =32229.63-BB13 -> 29244.03 | BB13: 2985.6 | BC13: =22886.54-BD13 -> 20647.34 | BD13: =1492.8+746.4 -> 2239.2 | BE13: =37844.54-BF13 -> 34112.54 | BF13: =2239.2+1492.8 -> 3732 | BG13: =AI13+AJ13+AK13+AL13+AM13+AN13+AO13+AP13+AQ13+AR13+AS13+AT13+AU13+AV13+AW13+AX13+AY13+AZ13+BA13+BB13+BC13+BD13+BE13+BF13 -> 324567.6 | BI13: =29306.93-BJ13 -> 27814.13 | BJ13: 1492.8 | BK13: =1753.92-BL13 -> 225.36 | BL13: 1528.56 | BN13: 1979.28 | BO13: 4055.16 | BP13: 551.93 | BR13: =6749.53-BS13 -> 5950.81 | BS13: 798.72 | BU13: 5468.4 | CC13: 6463.56 | CD13: =10960.07-CE13 -> 9338.75 | CE13: 1621.32 | CF13: =SUM(BI13:CE13) -> 67288.78 | CH13: =15705.56-CI13 -> 11652.08 | CI13: 4053.48 | CJ13: 6952.36 | CL13: =4568.39-CM13 -> 2824.79 | CM13: 1743.6 | CP13: 9164.77 | CR13: =4050.6-CS13 -> 563.4 | CS13: 3487.2 | CT13: =5828.09+4108.46 -> 9936.55 | CU13: 5230.44 | CV13: 17882.95 | CX13: 24816.69 | CZ13: 23832.47 | DB13: 9316 | DC13: 11597.74 | DD13: =[3]Sheet1!$D$33+[3]Sheet1!$F$33 -> 29361.53 | DE13: =[3]Sheet1!$O$33+[3]Sheet1!$Q$33 -> 1358.88 | DF13: =CJ13+CK13+CL13+CM13+CN13+CO13+CP13+CQ13+CR13+CS13+CT13+CU13+CV13+CW13+CX13+CY13+CZ13+DA13+DB13+DC13+DD13+DE13+CI13+CH13 -> 173774.93 | DH13: 1743.6 | DI13: 0 | DJ13: =(DH13+DI13)/$DH$69 -> 0.011841323 | DK13: 31959.98 | DL13: 1826.4 | DM13: =(DK13+DL13)/$DK$69 -> 0.054736385 | DN13: 30107.89 | DO13: =31934.29-DN13 -> 1826.4 | DP13: =(DN13+DO13)/$DN$69 -> 0.042789125 | EI13: =DK13+DL13+DN13+DO13+DQ13+DR13+DS13+DT13+DU13+DV13+DW13+DX13+DY13+DZ13+EA13+EB13+EC13+ED13+EE13+EF13+EG13+EH13+DI13+DH13 -> 67464.27
A14: ENG SEWER ADMIN | B14: 334649.79 | D14: =12072.38+870.46 -> 12942.84 | E14: =643.92+1287.72 -> 1931.64 | F14: =11784.15-2766.24 -> 9017.91 | G14: 2766.24 | H14: =8759.76-I14 -> 7376.64 | I14: 1383.12 | J14: =D14+F14+H14 -> 29337.39 | K14: =E14+G14+I14 -> 6081 | L14: =17417.8-M14 -> 15343.12 | M14: 2074.68 | N14: =20361.19-O14 -> 19669.63 | O14: 691.56 | P14: =15434.81-Q14 -> 13360.13 | Q14: 2074.68 | R14: =L14+N14+P14 -> 48372.88 | S14: =M14+O14+Q14 -> 4840.92 | T14: =17244.63-U14 -> 15169.95 | U14: 2074.68 | V14: =34171.6-W14 -> 30713.8 | W14: =2074.68+1383.12 -> 3457.8 | X14: =18640.25-Y14 -> 17257.13 | Y14: 1383.12 | Z14: =T14+V14+X14 -> 63140.88 | AA14: =U14+W14+Y14 -> 6915.6 | AB14: =5359.59-AC14 -> 2593.35 | AC14: =1383.12+1383.12 -> 2766.24 | AD14: 38460.4 | AE14: 3457.8 | AF14: =22404.32-AG14 -> 20329.64 | AG14: =691.56+1383.12 -> 2074.68 | AH14: =D14+E14+F14+G14+H14+I14+L14+M14+N14+O14+P14+Q14+T14+U14+V14+W14+X14+Y14+AB14+AC14+AD14+AE14+AF14+AG14 -> 228370.78 | AI14: =16793.91-AJ14 -> 13336.11 | AJ14: =2074.68+1383.12 -> 3457.8 | AK14: 30669.47 | AM14: =33742-2985.6 -> 30756.4 | AN14: 2985.6 | AP14: 31631.16 | AQ14: =28704.97-AR14 -> 25719.37 | AR14: 2985.6 | AS14: =25935.86-AT14 -> 25189.46 | AT14: 746.4 | AU14: =35932.76-AV14 -> 32947.16 | AV14: 2985.6 | AW14: =30039.38-AX14 -> 28546.58 | AX14: 1492.8 | AY14: =24266.76-AZ14 -> 22773.96 | AZ14: 1492.8 | BA14: =32833.35-BB14 -> 30594.15 | BB14: 2239.2 | BC14: =23959.57-BD14 -> 21720.37 | BD14: =1492.8+746.4 -> 2239.2 | BE14: =26910.89-BF14 -> 23178.89 | BF14: =2239.2+1492.8 -> 3732 | BG14: =AI14+AJ14+AK14+AL14+AM14+AN14+AO14+AP14+AQ14+AR14+AS14+AT14+AU14+AV14+AW14+AX14+AY14+AZ14+BA14+BB14+BC14+BD14+BE14+BF14 -> 341420.08 | BI14: =17444.21-BJ14 -> 16697.81 | BJ14: 746.4 | BL14: 2292.84 | BO14: 1044.68 | BR14: 8816.59 | BU14: 1597.44 | BW14: 1597.44 | BY14: 1621.44 | BZ14: 9485.9 | CB14: 8106.6 | CC14: =15160.32-Budget!CB14 -> 7053.72 | CD14: 6687.95 | CE14: =7298.68-CD14 -> 610.73 | CF14: =SUM(BI14:CE14) -> 66359.54 | CH14: =14764.6-CI14 -> 9900.4 | CI14: 4864.2 | CJ14: 14960.17 | CM14: 5230.68 | CP14: 13763.39 | CR14: 8717.4 | CS14: 1743.6 | CT14: =2232.62+1082.48 -> 3315.1 | CU14: 0 | CV14: 17902.39 | CX14: 19848.23 | CZ14: 8198.8 | DB14: 8184.82 | DC14: 9988.98 | DD14: =[3]Sheet1!$D$40+[3]Sheet1!$F$40 -> 18793.75 | DE14: =[3]Sheet1!$O$40+[3]Sheet1!$Q$40 -> 1358.88 | DF14: =CJ14+CK14+CL14+CM14+CN14+CO14+CP14+CQ14+CR14+CS14+CT14+CU14+CV14+CW14+CX14+CY14+CZ14+DA14+DB14+DC14+DD14+DE14+CI14+CH14 -> 146770.79 | DH14: 871.8 | DI14: 1743.48 | DJ14: =(DH14+DI14)/$DH$69 -> 0.01776117 | DK14: 20259.4 | DL14: 2739.6 | DM14: =(DK14+DL14)/$DK$69 -> 0.037260047 | DN14: 26764.13 | DO14: =27677.33-DN14 -> 913.2 | DP14: =(DN14+DO14)/$DN$69 -> 0.037085175 | EI14: =DK14+DL14+DN14+DO14+DQ14+DR14+DS14+DT14+DU14+DV14+DW14+DX14+DY14+DZ14+EA14+EB14+EC14+ED14+EE14+EF14+EG14+EH14+DI14+DH14 -> 53291.61
A15: ENG DISPOSAL WORKS | B15: 588696.43 | D15: =31187.42-10284.84-4163.04 -> 16739.54 | E15: =10284.84+4163.04 -> 14447.88 | F15: =41574.04-14113.2 -> 27460.84 | G15: 14113.2 | H15: =37355.71-I15 -> 25698.88 | I15: =2208.9+9447.93 -> 11656.83 | J15: =D15+F15+H15 -> 69899.26 | K15: =E15+G15+I15 -> 40217.91 | L15: =35272.3-M15 -> 23946.1 | M15: 11326.2 | N15: =37694.65-O15 -> 25999.33 | O15: 11695.32 | P15: =52400.97-Q15 -> 42665.64 | Q15: 9735.33 | R15: =L15+N15+P15 -> 92611.07 | S15: =M15+O15+Q15 -> 32756.85 | T15: =64036.11-U15 -> 42357.69 | U15: 21678.42 | V15: =58006.76-W15 -> 39051.77 | W15: =12943.2+6011.79 -> 18954.99 | X15: =57388.94-Y15 -> 48430.01 | Y15: 8958.93 | Z15: =T15+V15+X15 -> 129839.47 | AA15: =U15+W15+Y15 -> 49592.34 | AB15: =32009.06-AC15 -> 22057.82 | AC15: =7396.56+2554.68 -> 9951.24 | AD15: 28362.07 | AE15: 20434.08 | AF15: =29218.7-AG15 -> 17618.42 | AG15: =6964.56+4635.72 -> 11600.28 | AH15: =D15+E15+F15+G15+H15+I15+L15+M15+N15+O15+P15+Q15+T15+U15+V15+W15+X15+Y15+AB15+AC15+AD15+AE15+AF15+AG15 -> 524940.81 | AI15: =47624.85-AJ15 -> 35748.52 | AJ15: =7240.61+4635.72 -> 11876.33 | AK15: =62771.15-AL15 -> 54876.71 | AL15: 7894.44 | AM15: =OVERTIME0923!C99+OVERTIME0923!D99 -> 57587.08 | AN15: =70357-AM15 -> 12769.92 | AO15: =64883.71-AP15 -> 55840.75 | AP15: =5140.8+3902.16 -> 9042.96 | AQ15: =62450.48-AR15 -> 51403.28 | AR15: 11047.2 | AS15: =52880.75-AT15 -> 47230.55 | AT15: 5650.2 | AU15: =51781.09-AV15 -> 46631.95 | AV15: 5149.14 | AW15: =53031.82-AX15 -> 45944.02 | AX15: =6136.44+951.36 -> 7087.8 | AY15: =61620.21-AZ15 -> 55342.05 | AZ15: 6278.16 | BA15: =68239.43-BB15 -> 58240.91 | BB15: 9998.52 | BC15: =56512.97-BD15 -> 48622.13 | BD15: =4943.4+2947.44 -> 7890.84 | BE15: =75088.95-BF15 -> 62651.31 | BF15: =7516.68+4920.96 -> 12437.64 | BG15: =AI15+AJ15+AK15+AL15+AM15+AN15+AO15+AP15+AQ15+AR15+AS15+AT15+AU15+AV15+AW15+AX15+AY15+AZ15+BA15+BB15+BC15+BD15+BE15+BF15 -> 727242.41 | BI15: =79214.91-BJ15 -> 73842.15 | BJ15: 5372.76 | BK15: =10952.52-BL15 -> 1802.88 | BL15: 9149.64 | BO15: 12417.5 | BR15: =28145.47-BS15 -> 19432.27 | BS15: 8713.2 | BT15: =16606.47-BU15 -> 7469.31 | BU15: 9137.16 | BV15: =5579.46+2354.88 -> 7934.34 | BW15: =7089.72+1885.92 -> 8975.64 | BX15: =7647-BY15 -> 450.72 | BY15: 7196.28 | CA15: 12817.56 | CB15: 12185.26 | CC15: =36438.43-Budget!CB15 -> 24253.17 | CD15: =13607.87-CE15 -> 3610.19 | CE15: =7050.24+2947.44 -> 9997.68 | CF15: =SUM(BI15:CE15) -> 234757.71 | CH15: =24557.4-CI15 -> 8295 | CI15: 16262.4 | CJ15: 5593.67 | CL15: =23788.23-CM15 -> 7101.87 | CM15: =5561.88+11124.48 -> 16686.36 | CN15: 4980.31 | CP15: 7764.57 | CR15: 16843.7 | CS15: 8517.84 | CT15: =18357.93+19238.32 -> 37596.25 | CU15: =3152.16+6303.84 -> 9456 | CV15: 24735.03 | CX15: 31029.27 | CZ15: 30353.11 | DB15: 13783.56 | DC15: 9096.99 | DD15: =[3]Sheet1!$D$54+[3]Sheet1!$F$54 -> 31537.1 | DE15: =[3]Sheet1!$O$54+[3]Sheet1!$Q$54 -> 826.68 | DF15: =CJ15+CK15+CL15+CM15+CN15+CO15+CP15+CQ15+CR15+CS15+CT15+CU15+CV15+CW15+CX15+CY15+CZ15+DA15+DB15+DC15+DD15+DE15+CI15+CH15 -> 280459.71 | DH15: 7211.16 | DI15: 3818.4 | DJ15: =(DH15+DI15)/$DH$69 -> 0.074905129 | DK15: 28537.52 | DL15: 9655.44 | DM15: =(DK15+DL15)/$DK$69 -> 0.061875364 | DN15: 62183.51 | DO15: =68610.47-DN15 -> 6426.96 | DP15: =(DN15+DO15)/$DN$69 -> 0.091931962 | EI15: =DK15+DL15+DN15+DO15+DQ15+DR15+DS15+DT15+DU15+DV15+DW15+DX15+DY15+DZ15+EA15+EB15+EC15+ED15+EE15+EF15+EG15+EH15+DI15+DH15 -> 117832.99
A16: ENG SEWER RETICULATION | B16: 227934.57 | D16: =16789.43-2630.16 -> 14159.27 | E16: 2630.16 | F16: =5764.69-876.72 -> 4887.97 | G16: 876.72 | H16: =7142.66-I16 -> 3635.78 | I16: 3506.88 | J16: =D16+F16+H16 -> 22683.02 | K16: =E16+G16+I16 -> 7013.76 | L16: =20965.36-M16 -> 19212.04 | M16: 1753.32 | N16: =19401.04-O16 -> 15894.16 | O16: 3506.88 | P16: =17870.96-Q16 -> 16994.24 | Q16: 876.72 | R16: =L16+N16+P16 -> 52100.44 | S16: =M16+O16+Q16 -> 6136.92 | T16: =20438.37-U16 -> 16931.73 | U16: 3506.64 | V16: =26275.07-W16 -> 24521.63 | W16: 1753.44 | X16: =25452.82-Y16 -> 23699.38 | Y16: 1753.44 | Z16: =T16+V16+X16 -> 65152.74 | AA16: =U16+W16+Y16 -> 7013.52 | AB16: =11772.62-AC16 -> 10019.18 | AC16: 1753.44 | AD16: 22234.2 | AE16: 5260.08 | AF16: =13631.82-AG16 -> 11001.66 | AG16: 2630.16 | AH16: =D16+E16+F16+G16+H16+I16+L16+M16+N16+O16+P16+Q16+T16+U16+V16+W16+X16+Y16+AB16+AC16+AD16+AE16+AF16+AG16 -> 212999.12 | AI16: =15868.9-AJ16 -> 14992.18 | AJ16: 876.72 | AK16: =28017.17-AL16 -> 24321.17 | AL16: 3696 | AM16: 26619.25 | AO16: =26639.24-AP16 -> 21095.24 | AP16: =1848+3696 -> 5544 | AQ16: =15243.62-AR16 -> 14319.62 | AR16: 924 | AS16: =29191.27-AT16 -> 26419.27 | AT16: 2772 | AU16: =35372.67-AV16 -> 34012.38 | AV16: 1360.29 | AW16: =40260.51-Budget!AX16 -> 36564.51 | AX16: =1848+1848 -> 3696 | AY16: 24768.18 | BA16: =30690.31-BB16 -> 25146.31 | BB16: 5544 | BC16: =29257.36-BD16 -> 24637.36 | BD16: =1848+2772 -> 4620 | BE16: =19482.37-BF16 -> 16710.37 | BF16: =924+1848 -> 2772 | BG16: =AI16+AJ16+AK16+AL16+AM16+AN16+AO16+AP16+AQ16+AR16+AS16+AT16+AU16+AV16+AW16+AX16+AY16+AZ16+BA16+BB16+BC16+BD16+BE16+BF16 -> 321410.85 | BI16: =13377.85-BJ16 -> 7833.85 | BJ16: =1848+3696 -> 5544 | BL16: 924 | BR16: =10245.85-BS16 -> 9280.21 | BS16: 965.64 | BU16: 8690.4 | BW16: =1931.28+1931.16 -> 3862.44 | BX16: =8274.85-BY16 -> 6314.77 | BY16: 1960.08 | BZ16: 15025.36 | CA16: 9414.27 | CB16: 11758.85 | CD16: =5198.15-CE16 -> 2258.03 | CE16: 2940.12 | CF16: =SUM(BI16:CE16) -> 86772.02 | CH16: =10942.72-CI16 -> 9962.68 | CI16: 980.04 | CJ16: 10291.8 | CL16: =6878.39-CM16 -> 5849.15 | CM16: 1029.24 | CN16: 3596.28 | CP16: 19476.63 | CR16: 10291.8 | CS16: 3087.72 | CU16: 3087.72 | CV16: 5107.76 | CX16: 15515.51 | CZ16: 11475.3 | DB16: 2575.77 | DC16: 14119.71 | DD16: =[3]Sheet1!$D$60+[3]Sheet1!$F$60 -> 19165.66 | DE16: 29.24 | DF16: =CJ16+CK16+CL16+CM16+CN16+CO16+CP16+CQ16+CR16+CS16+CT16+CU16+CV16+CW16+CX16+CY16+CZ16+DA16+DB16+DC16+DD16+DE16+CI16+CH16 -> 135642.01 | DH16: 3087.72 | DI16: 0 | DJ16: =(DH16+DI16)/$DH$69 -> 0.020969655 | DK16: 17864.87 | DL16: 1078.08 | DM16: =(DK16+DL16)/$DK$69 -> 0.030688952 | DN16: 18866.88 | DO16: =25355.24-DN16 -> 6488.36 | DP16: =(DN16+DO16)/$DN$69 -> 0.033973779 | EI16: =DK16+DL16+DN16+DO16+DQ16+DR16+DS16+DT16+DU16+DV16+DW16+DX16+DY16+DZ16+EA16+EB16+EC16+ED16+EE16+EF16+EG16+EH16+DI16+DH16 -> 47385.91
A17: STORMWATER DRAINS | B17: 34740.77 | J17: =D17+F17+H17 -> 0 | K17: =E17+G17+I17 -> 0 | R17: =L17+N17+P17 -> 0 | S17: =M17+O17+Q17 -> 0 | T17: 6826.85 | Z17: =T17+V17+X17 -> 6826.85 | AA17: =U17+W17+Y17 -> 0 | AH17: =D17+E17+F17+G17+H17+I17+L17+M17+N17+O17+P17+Q17+T17+U17+V17+W17+X17+Y17+AB17+AC17+AD17+AE17+AF17+AG17 -> 6826.85 | AI17: 2019.87 | AY17: 1219.21 | BA17: 1103.09 | BC17: 2352.33 | BE17: 4034.13 | BG17: =AI17+AJ17+AK17+AL17+AM17+AN17+AO17+AP17+AQ17+AR17+AS17+AT17+AU17+AV17+AW17+AX17+AY17+AZ17+BA17+BB17+BC17+BD17+BE17+BF17 -> 10728.63 | BI17: 4462.28 | BO17: 697.26 | BP17: 1986.93 | BR17: 338.04 | BU17: 2226.24 | BW17: 441.6 | BX17: =1795.32-Budget!BY17+743.88 -> 1194.6 | BY17: 1344.6 | CA17: 1797.84 | CC17: 4486.8 | CD17: 1601.15 | CF17: =SUM(BI17:CE17) -> 20577.34 | CI17: 2694.24 | CL17: 1352.16 | CR17: =921.37-CS17 -> 450.73 | CS17: 470.64 | CU17: 470.64 | CV17: 12224.48 | CX17: 9333.51 | CZ17: 5941.68 | DB17: 5067.96 | DC17: 3980.7 | DD17: =[3]Sheet1!$D$66+[3]Sheet1!$F$66 -> 10282.92 | DE17: =[3]Sheet1!$O$66+[3]Sheet1!$Q$66 -> 1882.44 | DF17: =CJ17+CK17+CL17+CM17+CN17+CO17+CP17+CQ17+CR17+CS17+CT17+CU17+CV17+CW17+CX17+CY17+CZ17+DA17+DB17+DC17+DD17+DE17+CI17+CH17 -> 54152.1 | DH17: 0 | DI17: 0 | DJ17: =(DH17+DI17)/$DH$69 -> 0 | DK17: 10723.9 | DL17: 1478.88 | DM17: =(DK17+DL17)/$DK$69 -> 0.019769388 | DN17: 12433.39 | DO17: =13419.31-DN17 -> 985.92 | DP17: =(DN17+DO17)/$DN$69 -> 0.017980689 | EI17: =DK17+DL17+DN17+DO17+DQ17+DR17+DS17+DT17+DU17+DV17+DW17+DX17+DY17+DZ17+EA17+EB17+EC17+ED17+EE17+EF17+EG17+EH17+DI17+DH17 -> 25622.09
A18: ENG STR FOOTPATHS GUTTERS | B18: 83552.64 | D18: 4924.86 | F18: 4816.77 | H18: 6599.07 | J18: =D18+F18+H18 -> 16340.7 | K18: =E18+G18+I18 -> 0 | L18: 7580.43 | O18: 8338.22 | P18: 9617.9 | R18: =L18+N18+P18 -> 17198.33 | S18: =M18+O18+Q18 -> 8338.22 | T18: 23446.71 | V18: 14577.86 | X18: 11691.31 | Z18: =T18+V18+X18 -> 49715.88 | AA18: =U18+W18+Y18 -> 0 | AB18: 7249.6 | AD18: 9936.11 | AF18: 5453.27 | AH18: =D18+E18+F18+G18+H18+I18+L18+M18+N18+O18+P18+Q18+T18+U18+V18+W18+X18+Y18+AB18+AC18+AD18+AE18+AF18+AG18 -> 114232.11 | AI18: 7622.03 | AK18: 11399.92 | AM18: 10074.09 | AO18: 5073.92 | AQ18: 5232.48 | AS18: 4686.36 | AU18: =21500.79-AV18 -> 18767.18 | AV18: 2733.61 | AW18: 4439.68 | AY18: 4915.36 | BA18: 4915.36 | BC18: 5886.73 | BE18: 4915.36 | BG18: =AI18+AJ18+AK18+AL18+AM18+AN18+AO18+AP18+AQ18+AR18+AS18+AT18+AU18+AV18+AW18+AX18+AY18+AZ18+BA18+BB18+BC18+BD18+BE18+BF18 -> 90662.08 | BI18: 5073.92 | BR18: 5259.46 | CD18: 5166 | CF18: =SUM(BI18:CE18) -> 15499.38 | CH18: 452.03 | CL18: 2378.46 | CP18: 10290.48 | CR18: 2378.46 | CV18: 7634.22 | CX18: 2329.92 | CZ18: 3388.95 | DB18: 4065.6 | DC18: 2038.68 | DD18: =[3]Sheet1!$D$78+[3]Sheet1!$F$78 -> 12179.16 | DF18: =CJ18+CK18+CL18+CM18+CN18+CO18+CP18+CQ18+CR18+CS18+CT18+CU18+CV18+CW18+CX18+CY18+CZ18+DA18+DB18+DC18+DD18+DE18+CI18+CH18 -> 47135.96 | DH18: 0 | DJ18: =(DH18+DI18)/$DH$69 -> 0 | DK18: 10380.71 | DM18: =(DK18+DL18)/$DK$69 -> 0.016817503 | DN18: 5987.98 | DP18: =(DN18+DO18)/$DN$69 -> 0.0080233637 | EI18: =DK18+DL18+DN18+DO18+DQ18+DR18+DS18+DT18+DU18+DV18+DW18+DX18+DY18+DZ18+EA18+EB18+EC18+ED18+EE18+EF18+EG18+EH18+DI18+DH18 -> 16368.69
A19: TOWN PLANNING | B19: 9974.6 | J19: =D19+F19+H19 -> 0 | K19: =E19+G19+I19 -> 0 | L19: 4626.6 | R19: =L19+N19+P19 -> 4626.6 | S19: =M19+O19+Q19 -> 0 | Z19: =T19+V19+X19 -> 0 | AA19: =U19+W19+Y19 -> 0 | AD19: 2863.8 | AF19: =58810.42-AG19 -> 38891.62 | AG19: =15337.2+4581.6 -> 19918.8 | AH19: =D19+E19+F19+G19+H19+I19+L19+M19+N19+O19+P19+Q19+T19+U19+V19+W19+X19+Y19+AB19+AC19+AD19+AE19+AF19+AG19 -> 66300.82 | BG19: =AI19+AJ19+AK19+AL19+AM19+AN19+AO19+AP19+AQ19+AR19+AS19+AT19+AU19+AV19+AW19+AX19+AY19+AZ19+BA19+BB19+BC19+BD19+BE19+BF19 -> 0 | CF19: =SUM(BI19:CE19) -> 0 | DF19: =CJ19+CK19+CL19+CM19+CN19+CO19+CP19+CQ19+CR19+CS19+CT19+CU19+CV19+CW19+CX19+CY19+CZ19+DA19+DB19+DC19+DD19+DE19+CI19+CH19 -> 0 | DJ19: =(DH19+DI19)/$DH$69 -> 0 | DM19: =(DK19+DL19)/$DK$69 -> 0 | DP19: =(DN19+DO19)/$DN$69 -> 0 | EI19: =DK19+DL19+DN19+DO19+DQ19+DR19+DS19+DT19+DU19+DV19+DW19+DX19+DY19+DZ19+EA19+EB19+EC19+ED19+EE19+EF19+EG19+EH19+DI19+DH19 -> 0
A20: PROPERTIES AND ESTATES | B20: 0 | J20: =D20+F20+H20 -> 0 | K20: =E20+G20+I20 -> 0 | R20: =L20+N20+P20 -> 0 | S20: =M20+O20+Q20 -> 0 | Z20: =T20+V20+X20 -> 0 | AA20: =U20+W20+Y20 -> 0 | AH20: =D20+E20+F20+G20+H20+I20+L20+M20+N20+O20+P20+Q20+T20+U20+V20+W20+X20+Y20+AB20+AC20+AD20+AE20+AF20+AG20 -> 0 | AS20: 8605.2 | AU20: 4087.47 | AW20: 8605.2 | BC20: 6023.64 | BG20: =AI20+AJ20+AK20+AL20+AM20+AN20+AO20+AP20+AQ20+AR20+AS20+AT20+AU20+AV20+AW20+AX20+AY20+AZ20+BA20+BB20+BC20+BD20+BE20+BF20 -> 27321.51 | CF20: =SUM(BI20:CE20) -> 0 | DF20: =CJ20+CK20+CL20+CM20+CN20+CO20+CP20+CQ20+CR20+CS20+CT20+CU20+CV20+CW20+CX20+CY20+CZ20+DA20+DB20+DC20+DD20+DE20+CI20+CH20 -> 0 | DJ20: =(DH20+DI20)/$DH$69 -> 0 | DM20: =(DK20+DL20)/$DK$69 -> 0 | DP20: =(DN20+DO20)/$DN$69 -> 0 | EI20: =DK20+DL20+DN20+DO20+DQ20+DR20+DS20+DT20+DU20+DV20+DW20+DX20+DY20+DZ20+EA20+EB20+EC20+ED20+EE20+EF20+EG20+EH20+DI20+DH20 -> 0
A21: WATER ADMIN | B21: 0 | J21: =D21+F21+H21 -> 0 | K21: =E21+G21+I21 -> 0 | R21: =L21+N21+P21 -> 0 | S21: =M21+O21+Q21 -> 0 | Z21: =T21+V21+X21 -> 0 | AA21: =U21+W21+Y21 -> 0 | AH21: =D21+E21+F21+G21+H21+I21+L21+M21+N21+O21+P21+Q21+T21+U21+V21+W21+X21+Y21+AB21+AC21+AD21+AE21+AF21+AG21 -> 0 | BG21: =AI21+AJ21+AK21+AL21+AM21+AN21+AO21+AP21+AQ21+AR21+AS21+AT21+AU21+AV21+AW21+AX21+AY21+AZ21+BA21+BB21+BC21+BD21+BE21+BF21 -> 0 | CF21: =SUM(BI21:CE21) -> 0 | DF21: =CJ21+CK21+CL21+CM21+CN21+CO21+CP21+CQ21+CR21+CS21+CT21+CU21+CV21+CW21+CX21+CY21+CZ21+DA21+DB21+DC21+DD21+DE21+CI21+CH21 -> 0 | DJ21: =(DH21+DI21)/$DH$69 -> 0 | DM21: =(DK21+DL21)/$DK$69 -> 0 | DP21: =(DN21+DO21)/$DN$69 -> 0 | EI21: =DK21+DL21+DN21+DO21+DQ21+DR21+DS21+DT21+DU21+DV21+DW21+DX21+DY21+DZ21+EA21+EB21+EC21+ED21+EE21+EF21+EG21+EH21+DI21+DH21 -> 0
A22: WATER CONSERVATION PURIF | B22: 1319757.8 | D22: =123974.85-3722.04-15458.4 -> 104794.41 | E22: =15458.4+3722.04 -> 19180.44 | F22: =94046.96-9949.56 -> 84097.4 | G22: 9949.56 | H22: =98389.39-I22 -> 81006.67 | I22: =14789.04+2593.68 -> 17382.72 | J22: =D22+F22+H22 -> 269898.48 | K22: =E22+G22+I22 -> 46512.72 | L22: =100261.24-M22 -> 85178.44 | M22: 15082.8 | N22: =93696.51-O22 -> 75009.15 | O22: 18687.36 | P22: =54969.69-Q22 -> 46731.81 | Q22: 8237.88 | R22: =L22+N22+P22 -> 206919.4 | S22: =M22+O22+Q22 -> 42008.04 | T22: =116466.53-U22 -> 90432.05 | U22: 26034.48 | V22: =101743.04-W22 -> 84960.92 | W22: =2399.28+14382.84 -> 16782.12 | X22: =91078.99-Y22 -> 83966.95 | Y22: 7112.04 | Z22: =T22+V22+X22 -> 259359.92 | AA22: =U22+W22+Y22 -> 49928.64 | AB22: =60274.62-AC22 -> 47241.13 | AC22: =3145.92+9887.57 -> 13033.49 | AD22: 101699.21 | AE22: 27048.96 | AH22: =D22+E22+F22+G22+H22+I22+L22+M22+N22+O22+P22+Q22+T22+U22+V22+W22+X22+Y22+AB22+AC22+AD22+AE22+AF22+AG22 -> 1063650 | AI22: =102988.66-AJ22 -> 85330.222 | AJ22: =7118.238+10540.2 -> 17658.438 | AK22: =118376.64-AL22 -> 101398.8 | AL22: 16977.84 | AM22: =61579.96+20859.82 -> 82439.78 | AN22: =112902.08-AM22 -> 30462.3 | AO22: =89262.41-AP22 -> 73156.73 | AP22: =11755.8+4349.88 -> 16105.68 | AQ22: =106749.32-AR22 -> 86152.04 | AR22: =18749.28+1848 -> 20597.28 | AS22: =87713.18-AT22 -> 77677.34 | AT22: 10035.84 | AU22: =142205.17-AV22 -> 101078.77 | AV22: =14398.32+26728.08 -> 41126.4 | AW22: =88424.86-AX22 -> 82787.14 | AX22: =4373.28+1264.44 -> 5637.72 | AY22: =102674.63-AZ22 -> 85838.75 | AZ22: 16835.88 | BA22: =116668.42-BB22 -> 85521.1 | BB22: 31147.32 | BC22: =123169.98-BD22 -> 100702.3 | BD22: =4369.64+18098.04 -> 22467.68 | BE22: =122625.07-BF22 -> 100741.87 | BF22: =9774.48+12108.72 -> 21883.2 | BG22: =AI22+AJ22+AK22+AL22+AM22+AN22+AO22+AP22+AQ22+AR22+AS22+AT22+AU22+AV22+AW22+AX22+AY22+AZ22+BA22+BB22+BC22+BD22+BE22+BF22 -> 1313760.4 | BI22: =98564.84-BJ22 -> 71035.52 | BJ22: =10526.04+17003.28 -> 27529.32 | BK22: =17530.12-BL22 -> 8225.44 | BL22: 9304.68 | BN22: 28015.32 | BO22: 4355.65 | BP22: 66729.21 | BR22: =46947.12-BS22 -> 29976.12 | BS22: 16971 | BT22: =84094.75-BU22 -> 48337.87 | BU22: 35756.88 | BW22: =14293.44+3599.52 -> 17892.96 | BX22: =50053.02-Budget!BY22+7380.48 -> 37548.18 | BY22: 19885.32 | BZ22: 48861.96 | CA22: 29631.52 | CB22: 14513.55 | CC22: =43363.47-CB22 -> 28849.92 | CD22: =41251.89-CE22+12558.12 -> 33869.97 | CE22: =15605.52+4334.52 -> 19940.04 | CF22: =SUM(BI22:CE22) -> 597230.43 | CH22: =53143.3-CI22 -> 34467.82 | CI22: 18675.48 | CJ22: 685.58 | CL22: =76590.29-CM22 -> 47986.49 | CM22: =5860.2+22743.6 -> 28603.8 | CN22: 5176.38 | CP22: 75526.53 | CR22: =54085.35-CS22 -> 38400.03 | CS22: 15685.32 | CU22: 15685.32 | CV22: 48866.65 | CX22: 38459.34 | CZ22: 38849.62 | DB22: 31041.62 | DC22: 25144.06 | DD22: =[3]Sheet1!$D$98+[3]Sheet1!$F$98 -> 50537.97 | DE22: =[3]Sheet1!$O$98+[3]Sheet1!$Q$98 -> 1004.28 | DF22: =CJ22+CK22+CL22+CM22+CN22+CO22+CP22+CQ22+CR22+CS22+CT22+CU22+CV22+CW22+CX22+CY22+CZ22+DA22+DB22+DC22+DD22+DE22+CI22+CH22 -> 514796.29 | DH22: 17857.56 | DI22: 9154.08 | DJ22: =(DH22+DI22)/$DH$69 -> 0.18344434 | DK22: 60604.56 | DL22: 15379.2 | DM22: =(DK22+DL22)/$DK$69 -> 0.1230992 | DN22: 73359.13 | DO22: =112582.33-DN22 -> 39223.2 | DP22: =(DN22+DO22)/$DN$69 -> 0.15085037 | EI22: =DK22+DL22+DN22+DO22+DQ22+DR22+DS22+DT22+DU22+DV22+DW22+DX22+DY22+DZ22+EA22+EB22+EC22+ED22+EE22+EF22+EG22+EH22+DI22+DH22 -> 215577.73
A23: WATER JAMES KLEYNHANS | B23: 463723.19 | D23: =35428.3-6567.72-6690.6 -> 22169.98 | E23: =6690.6+6567.72 -> 13258.32 | F23: =43763.32-14473.2 -> 29290.12 | G23: =14473.2 -> 14473.2 | H23: =44916.9-I23 -> 35597.22 | I23: =4399.08+4920.6 -> 9319.68 | J23: =D23+F23+H23 -> 87057.32 | K23: =E23+G23+I23 -> 37051.2 | L23: =42315.29-M23 -> 30543.89 | M23: 11771.4 | N23: =33394.04-O23 -> 23898.32 | O23: 9495.72 | P23: =44989.24-Q23 -> 35561.56 | Q23: 9427.68 | R23: =L23+N23+P23 -> 90003.77 | S23: =M23+O23+Q23 -> 30694.8 | U23: 21434.4 | V23: =48649.62-W23 -> 36788.7 | W23: =4519.56+7341.36 -> 11860.92 | X23: =45051.93-Y23 -> 34970.13 | Y23: 10081.8 | Z23: =T23+V23+X23 -> 71758.83 | AA23: =U23+W23+Y23 -> 43377.12 | AB23: =28936.43-AC23 -> 21213.59 | AC23: =2766.24+4956.6 -> 7722.84 | AD23: 29922.72 | AE23: 30271.68 | AF23: =36061.72-AG23 -> 25188.4 | AG23: =4970.64+5902.68 -> 10873.32 | AH23: =D23+E23+F23+G23+H23+I23+L23+M23+N23+O23+P23+Q23+T23+U23+V23+W23+X23+Y23+AB23+AC23+AD23+AE23+AF23+AG23 -> 485135.59 | AI23: =47468.25-AJ23 -> 30615.21 | AJ23: =4399.08+12453.96 -> 16853.04 | AK23: =38894.8-AL23 -> 30696.28 | AL23: 8198.52 | AM23: =22508.7+6184.16 -> 28692.86 | AN23: =49926.62-AM23 -> 21233.76 | AO23: =50730.44-AP23 -> 36738.56 | AP23: =8226.48+5765.4 -> 13991.88 | AQ23: =58460.68-AR23 -> 45659.8 | AR23: =12800.88 -> 12800.88 | AS23: =51440.74-AT23 -> 40418.38 | AT23: 11022.36 | AU23: =62012.18-AV23 -> 56737.22 | AV23: 5274.96 | AW23: =48279.7-AX23 -> 35453.26 | AX23: 12826.44 | AY23: =46880.22-AZ23 -> 43894.62 | AZ23: 2985.6 | BA23: =66447.96-BB23 -> 47794.68 | BB23: 18653.28 | BC23: =46586.1-BD23 -> 32045.82 | BD23: =9753.96+4786.32 -> 14540.28 | BE23: =50706.68-BF23 -> 31187.36 | BF23: =12923.28+6596.04 -> 19519.32 | BG23: =AI23+AJ23+AK23+AL23+AM23+AN23+AO23+AP23+AQ23+AR23+AS23+AT23+AU23+AV23+AW23+AX23+AY23+AZ23+BA23+BB23+BC23+BD23+BE23+BF23 -> 617834.37 | BI23: =45791.06-BJ23 -> 36964.94 | BJ23: =1579.56+7246.56 -> 8826.12 | BK23: =18390-BL23 -> 5183.28 | BL23: 13206.72 | BN23: 4935.48 | BO23: 7863.53 | BP23: 29240.37 | BR23: =13662.48-BS23 -> 4394.52 | BS23: 9267.96 | BT23: =36577.55-BU23 -> 12539.51 | BU23: 24038.04 | BW23: =7818.72+3581.88 -> 11400.6 | BX23: =17560.32-BY23 -> 4544.76 | BY23: 13015.56 | BZ23: 1891.54 | CA23: 11182.2 | CC23: 25362.12 | CD23: =15945.18-CE23 -> 6292.02 | CE23: =6071.76+3581.4 -> 9653.16 | CF23: =SUM(BI23:CE23) -> 239802.43 | CH23: =21871.8-CI23 -> 8026.92 | CI23: 13844.88 | CJ23: 15650.08 | CL23: =22665.36-CM23 -> 9266.4 | CM23: =3486.84+9912.12 -> 13398.96 | CP23: 6102.18 | CR23: 10944 | CS23: 15788.76 | CU23: 15788.76 | CV23: 26927.87 | CZ23: 27990.11 | DD23: =[3]Sheet1!$D$107 -> 5230.44 | DE23: =[3]Sheet1!$O$107+[3]Sheet1!$Q$107 -> 1020.76 | DF23: =CJ23+CK23+CL23+CM23+CN23+CO23+CP23+CQ23+CR23+CS23+CT23+CU23+CV23+CW23+CX23+CY23+CZ23+DA23+DB23+DC23+DD23+DE23+CI23+CH23 -> 169980.12 | DH23: 7320.96 | DI23: 3801.84 | DJ23: =(DH23+DI23)/$DH$69 -> 0.07553835 | DL23: 7965.12 | DM23: =(DK23+DL23)/$DK$69 -> 0.012904072 | DN23: 30811.09 | DO23: =42470.41-DN23 -> 11659.32 | DP23: =(DN23+DO23)/$DN$69 -> 0.056906594 | EI23: =DK23+DL23+DN23+DO23+DQ23+DR23+DS23+DT23+DU23+DV23+DW23+DX23+DY23+DZ23+EA23+EB23+EC23+ED23+EE23+EF23+EG23+EH23+DI23+DH23 -> 61558.33
A24: WATER RETICULATION | B24: 1540227.7 | D24: =139878.93+7586.02-3918.48 -> 143546.47 | E24: =764.28+3154.2 -> 3918.48 | F24: =115242.8+9253.66-2084.28 -> 122412.18 | G24: 2084.28 | H24: =107748.43+6504.82-I24 -> 109803.65 | I24: =1383.123+3066.48 -> 4449.603 | J24: =D24+F24+H24 -> 375762.3 | K24: =E24+G24+I24 -> 10452.363 | L24: =108630.11-M24 -> 104621.27 | M24: 4008.84 | N24: =96684.31-O24 -> 94419.67 | O24: 2264.64 | P24: =92082.2-Q24 -> 89817.56 | Q24: 2264.64 | R24: =L24+N24+P24 -> 288858.5 | S24: =M24+O24+Q24 -> 8538.12 | T24: =112229.21-U24 -> 107889.89 | U24: 4339.32 | V24: =125030.64-W24 -> 121823.64 | W24: 3207 | X24: =110908.72-Y24 -> 108824.44 | Y24: 2084.28 | Z24: =T24+V24+X24 -> 338537.97 | AA24: =U24+W24+Y24 -> 9630.6 | AB24: =44636.38-AC24 -> 42120.94 | AC24: 2515.44 | AD24: 142788.18 | AE24: 2705.28 | AF24: =96281.99-AG24 -> 93766.55 | AG24: =2515.44 -> 2515.44 | AH24: =D24+E24+F24+G24+H24+I24+L24+M24+N24+O24+P24+Q24+T24+U24+V24+W24+X24+Y24+AB24+AC24+AD24+AE24+AF24+AG24 -> 1318191.7 | AI24: =113919.12-AJ24 -> 110081.52 | AJ24: =2264.52+1573.08 -> 3837.6 | AK24: =148943.28-AL24 -> 146237.4 | AL24: 2705.88 | AM24: =98721.24+31972.25 -> 130693.49 | AN24: =136410.89-AM24 -> 5717.4 | AO24: =113759.25-AP24 -> 109943.97 | AP24: =2886.36+928.92 -> 3815.28 | AQ24: =115636-AR24 -> 112467.76 | AR24: 3168.24 | AS24: =105700.31-AT24 -> 104024.87 | AT24: 1675.44 | AU24: =136194.94-AV24 -> 119170.18 | AV24: =3408.12+13616.64 -> 17024.76 | AW24: =127577.72-AX24 -> 123579.92 | AX24: =2139.96+1857.84 -> 3997.8 | AY24: =115134.66-AZ24 -> 111966.42 | AZ24: 3168.24 | BA24: =132994.32-BB24 -> 126939.96 | BB24: 6054.36 | BC24: =118057.42-BD24 -> 116199.46 | BD24: =928.92+929.04 -> 1857.96 | BE24: =129214.35-BF24 -> 126792.51 | BF24: =929.04+1492.8 -> 2421.84 | BG24: =AI24+AJ24+AK24+AL24+AM24+AN24+AO24+AP24+AQ24+AR24+AS24+AT24+AU24+AV24+AW24+AX24+AY24+AZ24+BA24+BB24+BC24+BD24+BE24+BF24 -> 1493542.3 | BI24: =125527.17-BJ24 -> 117979.89 | BJ24: =3914.52+3632.76 -> 7547.28 | BK24: =16237.45-BL24 -> 13757.53 | BL24: 2479.92 | BN24: 2553.84 | BO24: 19021.54 | BP24: 79676.95 | BR24: =39175.81-BS24 -> 35343.97 | BS24: 3831.84 | BT24: =66872.61-BU24 -> 62816.37 | BU24: 4056.24 | BW24: 3334.8 | BX24: =30531.09-BY24 -> 29017.29 | BY24: 1513.8 | BZ24: 34019.76 | CA24: 11031 | CB24: 37357.88 | CC24: =65044.53-CB24 -> 27686.65 | CD24: =28606.39-CE24 -> 22961.11 | CE24: =3763.68+1881.6 -> 5645.28 | CF24: =SUM(BI24:CE24) -> 521632.94 | CH24: =45694.76-CI24 -> 34415.12 | CI24: 11279.64 | CL24: =24021.18-CM24 -> 20289.18 | CM24: 3732 | CN24: 11319.55 | CP24: 37484.65 | CR24: 14120.05 | CS24: 5986.56 | CU24: 5986.56 | CV24: 30391.13 | CX24: 28825.93 | CZ24: 24022.44 | DB24: 27454.01 | DC24: 23361.64 | DD24: =[3]Sheet1!$D$121+[3]Sheet1!$F$121 -> 40542.95 | DE24: =[3]Sheet1!$O$121+[3]Sheet1!$Q$121 -> 749.56 | DF24: =CJ24+CK24+CL24+CM24+CN24+CO24+CP24+CQ24+CR24+CS24+CT24+CU24+CV24+CW24+CX24+CY24+CZ24+DA24+DB24+DC24+DD24+DE24+CI24+CH24 -> 319960.97 | DH24: 5847.36 | DI24: 3468 | DJ24: =(DH24+DI24)/$DH$69 -> 0.06326347 | DK24: 50459.26 | DL24: 7455.72 | DM24: =(DK24+DL24)/$DK$69 -> 0.093826466 | DN24: 41766.59 | DO24: =50426.51-DN24 -> 8659.92 | DP24: =(DN24+DO24)/$DN$69 -> 0.067567064 | EI24: =DK24+DL24+DN24+DO24+DQ24+DR24+DS24+DT24+DU24+DV24+DW24+DX24+DY24+DZ24+EA24+EB24+EC24+ED24+EE24+EF24+EG24+EH24+DI24+DH24 -> 117656.85
A25: ELECTRICITY ADMIN | B25: 17604.36 | J25: =D25+F25+H25 -> 0 | K25: =E25+G25+I25 -> 0 | R25: =L25+N25+P25 -> 0 | S25: =M25+O25+Q25 -> 0 | T25: 5812.26 | V25: 1432.28 | Z25: =T25+V25+X25 -> 7244.54 | AA25: =U25+W25+Y25 -> 0 | AH25: =D25+E25+F25+G25+H25+I25+L25+M25+N25+O25+P25+Q25+T25+U25+V25+W25+X25+Y25+AB25+AC25+AD25+AE25+AF25+AG25 -> 7244.54 | AI25: 4810.98 | AK25: 4528.49 | AM25: 3193.16 | AO25: 5430.49 | AQ25: 3483.45 | AS25: 4672.32 | AU25: 5371.3 | AW25: 4041.81 | AY25: 4922.64 | BA25: 3698.17 | BC25: 4758.43 | BE25: 5473.9 | BG25: =AI25+AJ25+AK25+AL25+AM25+AN25+AO25+AP25+AQ25+AR25+AS25+AT25+AU25+AV25+AW25+AX25+AY25+AZ25+BA25+BB25+BC25+BD25+BE25+BF25 -> 54385.14 | BI25: 4738.5 | BK25: 239.45 | BN25: 14.09 | BR25: 3943.88 | CF25: =SUM(BI25:CE25) -> 8935.92 | CH25: 5109.06 | CL25: 5392.59 | CP25: 7738.25 | CR25: 2026.17 | CV25: 3879.9 | CX25: 5625.86 | CZ25: 6272.51 | DB25: 699.45 | DC25: 4591.22 | DD25: =[3]Sheet1!$D$125+[3]Sheet1!$F$125 -> 5420 | DF25: =CJ25+CK25+CL25+CM25+CN25+CO25+CP25+CQ25+CR25+CS25+CT25+CU25+CV25+CW25+CX25+CY25+CZ25+DA25+DB25+DC25+DD25+DE25+CI25+CH25 -> 46755.01 | DI25: 0 | DJ25: =(DH25+DI25)/$DH$69 -> 0 | DK25: 5622.42 | DM25: =(DK25+DL25)/$DK$69 -> 0.009108728 | DN25: 5983.7 | DP25: =(DN25+DO25)/$DN$69 -> 0.0080176288 | EI25: =DK25+DL25+DN25+DO25+DQ25+DR25+DS25+DT25+DU25+DV25+DW25+DX25+DY25+DZ25+EA25+EB25+EC25+ED25+EE25+EF25+EG25+EH25+DI25+DH25 -> 11606.12
A26: ELECTRICITY DISTRIBUTION | B26: 2558387.8 | D26: 81173.48 | F26: 56694.93 | H26: 109587.59 | J26: =D26+F26+H26 -> 247456 | K26: =E26+G26+I26 -> 0 | L26: 112662.94 | N26: =159741.06-O26 -> 159649.23 | O26: 91.83 | P26: 148247.18 | R26: =L26+N26+P26 -> 420559.35 | S26: =M26+O26+Q26 -> 91.83 | T26: 187262.4 | V26: 143840.95 | X26: 170239.55 | Z26: =T26+V26+X26 -> 501342.9 | AA26: =U26+W26+Y26 -> 0 | AB26: 54764.82 | AD26: 137728.46 | AF26: =107820.29-AG26 -> 107820.29 | AH26: =D26+E26+F26+G26+H26+I26+L26+M26+N26+O26+P26+Q26+T26+U26+V26+W26+X26+Y26+AB26+AC26+AD26+AE26+AF26+AG26 -> 1469763.7 | AI26: 166573.77 | AK26: 172990.13 | AM26: 158486.83 | AO26: 161682.08 | AQ26: 165688.74 | AS26: 171291.51 | AU26: =188665.21-AV26 -> 179361.34 | AV26: 9303.87 | AW26: 197323.13 | AY26: 208701.94 | BA26: 216943.2 | BC26: 197079.74 | BE26: 193263.39 | BG26: =AI26+AJ26+AK26+AL26+AM26+AN26+AO26+AP26+AQ26+AR26+AS26+AT26+AU26+AV26+AW26+AX26+AY26+AZ26+BA26+BB26+BC26+BD26+BE26+BF26 -> 2198689.7 | BI26: 179345.86 | BK26: 4688.36 | BN26: 2314.71 | BO26: 10361.65 | BR26: 126737.67 | BV26: =71991.01+33055.97 -> 105046.98 | CF26: =SUM(BI26:CE26) -> 428495.23 | CH26: 47489.16 | CL26: 88099.25 | CP26: 248397.72 | CR26: 70795.86 | CV26: 157639.21 | CX26: 158111.53 | CZ26: 191553.74 | DB26: 54786.96 | DC26: 114643.36 | DD26: =[3]Sheet1!$D$164+[3]Sheet1!$F$164 -> 78175.49 | DF26: =CJ26+CK26+CL26+CM26+CN26+CO26+CP26+CQ26+CR26+CS26+CT26+CU26+CV26+CW26+CX26+CY26+CZ26+DA26+DB26+DC26+DD26+DE26+CI26+CH26 -> 1209692.3 | DH26: 0 | DI26: 0 | DJ26: =(DH26+DI26)/$DH$69 -> 0 | DK26: 69850.47 | DL26: 100000 | DM26: =(DK26+DL26)/$DK$69 -> 0.27517007 | DN26: 178574.58 | DP26: =(DN26+DO26)/$DN$69 -> 0.23927415 | EI26: =DK26+DL26+DN26+DO26+DQ26+DR26+DS26+DT26+DU26+DV26+DW26+DX26+DY26+DZ26+EA26+EB26+EC26+ED26+EE26+EF26+EG26+EH26+DI26+DH26 -> 348425.05
A27: CORPORATE SERVICES | B27: 43360.37 | J27: =D27+F27+H27 -> 0 | K27: =E27+G27+I27 -> 0 | N27: 2410.59 | P27: 266.4 | R27: =L27+N27+P27 -> 2676.99 | S27: =M27+O27+Q27 -> 0 | T27: 1078.36 | V27: 3145.28 | X27: 1201.09 | Z27: =T27+V27+X27 -> 5424.73 | AA27: =U27+W27+Y27 -> 0 | AD27: 3087.02 | AF27: 7832.45 | AH27: =D27+E27+F27+G27+H27+I27+L27+M27+N27+O27+P27+Q27+T27+U27+V27+W27+X27+Y27+AB27+AC27+AD27+AE27+AF27+AG27 -> 19021.19 | AI27: 3678.82 | AK27: 2106.15 | AM27: 7794.15 | AO27: 3368.2 | AQ27: 6364.41 | AS27: 4537.26 | AU27: =2437.07-AV27 -> 1968.75 | AV27: 468.32 | AW27: 4382.98 | AY27: 13726.97 | BA27: 9143.25 | BC27: 15797.54 | BE27: 13884.24 | BG27: =AI27+AJ27+AK27+AL27+AM27+AN27+AO27+AP27+AQ27+AR27+AS27+AT27+AU27+AV27+AW27+AX27+AY27+AZ27+BA27+BB27+BC27+BD27+BE27+BF27 -> 87221.04 | BI27: 5697.58 | BR27: 551.93 | BT27: 9034.08 | CF27: =SUM(BI27:CE27) -> 15283.59 | CH27: 2807.98 | DF27: =CJ27+CK27+CL27+CM27+CN27+CO27+CP27+CQ27+CR27+CS27+CT27+CU27+CV27+CW27+CX27+CY27+CZ27+DA27+DB27+DC27+DD27+DE27+CI27+CH27 -> 2807.98 | DJ27: =(DH27+DI27)/$DH$69 -> 0 | DM27: =(DK27+DL27)/$DK$69 -> 0 | DP27: =(DN27+DO27)/$DN$69 -> 0 | EI27: =DK27+DL27+DN27+DO27+DQ27+DR27+DS27+DT27+DU27+DV27+DW27+DX27+DY27+DZ27+EA27+EB27+EC27+ED27+EE27+EF27+EG27+EH27+DI27+DH27 -> 0
A28: CITY HALL & OFFICES | B28: 4979.56 | D28: 3284.09 | F28: 2394 | H28: 1273.09 | J28: =D28+F28+H28 -> 6951.18 | K28: =E28+G28+I28 -> 0 | N28: 1812.6 | R28: =L28+N28+P28 -> 1812.6 | S28: =M28+O28+Q28 -> 0 | T28: 1128.6 | V28: 2599.2 | Z28: =T28+V28+X28 -> 3727.8 | AA28: =U28+W28+Y28 -> 0 | AD28: 1624.5 | AF28: 1504.8 | AH28: =D28+E28+F28+G28+H28+I28+L28+M28+N28+O28+P28+Q28+T28+U28+V28+W28+X28+Y28+AB28+AC28+AD28+AE28+AF28+AG28 -> 15620.88 | AI28: 2684.7 | AK28: 1666.36 | AO28: 4794.65 | AQ28: 2199.05 | AS28: 2631.65 | BG28: =AI28+AJ28+AK28+AL28+AM28+AN28+AO28+AP28+AQ28+AR28+AS28+AT28+AU28+AV28+AW28+AX28+AY28+AZ28+BA28+BB28+BC28+BD28+BE28+BF28 -> 13976.41 | CF28: =SUM(BI28:CE28) -> 0 | CH28: 651.95 | DF28: =CJ28+CK28+CL28+CM28+CN28+CO28+CP28+CQ28+CR28+CS28+CT28+CU28+CV28+CW28+CX28+CY28+CZ28+DA28+DB28+DC28+DD28+DE28+CI28+CH28 -> 651.95 | DJ28: =(DH28+DI28)/$DH$69 -> 0 | DM28: =(DK28+DL28)/$DK$69 -> 0 | DP28: =(DN28+DO28)/$DN$69 -> 0 | EI28: =DK28+DL28+DN28+DO28+DQ28+DR28+DS28+DT28+DU28+DV28+DW28+DX28+DY28+DZ28+EA28+EB28+EC28+ED28+EE28+EF28+EG28+EH28+DI28+DH28 -> 0
A29: COMMUNITY HALLS | B29: 121416.04 | D29: 12224.22 | F29: 14038.68 | H29: 12517.64 | J29: =D29+F29+H29 -> 38780.54 | K29: =E29+G29+I29 -> 0 | L29: 10972.54 | N29: 4879.23 | P29: 11976.69 | R29: =L29+N29+P29 -> 27828.46 | S29: =M29+O29+Q29 -> 0 | T29: 5391.67 | V29: 8241.06 | X29: 9691.99 | Z29: =T29+V29+X29 -> 23324.72 | AA29: =U29+W29+Y29 -> 0 | AD29: 5744.74 | AF29: 18328.8 | AH29: =D29+E29+F29+G29+H29+I29+L29+M29+N29+O29+P29+Q29+T29+U29+V29+W29+X29+Y29+AB29+AC29+AD29+AE29+AF29+AG29 -> 114007.26 | AI29: 16786.68 | AK29: 11502.06 | AM29: 13627.9 | AO29: 12627.72 | AQ29: 15539.55 | AS29: 16969.12 | AU29: =13907.92-AV29 -> 11792.69 | AV29: 2115.23 | AW29: 11531.57 | AY29: 13787.03 | BA29: 9664.16 | BC29: 12607.63 | BE29: 23948.47 | BG29: =AI29+AJ29+AK29+AL29+AM29+AN29+AO29+AP29+AQ29+AR29+AS29+AT29+AU29+AV29+AW29+AX29+AY29+AZ29+BA29+BB29+BC29+BD29+BE29+BF29 -> 172499.81 | BI29: 20921.18 | BR29: 2607 | BT29: 6270.71 | CF29: =SUM(BI29:CE29) -> 29798.89 | CH29: 12404.19 | DF29: =CJ29+CK29+CL29+CM29+CN29+CO29+CP29+CQ29+CR29+CS29+CT29+CU29+CV29+CW29+CX29+CY29+CZ29+DA29+DB29+DC29+DD29+DE29+CI29+CH29 -> 12404.19 | DJ29: =(DH29+DI29)/$DH$69 -> 0 | DM29: =(DK29+DL29)/$DK$69 -> 0 | DN29: 3314.85 | DP29: =(DN29+DO29)/$DN$69 -> 0.0044416059 | EI29: =DK29+DL29+DN29+DO29+DQ29+DR29+DS29+DT29+DU29+DV29+DW29+DX29+DY29+DZ29+EA29+EB29+EC29+ED29+EE29+EF29+EG29+EH29+DI29+DH29 -> 3314.85
A30: COUNCIL | B30: 27028.41 | J30: =D30+F30+H30 -> 0 | K30: =E30+G30+I30 -> 0 | L30: 6285.58 | R30: =L30+N30+P30 -> 6285.58 | S30: =M30+O30+Q30 -> 0 | Z30: =T30+V30+X30 -> 0 | AA30: =U30+W30+Y30 -> 0 | AD30: 5833.38 | AH30: =D30+E30+F30+G30+H30+I30+L30+M30+N30+O30+P30+Q30+T30+U30+V30+W30+X30+Y30+AB30+AC30+AD30+AE30+AF30+AG30 -> 12118.96 | AI30: 2984.52 | AK30: 728.94 | AM30: 7027.56 | AS30: 4245.81 | BA30: 11246.48 | BC30: 11615 | BE30: 10931.76 | BG30: =AI30+AJ30+AK30+AL30+AM30+AN30+AO30+AP30+AQ30+AR30+AS30+AT30+AU30+AV30+AW30+AX30+AY30+AZ30+BA30+BB30+BC30+BD30+BE30+BF30 -> 48780.07 | CF30: =SUM(BI30:CE30) -> 0 | DF30: =CJ30+CK30+CL30+CM30+CN30+CO30+CP30+CQ30+CR30+CS30+CT30+CU30+CV30+CW30+CX30+CY30+CZ30+DA30+DB30+DC30+DD30+DE30+CI30+CH30 -> 0 | DJ30: =(DH30+DI30)/$DH$69 -> 0 | DM30: =(DK30+DL30)/$DK$69 -> 0 | DP30: =(DN30+DO30)/$DN$69 -> 0 | EI30: =DK30+DL30+DN30+DO30+DQ30+DR30+DS30+DT30+DU30+DV30+DW30+DX30+DY30+DZ30+EA30+EB30+EC30+ED30+EE30+EF30+EG30+EH30+DI30+DH30 -> 0
A31: HUMAN RESOURCES | B31: 21582.5 | J31: =D31+F31+H31 -> 0 | K31: =E31+G31+I31 -> 0 | R31: =L31+N31+P31 -> 0 | S31: =M31+O31+Q31 -> 0 | Z31: =T31+V31+X31 -> 0 | AA31: =U31+W31+Y31 -> 0 | AH31: =D31+E31+F31+G31+H31+I31+L31+M31+N31+O31+P31+Q31+T31+U31+V31+W31+X31+Y31+AB31+AC31+AD31+AE31+AF31+AG31 -> 0 | BC31: 1680.84 | BE31: 2311.16 | BG31: =AI31+AJ31+AK31+AL31+AM31+AN31+AO31+AP31+AQ31+AR31+AS31+AT31+AU31+AV31+AW31+AX31+AY31+AZ31+BA31+BB31+BC31+BD31+BE31+BF31 -> 3992 | BI31: 1400.7 | CF31: =SUM(BI31:CE31) -> 1400.7 | DF31: =CJ31+CK31+CL31+CM31+CN31+CO31+CP31+CQ31+CR31+CS31+CT31+CU31+CV31+CW31+CX31+CY31+CZ31+DA31+DB31+DC31+DD31+DE31+CI31+CH31 -> 0 | DJ31: =(DH31+DI31)/$DH$69 -> 0 | DM31: =(DK31+DL31)/$DK$69 -> 0 | DP31: =(DN31+DO31)/$DN$69 -> 0 | EI31: =DK31+DL31+DN31+DO31+DQ31+DR31+DS31+DT31+DU31+DV31+DW31+DX31+DY31+DZ31+EA31+EB31+EC31+ED31+EE31+EF31+EG31+EH31+DI31+DH31 -> 0
A32: FINANCE ADMINISTRATION | B32: 743936 | D32: 22415.38 | F32: 8649.32 | H32: 21353.7 | J32: =D32+F32+H32 -> 52418.4 | K32: =E32+G32+I32 -> 0 | L32: 9029.51 | N32: 8617.64 | P32: 25429.14 | R32: =L32+N32+P32 -> 43076.29 | S32: =M32+O32+Q32 -> 0 | T32: 3599.05 | V32: 21132.9 | X32: 25130.57 | Z32: =T32+V32+X32 -> 49862.52 | AA32: =U32+W32+Y32 -> 0 | AB32: 2823.78 | AD32: 3087.66 | AF32: 2649.71 | AH32: =D32+E32+F32+G32+H32+I32+L32+M32+N32+O32+P32+Q32+T32+U32+V32+W32+X32+Y32+AB32+AC32+AD32+AE32+AF32+AG32 -> 153918.36 | AI32: 4324.82 | AK32: 3328.46 | AM32: 6888.84 | AO32: 3182 | AQ32: 3872.96 | AS32: 2733.39 | AU32: 2454.09 | AW32: 8129.92 | AY32: 4936.35 | BA32: 3872.96 | BC32: 5115.98 | BE32: 4964.52 | BG32: =AI32+AJ32+AK32+AL32+AM32+AN32+AO32+AP32+AQ32+AR32+AS32+AT32+AU32+AV32+AW32+AX32+AY32+AZ32+BA32+BB32+BC32+BD32+BE32+BF32 -> 53804.29 | BI32: 1839.63 | BR32: 3335.63 | BV32: =1601.1+711.6 -> 2312.7 | BZ32: 10120.45 | CF32: =SUM(BI32:CE32) -> 17608.41 | CL32: 853.29 | CP32: 4277.07 | CR32: 1072.3 | CV32: 4124.24 | CX32: 3934.62 | CZ32: 3507.97 | DB32: 1327.34 | DC32: 1422.15 | DD32: =[3]Sheet1!$D$168+[3]Sheet1!$F$168 -> 3602.78 | DF32: =CJ32+CK32+CL32+CM32+CN32+CO32+CP32+CQ32+CR32+CS32+CT32+CU32+CV32+CW32+CX32+CY32+CZ32+DA32+DB32+DC32+DD32+DE32+CI32+CH32 -> 24121.76 | DH32: 0 | DJ32: =(DH32+DI32)/$DH$69 -> 0 | DK32: 2929.65 | DM32: =(DK32+DL32)/$DK$69 -> 0.0047462454 | DN32: 3177.92 | DP32: =(DN32+DO32)/$DN$69 -> 0.0042581318 | EI32: =DK32+DL32+DN32+DO32+DQ32+DR32+DS32+DT32+DU32+DV32+DW32+DX32+DY32+DZ32+EA32+EB32+EC32+ED32+EE32+EF32+EG32+EH32+DI32+DH32 -> 6107.57
A33: STORES | B33: 59653.1 | D33: 855.5 | F33: 1521.89 | H33: 4118.76 | J33: =D33+F33+H33 -> 6496.15 | K33: =E33+G33+I33 -> 0 | L33: 2382.42 | N33: 4808.97 | P33: 3270.78 | R33: =L33+N33+P33 -> 10462.17 | S33: =M33+O33+Q33 -> 0 | T33: 5299.17 | Z33: =T33+V33+X33 -> 5299.17 | AA33: =U33+W33+Y33 -> 0 | AH33: =D33+E33+F33+G33+H33+I33+L33+M33+N33+O33+P33+Q33+T33+U33+V33+W33+X33+Y33+AB33+AC33+AD33+AE33+AF33+AG33 -> 22257.49 | BG33: =AI33+AJ33+AK33+AL33+AM33+AN33+AO33+AP33+AQ33+AR33+AS33+AT33+AU33+AV33+AW33+AX33+AY33+AZ33+BA33+BB33+BC33+BD33+BE33+BF33 -> 0 | CF33: =SUM(BI33:CE33) -> 0 | CH33: 406.31 | DF33: =CJ33+CK33+CL33+CM33+CN33+CO33+CP33+CQ33+CR33+CS33+CT33+CU33+CV33+CW33+CX33+CY33+CZ33+DA33+DB33+DC33+DD33+DE33+CI33+CH33 -> 406.31 | DJ33: =(DH33+DI33)/$DH$69 -> 0 | DM33: =(DK33+DL33)/$DK$69 -> 0 | DP33: =(DN33+DO33)/$DN$69 -> 0 | EI33: =DK33+DL33+DN33+DO33+DQ33+DR33+DS33+DT33+DU33+DV33+DW33+DX33+DY33+DZ33+EA33+EB33+EC33+ED33+EE33+EF33+EG33+EH33+DI33+DH33 -> 0
A34: ADMIN & SOCIAL DEVELOPMENT | B34: 2115.19 | J34: =D34+F34+H34 -> 0 | K34: =E34+G34+I34 -> 0 | R34: =L34+N34+P34 -> 0 | S34: =M34+O34+Q34 -> 0 | Z34: =T34+V34+X34 -> 0 | AA34: =U34+W34+Y34 -> 0 | AH34: =D34+E34+F34+G34+H34+I34+L34+M34+N34+O34+P34+Q34+T34+U34+V34+W34+X34+Y34+AB34+AC34+AD34+AE34+AF34+AG34 -> 0 | BG34: =AI34+AJ34+AK34+AL34+AM34+AN34+AO34+AP34+AQ34+AR34+AS34+AT34+AU34+AV34+AW34+AX34+AY34+AZ34+BA34+BB34+BC34+BD34+BE34+BF34 -> 0 | CF34: =SUM(BI34:CE34) -> 0 | DF34: =CJ34+CK34+CL34+CM34+CN34+CO34+CP34+CQ34+CR34+CS34+CT34+CU34+CV34+CW34+CX34+CY34+CZ34+DA34+DB34+DC34+DD34+DE34+CI34+CH34 -> 0 | DJ34: =(DH34+DI34)/$DH$69 -> 0 | DM34: =(DK34+DL34)/$DK$69 -> 0 | DP34: =(DN34+DO34)/$DN$69 -> 0 | EI34: =DK34+DL34+DN34+DO34+DQ34+DR34+DS34+DT34+DU34+DV34+DW34+DX34+DY34+DZ34+EA34+EB34+EC34+ED34+EE34+EF34+EG34+EH34+DI34+DH34 -> 0
A35: BOTANICAL GARDENS | BA35: 6220.2 | BC35: 18836.09 | BE35: 5092.98 | BG35: =AI35+AJ35+AK35+AL35+AM35+AN35+AO35+AP35+AQ35+AR35+AS35+AT35+AU35+AV35+AW35+AX35+AY35+AZ35+BA35+BB35+BC35+BD35+BE35+BF35 -> 30149.27 | BI35: 7610.2 | CF35: =SUM(BI35:CE35) -> 7610.2 | DF35: =CJ35+CK35+CL35+CM35+CN35+CO35+CP35+CQ35+CR35+CS35+CT35+CU35+CV35+CW35+CX35+CY35+CZ35+DA35+DB35+DC35+DD35+DE35+CI35+CH35 -> 0 | DJ35: =(DH35+DI35)/$DH$69 -> 0 | DM35: =(DK35+DL35)/$DK$69 -> 0 | DP35: =(DN35+DO35)/$DN$69 -> 0 | EI35: =DK35+DL35+DN35+DO35+DQ35+DR35+DS35+DT35+DU35+DV35+DW35+DX35+DY35+DZ35+EA35+EB35+EC35+ED35+EE35+EF35+EG35+EH35+DI35+DH35 -> 0
A36: CARAVAN PARK | B36: 19491.53 | D36: 2790.89 | H36: 4199.52 | J36: =D36+F36+H36 -> 6990.41 | K36: =E36+G36+I36 -> 0 | L36: 4038 | N36: 5895.48 | P36: 969.12 | R36: =L36+N36+P36 -> 10902.6 | S36: =M36+O36+Q36 -> 0 | V36: 2866.98 | X36: 4522.56 | Z36: =T36+V36+X36 -> 7389.54 | AA36: =U36+W36+Y36 -> 0 | AD36: 3876.48 | AF36: 4926.36 | AH36: =D36+E36+F36+G36+H36+I36+L36+M36+N36+O36+P36+Q36+T36+U36+V36+W36+X36+Y36+AB36+AC36+AD36+AE36+AF36+AG36 -> 34085.39 | AI36: 5572.44 | AK36: 5596.64 | AM36: 5788.16 | AO36: 5107.2 | AQ36: 5362.56 | AS36: 5788.16 | AU36: =6384-AV36 -> 5958.4 | AV36: 425.6 | AW36: 5617.92 | BG36: =AI36+AJ36+AK36+AL36+AM36+AN36+AO36+AP36+AQ36+AR36+AS36+AT36+AU36+AV36+AW36+AX36+AY36+AZ36+BA36+BB36+BC36+BD36+BE36+BF36 -> 45217.08 | CF36: =SUM(BI36:CE36) -> 0 | DF36: =CJ36+CK36+CL36+CM36+CN36+CO36+CP36+CQ36+CR36+CS36+CT36+CU36+CV36+CW36+CX36+CY36+CZ36+DA36+DB36+DC36+DD36+DE36+CI36+CH36 -> 0 | DJ36: =(DH36+DI36)/$DH$69 -> 0 | DM36: =(DK36+DL36)/$DK$69 -> 0 | DP36: =(DN36+DO36)/$DN$69 -> 0 | EI36: =DK36+DL36+DN36+DO36+DQ36+DR36+DS36+DT36+DU36+DV36+DW36+DX36+DY36+DZ36+EA36+EB36+EC36+ED36+EE36+EF36+EG36+EH36+DI36+DH36 -> 0
A37: CEMETERIES | B37: 52241.93 | D37: 8831.84 | F37: 9713.13 | H37: 8928.3 | J37: =D37+F37+H37 -> 27473.27 | K37: =E37+G37+I37 -> 0 | L37: 2534.03 | N37: 13945.8 | P37: 5746 | R37: =L37+N37+P37 -> 22225.83 | S37: =M37+O37+Q37 -> 0 | T37: 10324.68 | V37: 4957.88 | X37: 8542.28 | Z37: =T37+V37+X37 -> 23824.84 | AA37: =U37+W37+Y37 -> 0 | AD37: 10168.25 | AF37: 10136.15 | AH37: =D37+E37+F37+G37+H37+I37+L37+M37+N37+O37+P37+Q37+T37+U37+V37+W37+X37+Y37+AB37+AC37+AD37+AE37+AF37+AG37 -> 93828.34 | AI37: 8229.43 | AK37: 15280.76 | AM37: 10637.5 | AO37: 15036.65 | AQ37: 15840.24 | AS37: 14378.91 | AU37: =17343.98-AV37 -> 13180.98 | AV37: 4163 | AW37: 13903.81 | AY37: 6936.9 | BA37: 11751.86 | BC37: 9271.13 | BE37: 7416.9 | BG37: =AI37+AJ37+AK37+AL37+AM37+AN37+AO37+AP37+AQ37+AR37+AS37+AT37+AU37+AV37+AW37+AX37+AY37+AZ37+BA37+BB37+BC37+BD37+BE37+BF37 -> 146028.07 | BI37: 9271.13 | BP37: 2669.7 | CF37: =SUM(BI37:CE37) -> 11940.83 | CJ37: 1551.96 | CP37: 14757.23 | DF37: =CJ37+CK37+CL37+CM37+CN37+CO37+CP37+CQ37+CR37+CS37+CT37+CU37+CV37+CW37+CX37+CY37+CZ37+DA37+DB37+DC37+DD37+DE37+CI37+CH37 -> 16309.19 | DJ37: =(DH37+DI37)/$DH$69 -> 0 | DM37: =(DK37+DL37)/$DK$69 -> 0 | DN37: 699.45 | DP37: =(DN37+DO37)/$DN$69 -> 0.00093720115 | EI37: =DK37+DL37+DN37+DO37+DQ37+DR37+DS37+DT37+DU37+DV37+DW37+DX37+DY37+DZ37+EA37+EB37+EC37+ED37+EE37+EF37+EG37+EH37+DI37+DH37 -> 699.45
A38: COMMONAGE | B38: 138043.72 | D38: =11233.09+1502.88 -> 12735.97 | F38: =8126.75+1379.28 -> 9506.03 | H38: =10970.32+1379.28 -> 12349.6 | J38: =D38+F38+H38 -> 34591.6 | K38: =E38+G38+I38 -> 0 | L38: 4565.92 | N38: 1379.28 | P38: 3282.84 | R38: =L38+N38+P38 -> 9228.04 | S38: =M38+O38+Q38 -> 0 | T38: 5009.92 | V38: 4198.54 | X38: 8862 | Z38: =T38+V38+X38 -> 18070.46 | AA38: =U38+W38+Y38 -> 0 | AD38: 3182.2 | AH38: =D38+E38+F38+G38+H38+I38+L38+M38+N38+O38+P38+Q38+T38+U38+V38+W38+X38+Y38+AB38+AC38+AD38+AE38+AF38+AG38 -> 65072.3 | AI38: 13640.35 | AK38: 11791.58 | AO38: 12464.34 | AQ38: 9506.7 | AS38: 14541.73 | AU38: =18146.58-AV38 -> 15505.14 | AV38: 2641.44 | AW38: 20717.1 | AY38: 14773.01 | BA38: 12802.86 | BC38: 2854.08 | BE38: 1050.46 | BG38: =AI38+AJ38+AK38+AL38+AM38+AN38+AO38+AP38+AQ38+AR38+AS38+AT38+AU38+AV38+AW38+AX38+AY38+AZ38+BA38+BB38+BC38+BD38+BE38+BF38 -> 132288.79 | BI38: 4983.66 | BP38: 5298.48 | BT38: 1346.64 | BV38: =497.2+1325.92 -> 1823.12 | CF38: =SUM(BI38:CE38) -> 13451.9 | CJ38: 7916.6 | DF38: =CJ38+CK38+CL38+CM38+CN38+CO38+CP38+CQ38+CR38+CS38+CT38+CU38+CV38+CW38+CX38+CY38+CZ38+DA38+DB38+DC38+DD38+DE38+CI38+CH38 -> 7916.6 | DJ38: =(DH38+DI38)/$DH$69 -> 0 | DM38: =(DK38+DL38)/$DK$69 -> 0 | DN38: 1440.98 | DP38: =(DN38+DO38)/$DN$69 -> 0.0019307858 | EI38: =DK38+DL38+DN38+DO38+DQ38+DR38+DS38+DT38+DU38+DV38+DW38+DX38+DY38+DZ38+EA38+EB38+EC38+ED38+EE38+EF38+EG38+EH38+DI38+DH38 -> 1440.98
A39: DOMESTIC REFUSE | B39: 228742.97 | D39: =8716.6+5054.85 -> 13771.45 | F39: =9976.79+3008.4 -> 12985.19 | H39: =10042.66+5114.28 -> 15156.94 | J39: =D39+F39+H39 -> 41913.58 | K39: =E39+G39+I39 -> 0 | L39: 13635.62 | N39: 20249.12 | P39: 20370.73 | R39: =L39+N39+P39 -> 54255.47 | S39: =M39+O39+Q39 -> 0 | T39: 19837.43 | V39: 29657.7 | X39: 17049.88 | Z39: =T39+V39+X39 -> 66545.01 | AA39: =U39+W39+Y39 -> 0 | AD39: 12545 | AF39: 4584.53 | AH39: =D39+E39+F39+G39+H39+I39+L39+M39+N39+O39+P39+Q39+T39+U39+V39+W39+X39+Y39+AB39+AC39+AD39+AE39+AF39+AG39 -> 179843.59 | AK39: 12069.25 | AM39: 5890.28 | AO39: 9505.35 | AQ39: 7338.1 | AS39: 13903.99 | AU39: =14786.75-AV39 -> 11850.09 | AV39: 2936.66 | AW39: 12248.15 | AY39: 18745.82 | BA39: 23398.97 | BC39: 11271.61 | BE39: 23165.13 | BG39: =AI39+AJ39+AK39+AL39+AM39+AN39+AO39+AP39+AQ39+AR39+AS39+AT39+AU39+AV39+AW39+AX39+AY39+AZ39+BA39+BB39+BC39+BD39+BE39+BF39 -> 152323.4 | BI39: 24843.23 | BR39: 5347.32 | BT39: 6761.58 | BV39: =1092.15+4600.3 -> 5692.45 | CB39: 17518.38 | CD39: =2404.97 -> 2404.97 | CF39: =SUM(BI39:CE39) -> 62567.93 | CH39: 6214.72 | CJ39: 8805.85 | CL39: 5924.93 | CN39: 5607.05 | CP39: 7508.58 | CR39: 6181 | CV39: 11976.78 | CX39: 6541.42 | CZ39: 10794.09 | DB39: 7454.56 | DC39: 2265.66 | DD39: =[3]Sheet1!$D$173+[3]Sheet1!$F$173 -> 8827.88 | DF39: =CJ39+CK39+CL39+CM39+CN39+CO39+CP39+CQ39+CR39+CS39+CT39+CU39+CV39+CW39+CX39+CY39+CZ39+DA39+DB39+DC39+DD39+DE39+CI39+CH39 -> 88102.52 | DH39: 0 | DJ39: =(DH39+DI39)/$DH$69 -> 0 | DK39: 14350.78 | DM39: =(DK39+DL39)/$DK$69 -> 0.023249304 | DN39: 12133.01 | DP39: =(DN39+DO39)/$DN$69 -> 0.01625716 | EI39: =DK39+DL39+DN39+DO39+DQ39+DR39+DS39+DT39+DU39+DV39+DW39+DX39+DY39+DZ39+EA39+EB39+EC39+ED39+EE39+EF39+EG39+EH39+DI39+DH39 -> 26483.79
A40: PARKS ADMIN | B40: 32187.63 | J40: =D40+F40+H40 -> 0 | K40: =E40+G40+I40 -> 0 | P40: 4451.82 | R40: =L40+N40+P40 -> 4451.82 | S40: =M40+O40+Q40 -> 0 | T40: 13379.94 | Z40: =T40+V40+X40 -> 13379.94 | AA40: =U40+W40+Y40 -> 0 | AF40: 8125.44 | AH40: =D40+E40+F40+G40+H40+I40+L40+M40+N40+O40+P40+Q40+T40+U40+V40+W40+X40+Y40+AB40+AC40+AD40+AE40+AF40+AG40 -> 25957.2 | AI40: 7948.8 | AK40: 20233.53 | AM40: 10485.75 | AO40: 26626.63 | AQ40: 28133.03 | AS40: 29569.62 | AU40: =34126.06-AV40 -> 27794.32 | AV40: 6331.74 | AW40: 17521.08 | AY40: 17883.58 | BA40: 14983.54 | BC40: 4045.95 | BE40: 3236.76 | BG40: =AI40+AJ40+AK40+AL40+AM40+AN40+AO40+AP40+AQ40+AR40+AS40+AT40+AU40+AV40+AW40+AX40+AY40+AZ40+BA40+BB40+BC40+BD40+BE40+BF40 -> 214794.33 | BI40: 4165.83 | BP40: 3194.64 | CF40: =SUM(BI40:CE40) -> 7360.47 | CJ40: 2836.94 | CP40: 6483.24 | DF40: =CJ40+CK40+CL40+CM40+CN40+CO40+CP40+CQ40+CR40+CS40+CT40+CU40+CV40+CW40+CX40+CY40+CZ40+DA40+DB40+DC40+DD40+DE40+CI40+CH40 -> 9320.18 | DJ40: =(DH40+DI40)/$DH$69 -> 0 | DM40: =(DK40+DL40)/$DK$69 -> 0 | DN40: 1618.04 | DP40: =(DN40+DO40)/$DN$69 -> 0.0021680305 | EI40: =DK40+DL40+DN40+DO40+DQ40+DR40+DS40+DT40+DU40+DV40+DW40+DX40+DY40+DZ40+EA40+EB40+EC40+ED40+EE40+EF40+EG40+EH40+DI40+DH40 -> 1618.04
A41: PARKS TRANSPORT | B41: 59667.08 | D41: 6020.45 | F41: 6666.16 | H41: 8150.89 | J41: =D41+F41+H41 -> 20837.5 | K41: =E41+G41+I41 -> 0 | L41: 4998.5 | N41: 11883.51 | P41: 10394.53 | R41: =L41+N41+P41 -> 27276.54 | S41: =M41+O41+Q41 -> 0 | X41: 10679.72 | Z41: =T41+V41+X41 -> 10679.72 | AA41: =U41+W41+Y41 -> 0 | AD41: 16181.37 | AF41: 14393.76 | AH41: =D41+E41+F41+G41+H41+I41+L41+M41+N41+O41+P41+Q41+T41+U41+V41+W41+X41+Y41+AB41+AC41+AD41+AE41+AF41+AG41 -> 89368.89 | AI41: 13642.78 | AK41: 14453.99 | AM41: 11953.72 | AO41: 16464.92 | AQ41: 16710.04 | AS41: 8533.46 | AU41: =9176.77-AV41 -> 8556.89 | AV41: 619.88 | AW41: 1606.68 | BC41: 1725.29 | BE41: 4577.3 | BG41: =AI41+AJ41+AK41+AL41+AM41+AN41+AO41+AP41+AQ41+AR41+AS41+AT41+AU41+AV41+AW41+AX41+AY41+AZ41+BA41+BB41+BC41+BD41+BE41+BF41 -> 98844.95 | BI41: 3732.26 | CF41: =SUM(BI41:CE41) -> 3732.26 | DF41: =CJ41+CK41+CL41+CM41+CN41+CO41+CP41+CQ41+CR41+CS41+CT41+CU41+CV41+CW41+CX41+CY41+CZ41+DA41+DB41+DC41+DD41+DE41+CI41+CH41 -> 0 | DJ41: =(DH41+DI41)/$DH$69 -> 0 | DM41: =(DK41+DL41)/$DK$69 -> 0 | DP41: =(DN41+DO41)/$DN$69 -> 0 | EI41: =DK41+DL41+DN41+DO41+DQ41+DR41+DS41+DT41+DU41+DV41+DW41+DX41+DY41+DZ41+EA41+EB41+EC41+ED41+EE41+EF41+EG41+EH41+DI41+DH41 -> 0
A42: FIRE CONTROL | B42: 1135081.5 | D42: =120914.42-21121.2-39360 -> 60433.22 | E42: =39360+21121.2 -> 60481.2 | F42: =94726.69-1383.12-44672.76 -> 48670.81 | G42: =44672.76+1383.123 -> 46055.883 | H42: =119243.53-I42 -> 60850.81 | I42: =18300.72+40092 -> 58392.72 | J42: =D42+F42+H42 -> 169954.84 | K42: =E42+G42+I42 -> 164929.8 | L42: =111061.51-M42 -> 54024.43 | M42: 57037.08 | N42: =63841.72-O42 -> 18606.4 | O42: 45235.32 | P42: =71216.02-Q42 -> 35782.54 | Q42: 35433.48 | R42: =L42+N42+P42 -> 108413.37 | S42: =M42+O42+Q42 -> 137705.88 | T42: =161425.02-U42 -> 46694.58 | U42: 114730.44 | V42: =85700.8-W42 -> 16937.68 | W42: =27263.16+41499.96 -> 68763.12 | X42: =78632.42-Y42 -> 38202.74 | Y42: 40429.68 | Z42: =T42+V42+X42 -> 101835 | AA42: =U42+W42+Y42 -> 223923.24 | AB42: =85348.01-AC42 -> 26139.54 | AC42: =17624.16+41584.31 -> 59208.47 | AD42: 27184.3 | AE42: 121153.1 | AF42: =69290.39-AG42 -> 16731.71 | AG42: =12301.92+40256.76 -> 52558.68 | AH42: =D42+E42+F42+G42+H42+I42+L42+M42+N42+O42+P42+Q42+T42+U42+V42+W42+X42+Y42+AB42+AC42+AD42+AE42+AF42+AG42 -> 1209737.9 | AI42: =139712.98-AJ42 -> 78693.22 | AJ42: =23083.44+37936.32 -> 61019.76 | AK42: =85006.81-AL42 -> 28752.55 | AL42: 56254.26 | AM42: =34756.11 -> 34756.11 | AN42: =101072.43-AM42 -> 66316.32 | AO42: =100727.44-AP42 -> 33443.8 | AP42: =26986.8+40296.84 -> 67283.64 | AQ42: =69982.45-AR42 -> 18988.09 | AR42: 50994.36 | AS42: =79544.01-AT42 -> 32952.09 | AT42: 46591.92 | AU42: =178655.44-AV42 -> 39740.04 | AV42: =46215.4+92700 -> 138915.4 | AW42: =66420.48-AX42 -> 18854.52 | AX42: =40165.32+7400.64 -> 47565.96 | AY42: =89870.69-AZ42 -> 46884.77 | AZ42: 42985.92 | BA42: =114870.16-BB42 -> 18581.92 | BB42: 96288.24 | BC42: =115732.14-BD42 -> 26137.38 | BD42: =43423.32+46171.44 -> 89594.76 | BE42: =91313.95-BF42 -> 20615.47 | BF42: =39817.08+30881.4 -> 70698.48 | BG42: =AI42+AJ42+AK42+AL42+AM42+AN42+AO42+AP42+AQ42+AR42+AS42+AT42+AU42+AV42+AW42+AX42+AY42+AZ42+BA42+BB42+BC42+BD42+BE42+BF42 -> 1232909 | BI42: =99637.76-BJ42 -> 20326.88 | BJ42: =32292.84+47018.04 -> 79310.88 | BL42: 41491.68 | BN42: 75280.03 | BO42: 78580.52 | BP42: 17341.43 | BQ42: 41723.76 | BR42: =61123.08-BS42 -> 16754.28 | BS42: 44368.8 | BT42: =107216.43-BU42 -> 10011.15 | BU42: 97205.28 | BV42: =54271.51 -> 54271.51 | BW42: =41750.16+17249.64 -> 58999.8 | BX42: =61594.68-BY42 -> 20581.56 | BY42: 41013.12 | BZ42: 15650.09 | CA42: 73879.36 | CB42: 20018.15 | CC42: =131573.21-CB42 -> 111555.06 | CD42: =81816.12-CE42 -> 20033.28 | CE42: =49177.08+12605.76 -> 61782.84 | CF42: =SUM(BI42:CE42) -> 1000179.5 | CH42: =94049.32-CI42 -> 21202.44 | CI42: 72846.88 | CJ42: 19038.24 | CL42: =112509.88-CM42 -> 23295.58 | CM42: =59965.62+29248.68 -> 89214.3 | CN42: 17146.79 | CP42: 30877.06 | CR42: 29169.16 | CS42: 58776.12 | CU42: 58776.12 | CV42: 36168.84 | CX42: 22050.84 | CZ42: 27928.68 | DA42: 21549.84 | DC42: 23233.44 | DD42: 31030.77 | DE42: =[3]Sheet1!$O$212+[3]Sheet1!$Q$212 -> 1181.83 | DF42: =CJ42+CK42+CL42+CM42+CN42+CO42+CP42+CQ42+CR42+CS42+CT42+CU42+CV42+CW42+CX42+CY42+CZ42+DA42+DB42+DC42+DD42+DE42+CI42+CH42 -> 583486.93 | DH42: 51335.4 | DI42: 28850.52 | DJ42: =(DH42+DI42)/$DH$69 -> 0.54456721 | DK42: 34925.01 | DL42: 48184.38 | DM42: =(DK42+DL42)/$DK$69 -> 0.13464324 | DN42: 33267.66 | DO42: =133649.34-DN42 -> 100381.68 | DP42: =(DN42+DO42)/$DN$69 -> 0.1790783 | EI42: =DK42+DL42+DN42+DO42+DQ42+DR42+DS42+DT42+DU42+DV42+DW42+DX42+DY42+DZ42+EA42+EB42+EC42+ED42+EE42+EF42+EG42+EH42+DI42+DH42 -> 296944.65
A43: LIBRARY | B43: 0 | J43: =D43+F43+H43 -> 0 | K43: =E43+G43+I43 -> 0 | R43: =L43+N43+P43 -> 0 | S43: =M43+O43+Q43 -> 0 | Z43: =T43+V43+X43 -> 0 | AA43: =U43+W43+Y43 -> 0 | AH43: =D43+E43+F43+G43+H43+I43+L43+M43+N43+O43+P43+Q43+T43+U43+V43+W43+X43+Y43+AB43+AC43+AD43+AE43+AF43+AG43 -> 0 | BG43: =AI43+AJ43+AK43+AL43+AM43+AN43+AO43+AP43+AQ43+AR43+AS43+AT43+AU43+AV43+AW43+AX43+AY43+AZ43+BA43+BB43+BC43+BD43+BE43+BF43 -> 0 | CF43: =SUM(BI43:CE43) -> 0 | DF43: =CJ43+CK43+CL43+CM43+CN43+CO43+CP43+CQ43+CR43+CS43+CT43+CU43+CV43+CW43+CX43+CY43+CZ43+DA43+DB43+DC43+DD43+DE43+CI43+CH43 -> 0 | DJ43: =(DH43+DI43)/$DH$69 -> 0 | DM43: =(DK43+DL43)/$DK$69 -> 0 | DP43: =(DN43+DO43)/$DN$69 -> 0 | EI43: =DK43+DL43+DN43+DO43+DQ43+DR43+DS43+DT43+DU43+DV43+DW43+DX43+DY43+DZ43+EA43+EB43+EC43+ED43+EE43+EF43+EG43+EH43+DI43+DH43 -> 0
A44: REFUSE SITE | B44: 20358.33 | J44: =D44+F44+H44 -> 0 | K44: =E44+G44+I44 -> 0 | R44: =L44+N44+P44 -> 0 | S44: =M44+O44+Q44 -> 0 | Z44: =T44+V44+X44 -> 0 | AA44: =U44+W44+Y44 -> 0 | AH44: =D44+E44+F44+G44+H44+I44+L44+M44+N44+O44+P44+Q44+T44+U44+V44+W44+X44+Y44+AB44+AC44+AD44+AE44+AF44+AG44 -> 0 | BG44: =AI44+AJ44+AK44+AL44+AM44+AN44+AO44+AP44+AQ44+AR44+AS44+AT44+AU44+AV44+AW44+AX44+AY44+AZ44+BA44+BB44+BC44+BD44+BE44+BF44 -> 0 | CF44: =SUM(BI44:CE44) -> 0 | DF44: =CJ44+CK44+CL44+CM44+CN44+CO44+CP44+CQ44+CR44+CS44+CT44+CU44+CV44+CW44+CX44+CY44+CZ44+DA44+DB44+DC44+DD44+DE44+CI44+CH44 -> 0 | DJ44: =(DH44+DI44)/$DH$69 -> 0 | DK44: 2212.84 | DM44: =(DK44+DL44)/$DK$69 -> 0.0035849612 | DP44: =(DN44+DO44)/$DN$69 -> 0 | EI44: =DK44+DL44+DN44+DO44+DQ44+DR44+DS44+DT44+DU44+DV44+DW44+DX44+DY44+DZ44+EA44+EB44+EC44+ED44+EE44+EF44+EG44+EH44+DI44+DH44 -> 2212.84
A45: ROADWORTHY | B45: 0 | J45: =D45+F45+H45 -> 0 | K45: =E45+G45+I45 -> 0 | R45: =L45+N45+P45 -> 0 | S45: =M45+O45+Q45 -> 0 | Z45: =T45+V45+X45 -> 0 | AA45: =U45+W45+Y45 -> 0 | AH45: =D45+E45+F45+G45+H45+I45+L45+M45+N45+O45+P45+Q45+T45+U45+V45+W45+X45+Y45+AB45+AC45+AD45+AE45+AF45+AG45 -> 0 | AI45: 2261.28 | BG45: =AI45+AJ45+AK45+AL45+AM45+AN45+AO45+AP45+AQ45+AR45+AS45+AT45+AU45+AV45+AW45+AX45+AY45+AZ45+BA45+BB45+BC45+BD45+BE45+BF45 -> 2261.28 | CF45: =SUM(BI45:CE45) -> 0 | DF45: =CJ45+CK45+CL45+CM45+CN45+CO45+CP45+CQ45+CR45+CS45+CT45+CU45+CV45+CW45+CX45+CY45+CZ45+DA45+DB45+DC45+DD45+DE45+CI45+CH45 -> 0 | DJ45: =(DH45+DI45)/$DH$69 -> 0 | DM45: =(DK45+DL45)/$DK$69 -> 0 | DP45: =(DN45+DO45)/$DN$69 -> 0 | EI45: =DK45+DL45+DN45+DO45+DQ45+DR45+DS45+DT45+DU45+DV45+DW45+DX45+DY45+DZ45+EA45+EB45+EC45+ED45+EE45+EF45+EG45+EH45+DI45+DH45 -> 0
A46: LIBRARY | B46: 118307.14 | D46: =846.89+891.66+3635.6+3111.29 -> 8485.44 | F46: =1334.9+5395.74 -> 6730.64 | J46: =D46+F46+H46 -> 15216.08 | K46: =E46+G46+I46 -> 0 | R46: =L46+N46+P46 -> 0 | S46: =M46+O46+Q46 -> 0 | Z46: =T46+V46+X46 -> 0 | AA46: =U46+W46+Y46 -> 0 | AH46: =D46+E46+F46+G46+H46+I46+L46+M46+N46+O46+P46+Q46+T46+U46+V46+W46+X46+Y46+AB46+AC46+AD46+AE46+AF46+AG46 -> 15216.08 | AM46: 2595.6 | AY46: 2147.93 | BA46: 6556.9 | BC46: =680.96+12011.61 -> 12692.57 | BE46: 2814.01 | BG46: =AI46+AJ46+AK46+AL46+AM46+AN46+AO46+AP46+AQ46+AR46+AS46+AT46+AU46+AV46+AW46+AX46+AY46+AZ46+BA46+BB46+BC46+BD46+BE46+BF46 -> 26807.01 | CF46: =SUM(BI46:CE46) -> 0 | DF46: =CJ46+CK46+CL46+CM46+CN46+CO46+CP46+CQ46+CR46+CS46+CT46+CU46+CV46+CW46+CX46+CY46+CZ46+DA46+DB46+DC46+DD46+DE46+CI46+CH46 -> 0 | DJ46: =(DH46+DI46)/$DH$69 -> 0 | DM46: =(DK46+DL46)/$DK$69 -> 0 | DP46: =(DN46+DO46)/$DN$69 -> 0 | EI46: =DK46+DL46+DN46+DO46+DQ46+DR46+DS46+DT46+DU46+DV46+DW46+DX46+DY46+DZ46+EA46+EB46+EC46+ED46+EE46+EF46+EG46+EH46+DI46+DH46 -> 0
A47: PUBLIC HEALTH | B47: 25988.67 | D47: 3912.6 | F47: 3695.18 | H47: 410.4 | J47: =D47+F47+H47 -> 8018.18 | K47: =E47+G47+I47 -> 0 | L47: 1187.7 | P47: 513 | R47: =L47+N47+P47 -> 1700.7 | S47: =M47+O47+Q47 -> 0 | T47: 2574.45 | V47: 2431.43 | X47: 858.15 | Z47: =T47+V47+X47 -> 5864.03 | AA47: =U47+W47+Y47 -> 0 | AH47: =D47+E47+F47+G47+H47+I47+L47+M47+N47+O47+P47+Q47+T47+U47+V47+W47+X47+Y47+AB47+AC47+AD47+AE47+AF47+AG47 -> 15582.91 | AU47: =1130.63-AV47 -> 527.63 | AV47: 603 | AW47: 5009.75 | AY47: 2018.8 | BA47: 6715.03 | BC47: 2235.05 | BE47: 6766.35 | BG47: =AI47+AJ47+AK47+AL47+AM47+AN47+AO47+AP47+AQ47+AR47+AS47+AT47+AU47+AV47+AW47+AX47+AY47+AZ47+BA47+BB47+BC47+BD47+BE47+BF47 -> 23875.61 | BI47: 6233.78 | BT47: 1527.35 | BV47: =630.12+2283.04 -> 2913.16 | CF47: =SUM(BI47:CE47) -> 10674.29 | DF47: =CJ47+CK47+CL47+CM47+CN47+CO47+CP47+CQ47+CR47+CS47+CT47+CU47+CV47+CW47+CX47+CY47+CZ47+DA47+DB47+DC47+DD47+DE47+CI47+CH47 -> 0 | DJ47: =(DH47+DI47)/$DH$69 -> 0 | DM47: =(DK47+DL47)/$DK$69 -> 0 | DP47: =(DN47+DO47)/$DN$69 -> 0 | EI47: =DK47+DL47+DN47+DO47+DQ47+DR47+DS47+DT47+DU47+DV47+DW47+DX47+DY47+DZ47+EA47+EB47+EC47+ED47+EE47+EF47+EG47+EH47+DI47+DH47 -> 0
A48: NURSERY | B48: 46877.72 | D48: 3821.4 | F48: 4192.33 | H48: 2806.02 | J48: =D48+F48+H48 -> 10819.75 | K48: =E48+G48+I48 -> 0 | L48: 2655.7 | N48: 534.48 | P48: 2204.73 | R48: =L48+N48+P48 -> 5394.91 | S48: =M48+O48+Q48 -> 0 | T48: 5485.9 | V48: 842.6 | X48: 300.65 | Z48: =T48+V48+X48 -> 6629.15 | AA48: =U48+W48+Y48 -> 0 | AH48: =D48+E48+F48+G48+H48+I48+L48+M48+N48+O48+P48+Q48+T48+U48+V48+W48+X48+Y48+AB48+AC48+AD48+AE48+AF48+AG48 -> 22843.81 | AS48: 3168.9 | AU48: =6337.81-AV48 -> 4647.73 | AV48: 1690.08 | AW48: 6936.37 | AY48: 6232.17 | BA48: 8732.08 | BC48: 3098.48 | BE48: 3468.19 | BG48: =AI48+AJ48+AK48+AL48+AM48+AN48+AO48+AP48+AQ48+AR48+AS48+AT48+AU48+AV48+AW48+AX48+AY48+AZ48+BA48+BB48+BC48+BD48+BE48+BF48 -> 37974 | BI48: 4426.72 | BT48: 2226.1 | BV48: =441.54+1177.44 -> 1618.98 | CF48: =SUM(BI48:CE48) -> 8271.8 | DF48: =CJ48+CK48+CL48+CM48+CN48+CO48+CP48+CQ48+CR48+CS48+CT48+CU48+CV48+CW48+CX48+CY48+CZ48+DA48+DB48+DC48+DD48+DE48+CI48+CH48 -> 0 | DJ48: =(DH48+DI48)/$DH$69 -> 0 | DM48: =(DK48+DL48)/$DK$69 -> 0 | DP48: =(DN48+DO48)/$DN$69 -> 0 | EI48: =DK48+DL48+DN48+DO48+DQ48+DR48+DS48+DT48+DU48+DV48+DW48+DX48+DY48+DZ48+EA48+EB48+EC48+ED48+EE48+EF48+EG48+EH48+DI48+DH48 -> 0
A49: SANITATION GENERAL | B49: 693799.7 | D49: 66986.1 | F49: 73492.74 | H49: 44136.71 | J49: =D49+F49+H49 -> 184615.55 | K49: =E49+G49+I49 -> 0 | L49: 40637.75 | N49: 37028.27 | P49: 50555.3 | R49: =L49+N49+P49 -> 128221.32 | S49: =M49+O49+Q49 -> 0 | T49: 53163.23 | V49: 61827.95 | X49: 43743.21 | Z49: =T49+V49+X49 -> 158734.39 | AA49: =U49+W49+Y49 -> 0 | AD49: 12316.89 | AF49: 13124.29 | AH49: =D49+E49+F49+G49+H49+I49+L49+M49+N49+O49+P49+Q49+T49+U49+V49+W49+X49+Y49+AB49+AC49+AD49+AE49+AF49+AG49 -> 497012.44 | AI49: 12565.38 | AK49: 17597.52 | AM49: 11877.22 | AO49: 12007.89 | AQ49: 12175.28 | AS49: 16259.24 | AU49: =28011.1-AV49 -> 21012.69 | AV49: 6998.41 | AW49: 55372.33 | AY49: 42612.84 | BC49: 61748.81 | BE49: 94319.07 | BG49: =AI49+AJ49+AK49+AL49+AM49+AN49+AO49+AP49+AQ49+AR49+AS49+AT49+AU49+AV49+AW49+AX49+AY49+AZ49+BA49+BB49+BC49+BD49+BE49+BF49 -> 364546.68 | BI49: 101977.93 | BT49: 38717.75 | BV49: =6707.22+27071.36 -> 33778.58 | BX49: 1956.9 | CF49: =SUM(BI49:CE49) -> 176431.16 | CH49: 5470.19 | CJ49: 12237.51 | DF49: =CJ49+CK49+CL49+CM49+CN49+CO49+CP49+CQ49+CR49+CS49+CT49+CU49+CV49+CW49+CX49+CY49+CZ49+DA49+DB49+DC49+DD49+DE49+CI49+CH49 -> 17707.7 | DJ49: =(DH49+DI49)/$DH$69 -> 0 | DK49: 948.36 | DM49: =(DK49+DL49)/$DK$69 -> 0.0015364119 | DP49: =(DN49+DO49)/$DN$69 -> 0 | EI49: =DK49+DL49+DN49+DO49+DQ49+DR49+DS49+DT49+DU49+DV49+DW49+DX49+DY49+DZ49+EA49+EB49+EC49+ED49+EE49+EF49+EG49+EH49+DI49+DH49 -> 948.36
A50: TRAFFIC | B50: 279993.96 | D50: =92972.85+2925.62-5482 -> 90416.47 | E50: 5482 | F50: =50634.52-3753.4 -> 46881.12 | G50: 3753.4 | H50: =34623.3-I50 -> 31314.98 | I50: =272.14+3036.18 -> 3308.32 | J50: =D50+F50+H50 -> 168612.57 | K50: =E50+G50+I50 -> 12543.72 | L50: =32493.7-M50 -> 28718.74 | M50: 3774.96 | N50: =30760.8-O50 -> 28820.09 | O50: 1940.71 | P50: =32040.61-Q50 -> 30114.45 | Q50: 1926.16 | R50: =L50+N50+P50 -> 87653.28 | S50: =M50+O50+Q50 -> 7641.83 | T50: =25323.85-U50 -> 23902.35 | U50: 1421.5 | V50: =19058.58-W50 -> 18312.63 | W50: 745.95 | X50: =25376.84-Y50 -> 24194.87 | Y50: 1181.97 | Z50: =T50+V50+X50 -> 66409.85 | AA50: =U50+W50+Y50 -> 3349.42 | AD50: 26109.91 | AF50: =13869.96-AG50 -> 13208.85 | AG50: 661.11 | AH50: =D50+E50+F50+G50+H50+I50+L50+M50+N50+O50+P50+Q50+T50+U50+V50+W50+X50+Y50+AB50+AC50+AD50+AE50+AF50+AG50 -> 386190.54 | AI50: =90638.59-AJ50 -> 84099.38 | AJ50: 6539.21 | AK50: =63543.49-AL50 -> 59119.56 | AL50: 4423.93 | AM50: =25137.58+15315.12 -> 40452.7 | AN50: =43853.27-AM50 -> 3400.57 | AO50: =38750.43-AP50 -> 37223.58 | AP50: 1526.85 | AQ50: =52009.48-AR50+6429.66 -> 52569.49 | AR50: =652.3+5217.35 -> 5869.65 | AS50: =48568.67-AT50+7035.47 -> 51238.33 | AT50: =652.3+3713.51 -> 4365.81 | AU50: =71894.38-AV50 -> 61214.33 | AV50: =2290.31+8389.74 -> 10680.05 | AW50: =42264.61-AX50+4398.27 -> 42600.49 | AX50: =3736.24+326.15 -> 4062.39 | AY50: =53047.15-AZ50+8870.6 -> 56896.03 | AZ50: 5021.72 | BA50: =77864.72-BB50 -> 72679.74 | BB50: 5184.98 | BC50: =71547.27-BD50 -> 64527.14 | BD50: =2571.25+4448.88 -> 7020.13 | BE50: =40212.8-BF50 -> 36211.01 | BF50: 4001.79 | BG50: =AI50+AJ50+AK50+AL50+AM50+AN50+AO50+AP50+AQ50+AR50+AS50+AT50+AU50+AV50+AW50+AX50+AY50+AZ50+BA50+BB50+BC50+BD50+BE50+BF50 -> 720928.86 | BI50: =122466.76-BJ50 -> 110461.97 | BJ50: =843.91+11160.88 -> 12004.79 | BK50: =883.59-BL50 -> 9.39 | BL50: 874.2 | BO50: 10260.83 | BR50: 6822.83 | BW50: 321.86 | CA50: 160.11 | CB50: 245.01 | CC50: 326.68 | CF50: =SUM(BI50:CE50) -> 141487.67 | CH50: =25392.5-CI50 -> 24024.56 | CI50: 1367.94 | CJ50: 34389.91 | CL50: =7053.31-CM50 -> 6538.69 | CM50: 514.62 | CN50: 11153.66 | CP50: =3980.89 -> 3980.89 | CR50: 4265.03 | CS50: 242.48 | CU50: 242.48 | CV50: 1667.64 | CX50: 1153.05 | CZ50: 1920 | DB50: 2034.06 | DC50: 871.74 | DD50: 2236.94 | DF50: =CJ50+CK50+CL50+CM50+CN50+CO50+CP50+CQ50+CR50+CS50+CT50+CU50+CV50+CW50+CX50+CY50+CZ50+DA50+DB50+DC50+DD50+DE50+CI50+CH50 -> 96603.69 | DH50: 1135.18 | DJ50: =(DH50+DI50)/$DH$69 -> 0.007709356 | DK50: 43802.78 | DL50: 2293.12 | DM50: =(DK50+DL50)/$DK$69 -> 0.0746787 | DN50: 2640.22 | DP50: =(DN50+DO50)/$DN$69 -> 0.0035376613 | EI50: =DK50+DL50+DN50+DO50+DQ50+DR50+DS50+DT50+DU50+DV50+DW50+DX50+DY50+DZ50+EA50+EB50+EC50+ED50+EE50+EF50+EG50+EH50+DI50+DH50 -> 49871.3
A51: SPORTS GROUNDS | B51: 291752.19 | D51: 24015.35 | F51: 23880.02 | H51: 19902.22 | J51: =D51+F51+H51 -> 67797.59 | K51: =E51+G51+I51 -> 0 | L51: 26512.47 | N51: 26908.5 | P51: 19247.09 | R51: =L51+N51+P51 -> 72668.06 | S51: =M51+O51+Q51 -> 0 | T51: 14780.46 | V51: 13957.93 | X51: 23690.44 | Z51: =T51+V51+X51 -> 52428.83 | AA51: =U51+W51+Y51 -> 0 | AB51: 668.1 | AD51: 26833.76 | AF51: 24144.7 | AH51: =D51+E51+F51+G51+H51+I51+L51+M51+N51+O51+P51+Q51+T51+U51+V51+W51+X51+Y51+AB51+AC51+AD51+AE51+AF51+AG51 -> 244541.04 | AI51: 21521.87 | AK51: 27994.95 | AM51: 24203.62 | AO51: 26895.81 | AQ51: 19299.61 | AS51: 36743.76 | AU51: =35998.53-AV51 -> 32162.23 | AV51: 3836.3 | AW51: 26585.15 | AY51: 62169.98 | BA51: 57200.28 | BC51: 57875.09 | BE51: 49967 | BG51: =AI51+AJ51+AK51+AL51+AM51+AN51+AO51+AP51+AQ51+AR51+AS51+AT51+AU51+AV51+AW51+AX51+AY51+AZ51+BA51+BB51+BC51+BD51+BE51+BF51 -> 446455.65 | BI51: 39035.06 | BP51: 25923.61 | BT51: 20134.39 | BZ51: 10921.86 | CD51: 32676.3 | CF51: =SUM(BI51:CE51) -> 128691.22 | CP51: 35714.49 | DF51: =CJ51+CK51+CL51+CM51+CN51+CO51+CP51+CQ51+CR51+CS51+CT51+CU51+CV51+CW51+CX51+CY51+CZ51+DA51+DB51+DC51+DD51+DE51+CI51+CH51 -> 35714.49 | DJ51: =(DH51+DI51)/$DH$69 -> 0 | DM51: =(DK51+DL51)/$DK$69 -> 0 | DN51: 1365.9 | DP51: =(DN51+DO51)/$DN$69 -> 0.0018301852 | EI51: =DK51+DL51+DN51+DO51+DQ51+DR51+DS51+DT51+DU51+DV51+DW51+DX51+DY51+DZ51+EA51+EB51+EC51+ED51+EE51+EF51+EG51+EH51+DI51+DH51 -> 1365.9
A52: STR ISLANDS & VERGES | B52: 569061.46 | D52: 43769.53 | F52: 32741.22 | H52: 45746.18 | J52: =D52+F52+H52 -> 122256.93 | K52: =E52+G52+I52 -> 0 | L52: 70854.67 | N52: 75974.37 | P52: 41999.12 | R52: =L52+N52+P52 -> 188828.16 | S52: =M52+O52+Q52 -> 0 | T52: 22337.45 | V52: 32426.88 | X52: 69566.19 | Z52: =T52+V52+X52 -> 124330.52 | AA52: =U52+W52+Y52 -> 0 | AD52: 53166.38 | AF52: 78313.17 | AH52: =D52+E52+F52+G52+H52+I52+L52+M52+N52+O52+P52+Q52+T52+U52+V52+W52+X52+Y52+AB52+AC52+AD52+AE52+AF52+AG52 -> 566895.16 | AI52: 44365.71 | AK52: 75573.8 | AM52: 104624.61 | AO52: 99868.49 | AQ52: 63674.3 | AS52: 83805.94 | AU52: =58357.42-AV52 -> 53360.75 | AV52: 4996.67 | AW52: 95146.15 | AY52: 43161 | BA52: 52950.88 | BC52: 60059.24 | BE52: 76928.42 | BG52: =AI52+AJ52+AK52+AL52+AM52+AN52+AO52+AP52+AQ52+AR52+AS52+AT52+AU52+AV52+AW52+AX52+AY52+AZ52+BA52+BB52+BC52+BD52+BE52+BF52 -> 858515.96 | BI52: 75295.35 | BO52: 4002.24 | BP52: 34466.87 | BT52: 5115.28 | BV52: =1014.6+2705.6 -> 3720.2 | BZ52: 369.5 | CF52: =SUM(BI52:CE52) -> 122969.44 | CJ52: 6892.3 | CP52: 6276.27 | DF52: =CJ52+CK52+CL52+CM52+CN52+CO52+CP52+CQ52+CR52+CS52+CT52+CU52+CV52+CW52+CX52+CY52+CZ52+DA52+DB52+DC52+DD52+DE52+CI52+CH52 -> 13168.57 | DJ52: =(DH52+DI52)/$DH$69 -> 0 | DM52: =(DK52+DL52)/$DK$69 -> 0 | DN52: 2212.92 | DP52: =(DN52+DO52)/$DN$69 -> 0.0029651171 | EI52: =DK52+DL52+DN52+DO52+DQ52+DR52+DS52+DT52+DU52+DV52+DW52+DX52+DY52+DZ52+EA52+EB52+EC52+ED52+EE52+EF52+EG52+EH52+DI52+DH52 -> 2212.92
A53: VEHICLE LICENCING | BA53: 6326.83 | BC53: 4174.4 | BG53: =AI53+AJ53+AK53+AL53+AM53+AN53+AO53+AP53+AQ53+AR53+AS53+AT53+AU53+AV53+AW53+AX53+AY53+AZ53+BA53+BB53+BC53+BD53+BE53+BF53 -> 10501.23 | CF53: =SUM(BI53:CE53) -> 0 | DF53: =CJ53+CK53+CL53+CM53+CN53+CO53+CP53+CQ53+CR53+CS53+CT53+CU53+CV53+CW53+CX53+CY53+CZ53+DA53+DB53+DC53+DD53+DE53+CI53+CH53 -> 0 | DJ53: =(DH53+DI53)/$DH$69 -> 0 | DM53: =(DK53+DL53)/$DK$69 -> 0 | DP53: =(DN53+DO53)/$DN$69 -> 0 | EI53: =DK53+DL53+DN53+DO53+DQ53+DR53+DS53+DT53+DU53+DV53+DW53+DX53+DY53+DZ53+EA53+EB53+EC53+ED53+EE53+EF53+EG53+EH53+DI53+DH53 -> 0
A54: MAYOR | B54: 34925.46 | J54: =D54+F54+H54 -> 0 | K54: =E54+G54+I54 -> 0 | L54: 9084.13 | R54: =L54+N54+P54 -> 9084.13 | S54: =M54+O54+Q54 -> 0 | Z54: =T54+V54+X54 -> 0 | AA54: =U54+W54+Y54 -> 0 | AD54: 8542.39 | AH54: =D54+E54+F54+G54+H54+I54+L54+M54+N54+O54+P54+Q54+T54+U54+V54+W54+X54+Y54+AB54+AC54+AD54+AE54+AF54+AG54 -> 17626.52 | AI54: 5835.72 | AM54: 16172.64 | AQ54: 15342.22 | AS54: 24410.48 | AU54: 8478.24 | AW54: 9689.4 | AY54: 9689.4 | BC54: 22539.8 | BE54: 19376.09 | BG54: =AI54+AJ54+AK54+AL54+AM54+AN54+AO54+AP54+AQ54+AR54+AS54+AT54+AU54+AV54+AW54+AX54+AY54+AZ54+BA54+BB54+BC54+BD54+BE54+BF54 -> 131533.99 | BI54: 10093.13 | BR54: 19569.47 | CF54: =SUM(BI54:CE54) -> 29662.6 | DF54: =CJ54+CK54+CL54+CM54+CN54+CO54+CP54+CQ54+CR54+CS54+CT54+CU54+CV54+CW54+CX54+CY54+CZ54+DA54+DB54+DC54+DD54+DE54+CI54+CH54 -> 0 | DJ54: =(DH54+DI54)/$DH$69 -> 0 | DM54: =(DK54+DL54)/$DK$69 -> 0 | DP54: =(DN54+DO54)/$DN$69 -> 0 | EI54: =DK54+DL54+DN54+DO54+DQ54+DR54+DS54+DT54+DU54+DV54+DW54+DX54+DY54+DZ54+EA54+EB54+EC54+ED54+EE54+EF54+EG54+EH54+DI54+DH54 -> 0
A55: MUNICIPAL MANAGER | B55: 0 | J55: =D55+F55+H55 -> 0 | K55: =E55+G55+I55 -> 0 | R55: =L55+N55+P55 -> 0 | S55: =M55+O55+Q55 -> 0 | Z55: =T55+V55+X55 -> 0 | AA55: =U55+W55+Y55 -> 0 | AH55: =D55+E55+F55+G55+H55+I55+L55+M55+N55+O55+P55+Q55+T55+U55+V55+W55+X55+Y55+AB55+AC55+AD55+AE55+AF55+AG55 -> 0 | BA55: 18668.16 | BG55: =AI55+AJ55+AK55+AL55+AM55+AN55+AO55+AP55+AQ55+AR55+AS55+AT55+AU55+AV55+AW55+AX55+AY55+AZ55+BA55+BB55+BC55+BD55+BE55+BF55 -> 18668.16 | CF55: =SUM(BI55:CE55) -> 0 | DF55: =CJ55+CK55+CL55+CM55+CN55+CO55+CP55+CQ55+CR55+CS55+CT55+CU55+CV55+CW55+CX55+CY55+CZ55+DA55+DB55+DC55+DD55+DE55+CI55+CH55 -> 0 | DJ55: =(DH55+DI55)/$DH$69 -> 0 | DM55: =(DK55+DL55)/$DK$69 -> 0 | DP55: =(DN55+DO55)/$DN$69 -> 0 | EI55: =DK55+DL55+DN55+DO55+DQ55+DR55+DS55+DT55+DU55+DV55+DW55+DX55+DY55+DZ55+EA55+EB55+EC55+ED55+EE55+EF55+EG55+EH55+DI55+DH55 -> 0
A56: IDP & PERFOMANCE | B56: 0 | J56: =D56+F56+H56 -> 0 | K56: =E56+G56+I56 -> 0 | R56: =L56+N56+P56 -> 0 | S56: =M56+O56+Q56 -> 0 | Z56: =T56+V56+X56 -> 0 | AA56: =U56+W56+Y56 -> 0 | AH56: =D56+E56+F56+G56+H56+I56+L56+M56+N56+O56+P56+Q56+T56+U56+V56+W56+X56+Y56+AB56+AC56+AD56+AE56+AF56+AG56 -> 0 | BE56: 4960.5 | BG56: =AI56+AJ56+AK56+AL56+AM56+AN56+AO56+AP56+AQ56+AR56+AS56+AT56+AU56+AV56+AW56+AX56+AY56+AZ56+BA56+BB56+BC56+BD56+BE56+BF56 -> 4960.5 | CF56: =SUM(BI56:CE56) -> 0 | DF56: =CJ56+CK56+CL56+CM56+CN56+CO56+CP56+CQ56+CR56+CS56+CT56+CU56+CV56+CW56+CX56+CY56+CZ56+DA56+DB56+DC56+DD56+DE56+CI56+CH56 -> 0 | DJ56: =(DH56+DI56)/$DH$69 -> 0 | DM56: =(DK56+DL56)/$DK$69 -> 0 | DP56: =(DN56+DO56)/$DN$69 -> 0 | EI56: =DK56+DL56+DN56+DO56+DQ56+DR56+DS56+DT56+DU56+DV56+DW56+DX56+DY56+DZ56+EA56+EB56+EC56+ED56+EE56+EF56+EG56+EH56+DI56+DH56 -> 0
A57: MEDIA & COMMUNICATION | B57: 7272.99 | J57: =D57+F57+H57 -> 0 | K57: =E57+G57+I57 -> 0 | R57: =L57+N57+P57 -> 0 | S57: =M57+O57+Q57 -> 0 | Z57: =T57+V57+X57 -> 0 | AA57: =U57+W57+Y57 -> 0 | AD57: 4601.75 | AH57: =D57+E57+F57+G57+H57+I57+L57+M57+N57+O57+P57+Q57+T57+U57+V57+W57+X57+Y57+AB57+AC57+AD57+AE57+AF57+AG57 -> 4601.75 | AI57: 3371.77 | AK57: 4280.7 | AS57: 9408.64 | BC57: 8251.84 | BE57: 4627.2 | BG57: =AI57+AJ57+AK57+AL57+AM57+AN57+AO57+AP57+AQ57+AR57+AS57+AT57+AU57+AV57+AW57+AX57+AY57+AZ57+BA57+BB57+BC57+BD57+BE57+BF57 -> 29940.15 | CF57: =SUM(BI57:CE57) -> 0 | DF57: =CJ57+CK57+CL57+CM57+CN57+CO57+CP57+CQ57+CR57+CS57+CT57+CU57+CV57+CW57+CX57+CY57+CZ57+DA57+DB57+DC57+DD57+DE57+CI57+CH57 -> 0 | DJ57: =(DH57+DI57)/$DH$69 -> 0 | DM57: =(DK57+DL57)/$DK$69 -> 0 | DP57: =(DN57+DO57)/$DN$69 -> 0 | EI57: =DK57+DL57+DN57+DO57+DQ57+DR57+DS57+DT57+DU57+DV57+DW57+DX57+DY57+DZ57+EA57+EB57+EC57+ED57+EE57+EF57+EG57+EH57+DI57+DH57 -> 0
A58: SPEC PROG UNIT | B58: 42810.07 | J58: =D58+F58+H58 -> 0 | K58: =E58+G58+I58 -> 0 | R58: =L58+N58+P58 -> 0 | S58: =M58+O58+Q58 -> 0 | Z58: =T58+V58+X58 -> 0 | AA58: =U58+W58+Y58 -> 0 | AD58: 4916.25 | AH58: =D58+E58+F58+G58+H58+I58+L58+M58+N58+O58+P58+Q58+T58+U58+V58+W58+X58+Y58+AB58+AC58+AD58+AE58+AF58+AG58 -> 4916.25 | AI58: 4269.38 | AK58: 4140 | AS58: 11091.02 | BG58: =AI58+AJ58+AK58+AL58+AM58+AN58+AO58+AP58+AQ58+AR58+AS58+AT58+AU58+AV58+AW58+AX58+AY58+AZ58+BA58+BB58+BC58+BD58+BE58+BF58 -> 19500.4 | CF58: =SUM(BI58:CE58) -> 0 | DF58: =CJ58+CK58+CL58+CM58+CN58+CO58+CP58+CQ58+CR58+CS58+CT58+CU58+CV58+CW58+CX58+CY58+CZ58+DA58+DB58+DC58+DD58+DE58+CI58+CH58 -> 0 | DJ58: =(DH58+DI58)/$DH$69 -> 0 | DM58: =(DK58+DL58)/$DK$69 -> 0 | DP58: =(DN58+DO58)/$DN$69 -> 0 | EI58: =DK58+DL58+DN58+DO58+DQ58+DR58+DS58+DT58+DU58+DV58+DW58+DX58+DY58+DZ58+EA58+EB58+EC58+ED58+EE58+EF58+EG58+EH58+DI58+DH58 -> 0
A59: LED | B59: 0 | J59: =D59+F59+H59 -> 0 | K59: =E59+G59+I59 -> 0 | R59: =L59+N59+P59 -> 0 | S59: =M59+O59+Q59 -> 0 | Z59: =T59+V59+X59 -> 0 | AA59: =U59+W59+Y59 -> 0 | AH59: =D59+E59+F59+G59+H59+I59+L59+M59+N59+O59+P59+Q59+T59+U59+V59+W59+X59+Y59+AB59+AC59+AD59+AE59+AF59+AG59 -> 0 | AM59: 10326.24 | BG59: =AI59+AJ59+AK59+AL59+AM59+AN59+AO59+AP59+AQ59+AR59+AS59+AT59+AU59+AV59+AW59+AX59+AY59+AZ59+BA59+BB59+BC59+BD59+BE59+BF59 -> 10326.24 | CF59: =SUM(BI59:CE59) -> 0 | DF59: =CJ59+CK59+CL59+CM59+CN59+CO59+CP59+CQ59+CR59+CS59+CT59+CU59+CV59+CW59+CX59+CY59+CZ59+DA59+DB59+DC59+DD59+DE59+CI59+CH59 -> 0 | DJ59: =(DH59+DI59)/$DH$69 -> 0 | DM59: =(DK59+DL59)/$DK$69 -> 0 | DP59: =(DN59+DO59)/$DN$69 -> 0 | EI59: =DK59+DL59+DN59+DO59+DQ59+DR59+DS59+DT59+DU59+DV59+DW59+DX59+DY59+DZ59+EA59+EB59+EC59+ED59+EE59+EF59+EG59+EH59+DI59+DH59 -> 0
A60: Sub-Total | B60: 12804705 | D60: =SUM(D8:D59) -> 811286.7 | E60: =SUM(E8:E59) -> 121330.12 | F60: =SUM(F8:F59) -> 666342.46 | G60: =SUM(G8:G59) -> 96147.163 | H60: =SUM(H8:H59) -> 714386.17 | I60: =SUM(I8:I59) -> 110782.99 | J60: =D60+F60+H60 -> 2192015.3 | K60: =E60+G60+I60 -> 328260.28 | L60: =SUM(L8:L59) -> 735559.39 | M60: =SUM(M8:M59) -> 108212.4 | N60: =SUM(N8:N59) -> 721562.58 | O60: =SUM(O8:O59) -> 104022.24 | P60: =SUM(P8:P59) -> 700739.26 | Q60: =SUM(Q8:Q59) -> 69976.57 | R60: =L60+N60+P60 -> 2157861.2 | S60: =M60+O60+Q60 -> 282211.21 | T60: =SUM(T8:T59) -> 767497.24 | U60: =SUM(U8:U59) -> 201443.92 | V60: =SUM(V8:V59) -> 764254.86 | W60: =SUM(W8:W59) -> 125525.34 | X60: =SUM(X8:X59) -> 820310.96 | Y60: =SUM(Y8:Y59) -> 75751.5 | Z60: =T60+V60+X60 -> 2352063.1 | AA60: =U60+W60+Y60 -> 402720.76 | AB60: =SUM(AB8:AB59) -> 259286.88 | AC60: =SUM(AC8:AC59) -> 96951.16 | AD60: =SUM(AD8:AD59) -> 791885.73 | AE60: =SUM(AE8:AE59) -> 215171.9 | AF60: =SUM(AF8:AF59) -> 573774.63 | AG60: =SUM(AG8:AG59) -> 102832.47 | AH60: =D60+E60+F60+G60+H60+I60+L60+M60+N60+O60+P60+Q60+T60+U60+V60+W60+X60+Y60+AB60+AC60+AD60+AE60+AF60+AG60 -> 9755034.6 | AI60: =SUM(AI8:AI59) -> 874051.32 | AJ60: =SUM(AJ8:AJ59) -> 122118.9 | AK60: =SUM(AK8:AK59) -> 953101.45 | AL60: =SUM(AL8:AL59) -> 101645.11 | AM60: =SUM(AM8:AM59) -> 901436.39 | AN60: =SUM(AN8:AN59) -> 144378.67 | AO60: =SUM(AO8:AO59) -> 840341.93 | AP60: =SUM(AP8:AP59) -> 152673.45 | ... BF60: =SUM(BF8:BF59) -> 141198.27 | BG60: =AI60+AJ60+AK60+AL60+AM60+AN60+AO60+AP60+AQ60+AR60+AS60+AT60+AU60+AV60+AW60+AX60+AY60+AZ60+BA60+BB60+BC60+BD60+BE60+BF60 -> 12961617 | BI60: =SUM(BI8:BI59) -> 1017753.3 | BJ60: =SUM(BJ8:BJ59) -> 148374.35 | BK60: =SUM(BK8:BK59) -> 37494.45 | BL60: =SUM(BL8:BL59) -> 81252.24 | BM60: =SUM(BM8:BM59) -> 0 | BN60: =SUM(BN8:BN59) -> 115092.75 | BO60: =SUM(BO8:BO59) -> 154855.36 | BP60: =SUM(BP8:BP59) -> 273117.59 | ... CE60: =SUM(CE8:CE59) -> 112191.17 | CF60: =SUM(BI60:CE60) -> 4153740 | CH60: =SUM(CH8:CH59) -> 254158.05 | CI60: =SUM(CI8:CI59) -> 146869.18 | CJ60: =SUM(CJ8:CJ59) -> 150260.24 | CK60: =SUM(CK8:CK59) -> 0 | CL60: =SUM(CL8:CL59) -> 236042.94 | CM60: =SUM(CM8:CM59) -> 160153.56 | CN60: =SUM(CN8:CN59) -> 66602.96 | CO60: =SUM(CO8:CO59) -> 0 | ... CY60: =SUM(CY8:CY59) -> 0 | CZ60: 427089.48 | DA60: 94591.59 | DB60: =SUM(DB8:DB59) -> 173756.47 | DC60: =SUM(DC8:DC59) -> 249640.38 | DD60: =SUM(DD8:DD59) -> 357059.52 | DE60: =SUM(DE8:DE59) -> 9412.55 | DF60: =SUM(CH60:DE60) -> 4179782.3 | DH60: =SUM(DH8:DH59) -> 96410.74 | DI60: =SUM(DI8:DI59) -> 50836.32 | DJ60: =(DH60+DI60)/$DH$69 -> 1 | DK60: =SUM(DK8:DK59) -> 419200.39 | DL60: =SUM(DL8:DL59) -> 198055.94 | DM60: =(DK60+DL60)/$DK$69 -> 1 | DN60: =SUM(DN8:DN59) -> 569752.95 | DO60: =SUM(DO8:DO59) -> 176564.96 | DP60: =(DN60+DO60)/$DN$69 -> 1 | DQ60: =SUM(DQ8:DQ59) -> 0 | DR60: =SUM(DR8:DR59) -> 0 | DS60: =SUM(DS8:DS59) -> 0 | DT60: =SUM(DT8:DT59) -> 0 | DU60: =SUM(DU8:DU59) -> 0 | DV60: =SUM(DV8:DV59) -> 0 | DW60: =SUM(DW8:DW59) -> 0 | DX60: =SUM(DX8:DX59) -> 0 | ... EH60: =SUM(EH8:EH59) -> 0 | EI60: =DH60+DI60+DK60+DL60+DN60+DO60 -> 1510821.3
A62: LESS: FIRE CONTROL
A64: Net Total
A69: Total overtime paid per month | D69: =D60+E60 -> 932616.82 | F69: =F60+G60 -> 762489.62 | H69: =H60+I60 -> 825169.16 | J69: =J60+K60 -> 2520275.6 | L69: =L60+M60 -> 843771.79 | N69: =N60+O60 -> 825584.82 | P69: =P60+Q60 -> 770715.83 | R69: =R60+S60 -> 2440072.4 | T69: =T60+U60 -> 968941.16 | V69: =V60+W60 -> 889780.2 | X69: =X60+Y60 -> 896062.46 | Z69: =Z60+AA60 -> 2754783.8 | AB69: =AB60+AC60 -> 356238.04 | AD69: =AD60+AE60 -> 1007057.6 | AF69: =AF60+AG60 -> 676607.1 | AI69: =AI60+AJ60 -> 996170.22 | AK69: =AK60+AL60 -> 1054746.6 | AM69: =AM60+AN60 -> 1045815.1 | AO69: =AO60+AP60 -> 993015.38 | AQ69: =AQ60+AR60 -> 951069.46 | AS69: =AS60+AT60 -> 1014382.8 | AU69: =AU60+AV60 -> 1242928.5 | AW69: =AW60+AX60 -> 1079647.2 | AY69: =AY60+AZ60 -> 1057793.4 | BA69: =BA60+BB60 -> 1172311.8 | BC69: =BC60+BD60 -> 1172835 | BE69: =BE60+BF60 -> 1180901.4 | BI69: =BI60+BJ60 -> 1166127.6 | BK69: =BK60+BL60 -> 118746.69 | BM69: =BM60+BN60 -> 115092.75 | BP69: =BP60+BQ60 -> 314841.35 | BR69: =BR60+BS60 -> 394452.3 | BT69: =BT60+BU60 -> 426567.61 | BV69: =BV60+BW60 -> 325939.16 | BX69: =BX60+BY60 -> 194781.53 | BZ69: =BZ60+CA60 -> 308375.33 | CB69: =CB60+CC60 -> 363975.35 | CD69: =CD60+CE60 -> 269985 | CH69: =CH60+CI60 -> 401027.23 | CJ69: =CJ60+CK60 -> 150260.24 | CL69: =CL60+CM60 -> 396196.5 | CN69: =CN60+CO60 -> 66602.96 | CP69: =CP60+CQ60 -> 560055.04 | CR69: =CR60+CS60 -> 337305.7 | CT69: =CT60+CU60 -> 171544.97 | CV69: =CV60+CW60 -> 413018.3 | CX69: =CX60+CY60 -> 372221.41 | CZ69: =CZ60+DA60 -> 521681.07 | DB69: =DB60+DC60 -> 423396.85 | DD69: =DD60+DE60 -> 366472.07 | DH69: =DH60+DI60 -> 147247.06 | DK69: =DK60+DL60 -> 617256.33 | DN69: =DN60+DO60 -> 746317.91 | DQ69: =DQ60+DR60 -> 0 | DS69: =DS60+DT60 -> 0 | DU69: =DU60+DV60 -> 0 | DW69: =DW60+DX60 -> 0 | DY69: =DY60+DZ60 -> 0 | EA69: =EA60+EB60 -> 0 | EC69: =EC60+ED60 -> 0 | EE69: =EE60+EF60 -> 0 | EG69: =EG60+EH60 -> 0
A70: Average per quarter for 19/20
A71: Average YTD for 19/20
D72: =D60+E60 -> 932616.82 | F72: =F60+G60 -> 762489.62 | H72: =H60+I60 -> 825169.16 | L72: =L60+M60 -> 843771.79 | N72: =N60+O60 -> 825584.82 | P72: =P60+Q60 -> 770715.83 | T72: =T60+U60 -> 968941.16 | V72: =V60+W60 -> 889780.2 | X72: =X60+Y60 -> 896062.46 | AB72: =AB60+AC60 -> 356238.04 | AD72: =AD60+AE60 -> 1007057.6 | AF72: =AF60+AG60 -> 676607.1 | AI72: =AI60+AJ60 -> 996170.22
DC73: =DD69-DB69 -> -56924.78 | DD73: =DC73/DB69 -> -0.13444781
A74: Summary per Department | BG74: 23/24 spent | CF74: 24/25 spent | CT74: YTD 25/26 | CU74: Extrapolated 25/26
A75: Sewer/Sanitation | BG75: =BG13+BG14+BG15+BG16 -> 1714640.9 | CF75: =CF13+CF14+CF15+CF16 -> 455178.05 | CT75: =CT13+CT14+CT15+CT16 -> 50847.9 | CU75: =CT75*12/3 -> 203391.6
A76: Water | BG76: =BG22+BG23+BG24 -> 3425137 | CF76: =CF22+CF23+CF24 -> 1358665.8 | CT76: =CT22+CT23+CT24 -> 0 | CU76: =CT76*12/3 -> 0
A77: Electricity | BG77: =BG25+BG26 -> 2253074.8 | CF77: =CF25+CF26 -> 437431.15 | CT77: =CT25+CT26 -> 0 | CU77: =CT77*12/3 -> 0
A78: Rest of DEIS | BG78: =BG8+BG9+BG10+BG11+BG12+BG17+BG18+BG20 -> 429139.65 | CF78: =CF8+CF9+CF10+CF11+CF12+CF17+CF18+CF20 -> 113342.22 | CT78: =CT8+CT9+CT10+CT11+CT12+CT17+CT18+CT20 -> 5973.03 | CU78: =CT78*12/3 -> 23892.12
A79: Corporate Services | BG79: =BG27+BG28+BG29+BG30+BG31 -> 326469.33 | CF79: =CF27+CF28+CF29+CF30+CF31 -> 46483.18 | CT79: =CT27+CT28+CT29+CT30+CT31 -> 0 | CU79: =CT79*12/3 -> 0
A80: Finance | BG80: =BG32+BG33 -> 53804.29 | CF80: =CF32+CF33 -> 17608.41 | CT80: =CT32+CT33 -> 0 | CU80: =CT80*12/3 -> 0
A81: Parks | BG81: =BG35+BG36+BG37+BG38+BG40+BG41+BG51+BG52+BG48 -> 2010268.1 | CF81: =CF35+CF36+CF37+CF38+CF40+CF41+CF51+CF52+CF48 -> 304028.12 | CT81: =CT35+CT36+CT37+CT38+CT40+CT41+CT51+CT52+CT48 -> 0 | CU81: =CT81*12/3 -> 0
A82: Cleansing/Refuse Collection | BG82: =BG39+BG47+BG49+BG44 -> 540745.69 | CF82: =CF39+CF47+CF49+CF44 -> 249673.38 | CT82: =CT39+CT47+CT49+CT44 -> 0 | CU82: =CT82*12/3 -> 0
A83: Traffic | BG83: =BG53+BG50+BG45 -> 733691.37 | CF83: =CF53+CF50+CF45 -> 141487.67 | CT83: =CT53+CT50+CT45 -> 0 | CU83: =CT83*12/3 -> 0
A84: Fire | BG84: =BG42 -> 1232909 | CF84: =CF42 -> 1000179.5 | CT84: =CT42 -> 0 | CU84: =CT84*12/3 -> 0
A85: DCSS Admin/Library | BG85: =BG34+BG46 -> 26807.01 | CF85: =CF34+CF46 -> 0 | CT85: =CT34+CT46 -> 0 | CU85: =CT85*12/3 -> 0
A86: MM/Mayor | BG86: =BG58+BG57+BG56+BG55+BG54 -> 204603.2 | CF86: =CF58+CF57+CF56+CF55+CF54 -> 29662.6 | CT86: =CT58+CT57+CT56+CT55+CT54 -> 0 | CU86: =CT86*12/3 -> 0
A87: LED | BG87: =BG59 -> 10326.24 | CF87: =CF59 -> 0 | CT87: =CT59 -> 0 | CU87: =CT87*12/3 -> 0
BG88: =SUM(BG75:BG87) -> 12961617 | CF88: =SUM(CF75:CF87) -> 4153740 | CT88: =SUM(CT75:CT87) -> 56820.93 | CU88: =CT88*12/3 -> 227283.72
DN90: 746297.91
CU91: 504591.48 | DF91: =CT60+CU91 -> 561412.41 | DO91: Normal | EI91: =DH60+DK60+DN60 -> 1085364.1
CJ92: =CH69+CJ69+CL69 -> 947483.97 | DO92: Shift | EI92: =DI60+DL60+DO60 -> 425457.22
EI94: =EI91+EI92 -> 1510821.3

Sheet Dec25
A2: 01 MAKANA MUNICIPALITY-SAL | B2: OVERIME | C2: HOURS REPORT | D2: PRINT | E2: ED ON 2026/01/0(10:40 | F2: ) FOR 2025/12/19 | G2: PAGE 1
D3: N | E3: ORMAL OVERTIME | G3: STATUTORY | H3: O/T | I3: TOT | J3: ALS
C4: _________________ | D4: ___________________ | E4: _____________________ | F4: _______________________ | G4: _________________ | H4: _____________________ | I4: __________ | J4: __________
C5: | O/T @ 1.5 | D5: O/T @ SUN | E5: O/T @ 1.0 | F5: O/T P/H | | G5: | SUN (SHIFT) | H5: P/H (SHIFT) | | I5: | T/HRS | J5: O/T TOT| | K5: ESS SERV
A6: DEPT | B6: EMPLOYEE NAME | C6: HOURS | D6: HOURS | E6: HOURS | F6: HOURS | G6: HOURS | H6: HOURS
A8: TECHNICAL ADMINISTRATION | B8: MR MV TABATA | C8: 2559.87 | D8: 4740.5 | E8: 0 | F8: 0 | G8: 0 | H8: 0 | I8: 7300.37 | J8: 7300.37 | K8: Y
A10: --------------------------- | B10: ---------------------- | C10: ----------------- | D10: ------------------- | E10: --------------------- | F10: ----------------------- | G10: -------------------- | H10: ------------------------ | I10: -------------- | J10: ---------- | K10: ---
A11: TECHNICAL ADMINISTRATION | C11: 2559.87 | D11: 4740.5 | E11: 0 | F11: 0 | G11: 0 | H11: 0 | I11: 7300.37 | J11: 7300.37
A13: --------------------------- | B13: ---------------------- | C13: ----------------- | D13: ------------------- | E13: --------------------- | F13: ----------------------- | G13: -------------------- | H13: ------------------------ | I13: -------------- | J13: ---------- | K13: ---
A14: ENG PAIL REMOVALS | B14: MR ZJ ZWENI | C14: 0 | D14: 0 | E14: 0 | F14: 0 | G14: 3487.2 | H14: 0 | I14: 3487.2 | J14: 4050.6 | K14: Y
A16: --------------------------- | B16: ---------------------- | C16: ----------------- | D16: ------------------- | E16: --------------------- | F16: ----------------------- | G16: -------------------- | H16: ------------------------ | I16: -------------- | J16: ---------- | K16: ---
A17: ENG PAIL REMOVALS | C17: 0 | D17: 0 | E17: 0 | F17: 0 | G17: 3487.2 | H17: 0 | I17: 3487.2 | J17: 4050.6
A19: --------------------------- | B19: ---------------------- | C19: ----------------- | D19: ------------------- | E19: --------------------- | F19: ----------------------- | G19: -------------------- | H19: ------------------------ | I19: -------------- | J19: ---------- | K19: ---
A20: ENG SEWER ADMIN | B20: MR S THETHANI | C20: 8717.4 | D20: 0 | E20: 0 | F20: 0 | G20: 1743.6 | H20: 0 | I20: 10461 | J20: 9487.8 | K20: N
A22: --------------------------- | B22: ---------------------- | C22: ----------------- | D22: ------------------- | E22: --------------------- | F22: ----------------------- | G22: -------------------- | H22: ------------------------ | I22: -------------- | J22: ---------- | K22: ---
A23: ENG SEWER ADMIN | C23: 8717.4 | D23: 0 | E23: 0 | F23: 0 | G23: 1743.6 | H23: 0 | I23: 10461 | J23: 9487.8
A25: --------------------------- | B25: ---------------------- | C25: ----------------- | D25: ------------------- | E25: --------------------- | F25: ----------------------- | G25: -------------------- | H25: ------------------------ | I25: -------------- | J25: ---------- | K25: ---
A26: ENG DISPOSAL WORKS | B26: MR M MZIZI | C26: 0 | D26: 0 | E26: 0 | F26: 0 | G26: 1408.56 | H26: 0 | I26: 1408.56 | J26: 2197.32 | K26: N
A28: ENG DISPOSAL WORKS | B28: MR SC NZWANA | C28: 0 | D28: 0 | E28: 0 | F28: 0 | G28: 687.72 | H28: 0 | I28: 687.72 | J28: 687.72 | K28: N
A30: ENG DISPOSAL WORKS | B30: MR SG NKOLONGO | C30: 8717.4 | D30: 0 | E30: 0 | F30: 0 | G30: 1743.6 | H30: 0 | I30: 10461 | J30: 9487.8 | K30: N
A32: ENG DISPOSAL WORKS | B32: MRS S SOMAGU | C32: 0 | D32: 0 | E32: 0 | F32: 0 | G32: 3087.72 | H32: 0 | I32: 3087.72 | J32: 3087.72 | K32: N
A34: ENG DISPOSAL WORKS | B34: MR L PLANGA | C34: 0 | D34: 0 | E34: 0 | F34: 0 | G34: 1034.64 | H34: 0 | I34: 1034.64 | J34: 1598.04 | K34: N
A36: ENG DISPOSAL WORKS | B36: MR B CANGWENI | C36: 4823.45 | D36: 3302.85 | E36: 0 | F36: 0 | G36: 0 | H36: 0 | I36: 8126.3 | J36: 8126.3 | K36: Y
A38: ENG DISPOSAL WORKS | B38: MR MS MAZUNGULA | C38: 0 | D38: 0 | E38: 0 | F38: 0 | G38: 555.6 | H38: 0 | I38: 555.6 | J38: 555.6
A40: --------------------------- | B40: ---------------------- | C40: ----------------- | D40: ------------------- | E40: --------------------- | F40: ----------------------- | G40: -------------------- | H40: ------------------------ | I40: -------------- | J40: ---------- | K40: ---
A41: ENG DISPOSAL WORKS | C41: 13540.85 | D41: 3302.85 | E41: 0 | F41: 0 | G41: 8517.84 | H41: 0 | I41: 25361.54 | J41: 25740.5
A43: --------------------------- | B43: ---------------------- | C43: ----------------- | D43: ------------------- | E43: --------------------- | F43: ----------------------- | G43: -------------------- | H43: ------------------------ | I43: -------------- | J43: ---------- | K43: ---
A44: ENG SEWER RETICULATION | B44: MR R FRANCIS | C44: 10291.8 | D44: 0 | E44: 0 | F44: 0 | G44: 3087.72 | H44: 0 | I44: 13379.52 | J44: 10831.92 | K44: N
A46: --------------------------- | B46: ---------------------- | C46: ----------------- | D46: ------------------- | E46: --------------------- | F46: ----------------------- | G46: -------------------- | H46: ------------------------ | I46: -------------- | J46: ---------- | K46: ---
A47: ENG SEWER RETICULATION | C47: 10291.8 | D47: 0 | E47: 0 | F47: 0 | G47: 3087.72 | H47: 0 | I47: 13379.52 | J47: 10831.92
A49: --------------------------- | B49: ---------------------- | C49: ----------------- | D49: ------------------- | E49: --------------------- | F49: ----------------------- | G49: -------------------- | H49: ------------------------ | I49: -------------- | J49: ---------- | K49: ---
A50: ENG STORMWATER DRAINS | B50: MR A ALBANY | C50: 0 | D50: 0 | E50: 0 | F50: 0 | G50: 470.64 | H50: 0 | I50: 470.64 | J50: 921.36
A52: --------------------------- | B52: ---------------------- | C52: ----------------- | D52: ------------------- | E52: --------------------- | F52: ----------------------- | G52: -------------------- | H52: ------------------------ | I52: -------------- | J52: ---------- | K52: ---
A53: ENG STORMWATER DRAINS | C53: 0 | D53: 0 | E53: 0 | F53: 0 | G53: 470.64 | H53: 0 | I53: 470.64 | J53: 921.36
A55: --------------------------- | B55: ---------------------- | C55: ----------------- | D55: ------------------- | E55: --------------------- | F55: ----------------------- | G55: -------------------- | H55: ------------------------ | I55: -------------- | J55: ---------- | K55: ---
A56: ENG STR FOOTPATHS GUTTERS | B56: MR SE KONDILE | C56: 1019.34 | D56: 1359.12 | E56: 0 | F56: 0 | G56: 0 | H56: 0 | I56: 2378.46 | J56: 2378.46 | K56: N
A58: --------------------------- | B58: ---------------------- | C58: ----------------- | D58: ------------------- | E58: --------------------- | F58: ----------------------- | G58: -------------------- | H58: ------------------------ | I58: -------------- | J58: ---------- | K58: ---
A59: ENG STR FOOTPATHS GUTTERS | C59: 1019.34 | D59: 1359.12 | E59: 0 | F59: 0 | G59: 0 | H59: 0 | I59: 2378.46 | J59: 2378.46
A61: --------------------------- | B61: ---------------------- | C61: ----------------- | D61: ------------------- | E61: --------------------- | F61: ----------------------- | G61: -------------------- | H61: ------------------------ | I61: -------------- | J61: ---------- | K61: ---
A62: WATER CONSERVATION PURIF | B62: MR ZP DAVANE | C62: 0 | D62: 0 | E62: 0 | F62: 0 | G62: 1274.16 | H62: 0 | I62: 1274.16 | J62: 1950.24 | K62: N
A64: WATER CONSERVATION PURIF | B64: MR SM HANI | C64: 0 | D64: 0 | E64: 0 | F64: 0 | G64: 5146.2 | H64: 0 | I64: 5146.2 | J64: 6949.08 | K64: Y
A66: WATER CONSERVATION PURIF | B66: MR TJ JILANA | C66: 0 | D66: 0 | E66: 0 | F66: 0 | G66: 1408.56 | H66: 0 | I66: 1408.56 | J66: 2310 | K66: N
A68: 01 MAKANA MUNICIPALITY-SAL | B68: OVERIME | C68: HOURS REPORT | D68: PRINT | E68: ED ON 2026/01/0(10:40 | F68: ) FOR 2025/12/19 | G68: PAGE 2
D69: N | E69: ORMAL OVERTIME | G69: STATUTORY | H69: O/T | I69: TOT | J69: ALS
C70: _________________ | D70: ___________________ | E70: _____________________ | F70: _______________________ | G70: _________________ | H70: _____________________ | I70: __________ | J70: __________
C71: | O/T @ 1.5 | D71: O/T @ SUN | E71: O/T @ 1.0 | F71: O/T P/H | | G71: | SUN (SHIFT) | H71: P/H (SHIFT) | | I71: | T/HRS | J71: O/T TOT| | K71: ESS SERV
A72: DEPT | B72: EMPLOYEE NAME | C72: HOURS | D72: HOURS | E72: HOURS | F72: HOURS | G72: HOURS | H72: HOURS
A75: WATER CONSERVATION PURIF | B75: MS KM MADINDA | C75: 0 | D75: 0 | E75: 96 | F75: 0 | G75: 1079.28 | H75: 0 | I75: 1175.28 | J75: 1980.72 | K75: Y
A77: WATER CONSERVATION PURIF | B77: MS N MNGXUMA | C77: 3486.96 | D77: 5811.6 | E77: 0 | F77: 0 | G77: 0 | H77: 0 | I77: 9298.56 | J77: 8384.38 | K77: Y
A79: WATER CONSERVATION PURIF | B79: MR MG FAKU | C79: 1389.47 | D79: 1684.2 | E79: 0 | F79: 0 | G79: 0 | H79: 0 | I79: 3073.67 | J79: 3073.67 | K79: N
A81: WATER CONSERVATION PURIF | B81: MR A HELENI | C81: 0 | D81: 0 | E81: 0 | F81: 0 | G81: 1551.96 | H81: 0 | I81: 1551.96 | J81: 2340.72 | K81: Y
A83: WATER CONSERVATION PURIF | B83: MR T BAVUMA | C83: 0 | D83: 0 | E83: 0 | F83: 0 | G83: 1111.2 | H83: 0 | I83: 1111.2 | J83: 1111.2 | K83: Y
A85: WATER CONSERVATION PURIF | B85: MR J LEON | C85: 7845.66 | D85: 6973.92 | E85: 0 | F85: 0 | G85: 0 | H85: 0 | I85: 14819.58 | J85: 13681.42 | K85: N
A87: WATER CONSERVATION PURIF | B87: MR X SODLADLA | C87: 1176.45 | D87: 0 | E87: 0 | F87: 0 | G87: 0 | H87: 0 | I87: 1176.45 | J87: 1176.45 | K87: N
A89: WATER CONSERVATION PURIF | B89: MR AS BOTILE | C89: 0 | D89: 0 | E89: 0 | F89: 0 | G89: 2686.56 | H89: 0 | I89: 2686.56 | J89: 3475.32 | K89: Y
A91: WATER CONSERVATION PURIF | B91: MR M SOLANI | C91: 0 | D91: 0 | E91: 0 | F91: 0 | G91: 871.8 | H91: 0 | I91: 871.8 | J91: 1547.88 | K91: Y
A93: WATER CONSERVATION PURIF | B93: MR OO MBOMBO | C93: 0 | D93: 0 | E93: 0 | F93: 0 | G93: 555.6 | H93: 0 | I93: 555.6 | J93: 1006.32 | K93: N
A95: WATER CONSERVATION PURIF | B95: MS N FIHLANI | C95: 3529.35 | D95: 1568.6 | E95: 0 | F95: 0 | G95: 0 | H95: 0 | I95: 5097.95 | J95: 5097.95 | K95: N
A97: --------------------------- | B97: ---------------------- | C97: ----------------- | D97: ------------------- | E97: --------------------- | F97: ----------------------- | G97: -------------------- | H97: ------------------------ | I97: -------------- | J97: ---------- | K97: ---
A98: WATER CONSERVATION PURIF | C98: 17427.89 | D98: 16038.32 | E98: 96 | F98: 0 | G98: 15685.32 | H98: 0 | I98: 49247.53 | J98: 54085.35
A100: --------------------------- | B100: ---------------------- | C100: ----------------- | D100: ------------------- | E100: --------------------- | F100: ----------------------- | G100: -------------------- | H100: ------------------------ | I100: -------------- | J100: ---------- | K100: ---
A101: WATER JAMES KLEYNHANS | B101: MR ZR ADAM | C101: 0 | D101: 0 | E101: 0 | F101: 0 | G101: 2639.16 | H101: 0 | I101: 2639.16 | J101: 3427.92 | K101: N
A103: WATER JAMES KLEYNHANS | B103: MS N GONGQOBE | C103: 0 | D103: 0 | E103: 60 | F103: 0 | G103: 4116.96 | H103: 0 | I103: 4176.96 | J103: 4680.36 | K103: Y
A105: WATER JAMES KLEYNHANS | B105: MR SS MTONGA | C105: 8208 | D105: 2736 | E105: 0 | F105: 0 | G105: 0 | H105: 0 | I105: 10944 | J105: 6195.36 | K105: N
A107: WATER JAMES KLEYNHANS | B107: MR MM MGOGOSHE | C107: 0 | D107: 0 | E107: 0 | F107: 0 | G107: 2058.48 | H107: 0 | I107: 2058.48 | J107: 2621.88 | K107: Y
A109: WATER JAMES KLEYNHANS | B109: MR ME BANISI | C109: 0 | D109: 0 | E109: 0 | F109: 0 | G109: 1743.36 | H109: 0 | I109: 1743.36 | J109: 2532.12 | K109: Y
A111: WATER JAMES KLEYNHANS | B111: MR MN MANTLA | C111: 0 | D111: 0 | E111: 0 | F111: 0 | G111: 3487.2 | H111: 0 | I111: 3487.2 | J111: 4275.96 | K111: N
A113: WATER JAMES KLEYNHANS | B113: MR NL SMILE | C113: 0 | D113: 0 | E113: 0 | F113: 0 | G113: 1743.6 | H113: 0 | I113: 1743.6 | J113: 2532.36
A115: --------------------------- | B115: ---------------------- | C115: ----------------- | D115: ------------------- | E115: --------------------- | F115: ----------------------- | G115: -------------------- | H115: ------------------------ | I115: -------------- | J115: ---------- | K115: ---
A116: WATER JAMES KLEYNHANS | C116: 8208 | D116: 2736 | E116: 60 | F116: 0 | G116: 15788.76 | H116: 0 | I116: 26792.76 | J116: 26265.96
A118: --------------------------- | B118: ---------------------- | C118: ----------------- | D118: ------------------- | E118: --------------------- | F118: ----------------------- | G118: -------------------- | H118: ------------------------ | I118: -------------- | J118: ---------- | K118: ---
A119: WATER RETICULATION | B119: MR L PETER | C119: 2313.3 | D119: 3084.4 | E119: 0 | F119: 0 | G119: 0 | H119: 0 | I119: 5397.7 | J119: 5397.7 | K119: N
A121: WATER RETICULATION | B121: MR S JACK | C121: 905.31 | D121: 2586.6 | E121: 0 | F121: 0 | G121: 0 | H121: 0 | I121: 3491.91 | J121: 3491.91 | K121: N
A123: WATER RETICULATION | B123: F HLANGANA | C123: 0 | D123: 0 | E123: 0 | F123: 0 | G123: 1627.56 | H123: 0 | I123: 1627.56 | J123: 2754.36 | K123: N
A125: WATER RETICULATION | B125: MR S NQEBE | C125: 5230.44 | D125: 0 | E125: 0 | F125: 0 | G125: 4359 | H125: 0 | I125: 9589.44 | J125: 10808.4 | K125: Y
A127: --------------------------- | B127: ---------------------- | C127: ----------------- | D127: ------------------- | E127: --------------------- | F127: ----------------------- | G127: -------------------- | H127: ------------------------ | I127: -------------- | J127: ---------- | K127: ---
A128: WATER RETICULATION | C128: 8449.05 | D128: 5671 | E128: 0 | F128: 0 | G128: 5986.56 | H128: 0 | I128: 20106.61 | J128: 22452.37
A130: --------------------------- | B130: ---------------------- | C130: ----------------- | D130: ------------------- | E130: --------------------- | F130: ----------------------- | G130: -------------------- | H130: ------------------------ | I130: -------------- | J130: ---------- | K130: ---
A131: ELECTRICITY ADMIN | B131: MR SD MAVUSO | C131: 1163.97 | D131: 862.2 | E131: 0 | F131: 0 | G131: 0 | H131: 0 | I131: 2026.17 | J131: 2026.17 | K131: N
A134: 01 MAKANA MUNICIPALITY-SAL | B134: OVERIME | C134: HOURS REPORT | D134: PRINT | E134: ED ON 2026/01/0(10:40 | F134: ) FOR 2025/12/19 | G134: PAGE 3
D135: N | E135: ORMAL OVERTIME | G135: STATUTORY | H135: O/T | I135: TOT | J135: ALS
C136: _________________ | D136: ___________________ | E136: _____________________ | F136: _______________________ | G136: _________________ | H136: _____________________ | I136: __________ | J136: __________
C137: | O/T @ 1.5 | D137: O/T @ SUN | E137: O/T @ 1.0 | F137: O/T P/H | | G137: | SUN (SHIFT) | H137: P/H (SHIFT) | | I137: | T/HRS | J137: O/T TOT| | K137: ESS SERV
A138: DEPT | B138: EMPLOYEE NAME | C138: HOURS | D138: HOURS | E138: HOURS | F138: HOURS | G138: HOURS | H138: HOURS
A140: --------------------------- | B140: ---------------------- | C140: ----------------- | D140: ------------------- | E140: --------------------- | F140: ----------------------- | G140: -------------------- | H140: ------------------------ | I140: -------------- | J140: ---------- | K140: ---
A141: ELECTRICITY ADMIN | C141: 1163.97 | D141: 862.2 | E141: 0 | F141: 0 | G141: 0 | H141: 0 | I141: 2026.17 | J141: 2026.17
A143: --------------------------- | B143: ---------------------- | C143: ----------------- | D143: ------------------- | E143: --------------------- | F143: ----------------------- | G143: -------------------- | H143: ------------------------ | I143: -------------- | J143: ---------- | K143: ---
A144: ELECTRICITY DISTRIBUTION | B144: MR DB GOMBA | C144: 646.65 | D144: 0 | E144: 0 | F144: 0 | G144: 0 | H144: 0 | I144: 646.65 | J144: 665.43 | K144: N
A146: ELECTRICITY DISTRIBUTION | B146: MR X QHINGA | C146: 2586.6 | D146: 699.45 | E146: 0 | F146: 0 | G146: 0 | H146: 0 | I146: 3286.05 | J146: 3309.53 | K146: N
A148: ELECTRICITY DISTRIBUTION | B148: MR Z MATOMANA | C148: 756.12 | D148: 0 | E148: 0 | F148: 0 | G148: 0 | H148: 0 | I148: 756.12 | J148: 765.51 | K148: N
A150: ELECTRICITY DISTRIBUTION | B150: MS N MKOKELI-NTLOKO | C150: 5287.68 | D150: 3548.37 | E150: 0 | F150: 0 | G150: 0 | H150: 0 | I150: 8836.05 | J150: 4905.85 | K150: N
A152: ELECTRICITY DISTRIBUTION | B152: MISS NY KALASE | C152: 1681.29 | D152: 862.2 | E152: 0 | F152: 0 | G152: 0 | H152: 0 | I152: 2543.49 | J152: 2543.49 | K152: N
A154: ELECTRICITY DISTRIBUTION | B154: MR VX GONGQA | C154: 1511.06 | D154: 2014.74 | E154: 0 | F154: 0 | G154: 0 | H154: 0 | I154: 3525.8 | J154: 3525.8 | K154: Y
A156: ELECTRICITY DISTRIBUTION | B156: MR DA DOUDES | C156: 2417.66 | D156: 769.09 | E156: 0 | F156: 0 | G156: 0 | H156: 0 | I156: 3186.75 | J156: 3252.48 | K156: N
A158: ELECTRICITY DISTRIBUTION | B158: MR S MTANA | C158: 0 | D158: 2275.44 | E158: 0 | F158: 0 | G158: 0 | H158: 0 | I158: 2275.44 | J158: 2275.44 | K158: N
A160: ELECTRICITY DISTRIBUTION | B160: MR AP HLUTHA | C160: 3484.27 | D160: 1527.57 | E160: 0 | F160: 0 | G160: 0 | H160: 0 | I160: 5011.84 | J160: 5011.84 | K160: Y
A162: ELECTRICITY DISTRIBUTION | B162: MR S LANGA | C162: 0 | D162: 3283.04 | E162: 0 | F162: 0 | G162: 0 | H162: 0 | I162: 3283.04 | J162: 2194.19 | K162: N
A164: ELECTRICITY DISTRIBUTION | B164: MISS NA MLOTANA | C164: 1013.88 | D164: 2510.56 | E164: 0 | F164: 0 | G164: 0 | H164: 0 | I164: 3524.44 | J164: 2355.53 | K164: N
A166: ELECTRICITY DISTRIBUTION | B166: MR TH HULUSHE | C166: 1111.08 | D166: 0 | E166: 0 | F166: 0 | G166: 0 | H166: 0 | I166: 1111.08 | J166: 1153.34 | K166: N
... A174: ELECTRICITY DISTRIBUTION | B174: MR S FESI | C174: 1025.4 | D174: 1914.08 | E174: 0 | F174: 0 | G174: 0 | H174: 0 | I174: 2939.48 | J174: 2972.35 | K174: N
...

Sheet Nov25
A2: 01 MAKANA MUNICIPALITY-SAL OVERIME HOURS REPORT PRINTED ON 2025/11/2( 8:37) FOR 2025/11/25 PAGE 1
A3: NORMAL OVERTIME
A4: ________________________________________________________________________________ ______________________________________
A5: | O/T @ 1.5 O/T @ SUN O/T @ 1.0 O/T P/H | | TOTAL
A6: DEPT EMPLOYEE NAME HOURS AMOUNT HOURS AMOUNT HOURS AMOUNT HOURS AMOUNT
A8: TECHNICAL ADMINISTRATION MR MV TABATA 35.00 5261.96 27.00 4361.26 .00 .00 .00 .00 62.00 9623.22 TECHNICAL ADMINISTRATION
A10: TECHNICAL ADMINISTRATION MR E SIAS 33.00 3494.94 9.00 1352.88 .00 .00 .00 .00 42.00 4847.82 TECHNICAL ADMINISTRATION
A12: ---------------------------------------------------------------------------------------------------------------------------------------------------------------------
A13: TECHNICAL ADMINISTRATION 68.00 8756.90 36.00 5714.14 .00 .00 .00 .00 104.00 14471.04 TECHNICAL ADMINISTRATION
A15: ---------------------------------------------------------------------------------------------------------------------------------------------------------------------
A16: ENG PAIL REMOVALS MR S MELANI 21.00 2715.93 .00 .00 .00 .00 .00 .00 21.00 2715.93 ENG PAIL REMOVALS
A18: ENG PAIL REMOVALS MR ZJ ZWENI .00 .00 .00 .00 .00 .00 .00 .00 .00 .00 ENG PAIL REMOVALS
... A393: ---------------------------------------------------------------------------------------------------------------------------------------------------------------------

Sheet Oct25
A2: LX MAKANA MUNICIPALITY-SAL OVERIME HOURS REPORT PRINTED ON 2025/11/1(15:00) FOR 2025/10/24 PAGE 1
A3: NORMAL OVERTIME
A4: ________________________________________________________________________________ ______________________________________
A5: | O/T @ 1.5 O/T @ SUN O/T @ 1.0 O/T P/H | | TOTAL
A6: DEPT EMPLOYEE NAME HOURS AMOUNT HOURS AMOUNT HOURS AMOUNT HOURS AMOUNT
A8: TECHNICAL ADMINISTRATION MR MV TABATA 14.00 1991.01 14.00 2654.68 .00 .00 .00 .00 28.00 4645.69 TECHNICAL ADMINISTRATION
A10: TECHNICAL ADMINISTRATION MR E SIAS 21.00 2367.54 3.00 609.71 .00 .00 .00 .00 24.00 2977.25 TECHNICAL ADMINISTRATION
A12: ---------------------------------------------------------------------------------------------------------------------------------------------------------------------
A13: TECHNICAL ADMINISTRATION 35.00 4358.55 17.00 3264.39 .00 .00 .00 .00 52.00 7622.94 TECHNICAL ADMINISTRATION
A15: ---------------------------------------------------------------------------------------------------------------------------------------------------------------------
A16: ENG DISPOSAL WORKS MRS S SOMAGU .00 .00 .00 .00 .00 .00 .00 .00 .00 .00 ENG DISPOSAL WORKS
A18: ENG DISPOSAL WORKS MR B CANGWENI 33.00 3882.29 33.00 1098.02 .00 .00 .00 .00 66.00 4980.31 ENG DISPOSAL WORKS
... A150: ---------------------------------------------------------------------------------------------------------------------------------------------------------------------

Sheet Sept25
A2: LJ MAKANA MUNICIPALITY-SAL OVERIME HOURS REPORT PRINTED ON 2025/10/0(13:26) FOR 2025/09/25 PAGE 1
A3: NORMAL OVERTIME STATUTORY O/T TOTALS
A4: ________________________________________________________________________________ ______________________________________ ____________________
A5: | O/T @ 1.5 O/T @ SUN O/T @ 1.0 O/T P/H | | SUN (SHIFT) P/H (SHIFT) | | T/HRS O/T TOT| ESS SERV
A6: DEPT EMPLOYEE NAME HOURS HOURS HOURS HOURS HOURS HOURS
A8: TECHNICAL ADMINISTRATION MR MV TABATA 2986.52 3602.78 .00 .00 .00 .00 6589.30 6589.30 N
A10: TECHNICAL ADMINISTRATION MR E SIAS 1691.10 609.71 .00 .00 .00 .00 2300.81 2300.81
A12: --------------------------------------------------------------------------------------------------------------------------------------------------------------------------------------------------------
A13: TECHNICAL ADMINISTRATION 4677.62 4212.49 .00 .00 .00 .00 8890.11 8890.11
A15: --------------------------------------------------------------------------------------------------------------------------------------------------------------------------------------------------------
A16: ENG PAIL REMOVALS MR ZJ ZWENI .00 .00 .00 .00 1743.60 .00 1743.60 2645.04 Y
A18: ENG PAIL REMOVALS MR V DOLO 235.29 941.16 .00 .00 .00 .00 1176.45 1176.45 N
... A322: --------------------------------------------------------------------------------------------------------------------------------------------------------------------------------------------------------

Sheet Aug25
A2: LC MAKANA MUNICIPALITY-SAL OVERIME HOURS REPORT PRINTED ON 2025/09/1(16:15) FOR 2025/08/25 PAGE 1
A3: NORMAL OVERTIME
A4: ________________________________________________________________________________ ______________________________________
A5: | O/T @ 1.5 O/T @ SUN O/T @ 1.0 O/T P/H | | TOTAL
A6: DEPT EMPLOYEE NAME HOURS AMOUNT HOURS AMOUNT HOURS AMOUNT HOURS AMOUNT
A8: ENG DISTR PLANT MR MG BUDAZA 16.00 2069.28 .00 .00 .00 .00 .00 .00 16.00 2069.28 ENG DISTR PLANT
A10: ENG DISTR PLANT MR Z PAYI 3.00 387.99 .00 .00 .00 .00 .00 .00 3.00 387.99 ENG DISTR PLANT
A12: ---------------------------------------------------------------------------------------------------------------------------------------------------------------------
A13: ENG DISTR PLANT 19.00 2457.27 .00 .00 .00 .00 .00 .00 19.00 2457.27 ENG DISTR PLANT
A15: ---------------------------------------------------------------------------------------------------------------------------------------------------------------------
A16: ENG PAIL REMOVALS MR S MELANI 3.00 387.99 .00 .00 .00 .00 .00 .00 3.00 387.99 ENG PAIL REMOVALS
A18: ENG PAIL REMOVALS MR VH NQEBEYA 3.00 387.99 .00 .00 .00 .00 .00 .00 3.00 387.99 ENG PAIL REMOVALS
... A284: ---------------------------------------------------------------------------------------------------------------------------------------------------------------------

Sheet July25
A2: KW MAKANA MUNICIPALITY-SAL OVERIME HOURS REPORT PRINTED ON 2025/08/0(11:32) FOR 2025/07/25 PAGE 1
A3: NORMAL OVERTIME TOTALS
A4: ________________________________________________________________________________ ______________________________________ ____________________
A5: | O/T @ 1.5 O/T @ SUN O/T @ 1.0 O/T P/H | | SUN (SHIFT) P/H (SHIFT) | | T/HRS O/T TOT| ESS SERV
A6: DEPT EMPLOYEE NAME HOURS AMOUNT HOURS AMOUNT HOURS AMOUNT HOURS AMOUNT HOURS AMOUNT HOURS AMOUNT
A8: TECHNICAL ADMINISTRATION MR MV TABATA 14.00 1851.57 35.00 4584.84 .00 .00 .00 .00 .00 .00 49.00 6436.41 N
A10: TECHNICAL ADMINISTRATION MR E SIAS 18.00 1997.82 .00 .00 .00 .00 .00 .00 .00 .00 18.00 1997.82
A12: --------------------------------------------------------------------------------------------------------------------------------------------------------------------------------------------------------
A13: TECHNICAL ADMINISTRATION 32.00 3849.39 35.00 4584.84 .00 .00 .00 .00 .00 .00 67.00 8434.23
A15: --------------------------------------------------------------------------------------------------------------------------------------------------------------------------------------------------------
A16: ENG DISTR PLANT MR Z PAYI 22.50 2771.21 .00 .00 .00 .00 .00 .00 .00 .00 22.50 2771.21 N
A18: --------------------------------------------------------------------------------------------------------------------------------------------------------------------------------------------------------
... A395: --------------------------------------------------------------------------------------------------------------------------------------------------------------------------------------------------------

Sheet June25b
A1: 01 MAKANA MUNICIPALITY-SAL | B1: OVERIME HOURS REPORT PRINTED ON 2025/07/0(10:07) FOR 2025/06/25 | C1: PAGE 1
B2: NORMAL OVERTIME | D2: TOTALS
B3: ________________________________________________________________________________ | C3: ______________________________________ | D3: ____________________
B4: | O/T @ 1.5 O/T @ SUN O/T @ 1.0 O/T P/H | | C4: | SUN (SHIFT) P/H (SHIFT) | | D4: | T/HRS O/T TOT| | E4: ESS SERV
A5: DEPT | B5: EMPLOYEE NAME HOURS AMOUNT HOURS AMOUNT HOURS AMOUNT HOURS AMOUNT | C5: HOURS AMOUNT HOURS AMOUNT
A7: TECHNICAL ADMINISTRATION | B7: MR MV TABATA 14.00 1851.57 21.00 3703.14 .00 .00 | C7: .00 .00 .00 .00 | D7: 35.00 5554.71 | E7: N
A9: --------------------------- | B9: ------------------------------------------------------------------------------------------------------ | C9: -------------------------------------------- | D9: ------------------------ | E9: ---
A10: TECHNICAL ADMINISTRATION | B10: 14.00 1851.57 21.00 3703.14 .00 .00 | C10: .00 .00 .00 .00 | D10: 35.00 5554.71
A12: --------------------------- | B12: ------------------------------------------------------------------------------------------------------ | C12: -------------------------------------------- | D12: ------------------------ | E12: ---
A13: ENG PAIL REMOVALS | B13: MR S MELANI 5.00 615.83 .00 .00 .00 .00 | C13: .00 .00 .00 .00 | D13: 5.00 615.83 | E13: N
A15: ENG PAIL REMOVALS | B15: MR VH NQEBEYA 5.00 615.83 .00 .00 .00 .00 | C15: .00 .00 .00 .00 | D15: 5.00 615.83 | E15: N
A17: ENG PAIL REMOVALS | B17: MR ZJ ZWENI .00 .00 .00 .00 .00 .00 | C17: .00 .00 12.00 1621.32 | D17: 12.00 2184.72 | E17: Y
A19: ENG PAIL REMOVALS | B19: MR L NAZO 12.00 1344.42 .00 .00 .00 .00 | C19: .00 .00 .00 .00 | D19: 12.00 1344.42 | E19: N
A21: ENG PAIL REMOVALS | B21: MR MK JACISA 22.00 2464.77 16.00 2390.08 .00 .00 | C21: .00 .00 .00 .00 | D21: 38.00 4854.85 | E21: N
A23: ENG PAIL REMOVALS | B23: MR BR MGQOBELE 12.00 1344.42 .00 .00 .00 .00 | C23: .00 .00 .00 .00 | D23: 12.00 1344.42 | E23: N
A25: --------------------------- | B25: ------------------------------------------------------------------------------------------------------ | C25: -------------------------------------------- | D25: ------------------------ | E25: ---
A26: ENG PAIL REMOVALS | B26: 56.00 6385.27 16.00 2390.08 .00 .00 | C26: .00 .00 12.00 1621.32 | D26: 84.00 10960.07
A28: --------------------------- | B28: ------------------------------------------------------------------------------------------------------ | C28: -------------------------------------------- | D28: ------------------------ | E28: ---
A29: ENG SEWER ADMIN | B29: MR S THETHANI 33.00 6687.95 .00 .00 .00 .00 | C29: 12.00 810.72 .00 .00 | D29: 45.00 7298.68 | E29: N
A31: --------------------------- | B31: ------------------------------------------------------------------------------------------------------ | C31: -------------------------------------------- | D31: ------------------------ | E31: ---
A32: ENG SEWER ADMIN | B32: 33.00 6687.95 .00 .00 .00 .00 | C32: 12.00 810.72 .00 .00 | D32: 45.00 7298.68
A34: --------------------------- | B34: ------------------------------------------------------------------------------------------------------ | C34: -------------------------------------------- | D34: ------------------------ | E34: ---
A35: ENG DISPOSAL WORKS | B35: MR M MZIZI .00 .00 .00 .00 .00 .00 | C35: 12.00 670.68 .00 .00 | D35: 12.00 1572.12 | E35: N
A37: ENG DISPOSAL WORKS | B37: MR SC NZWANA .00 .00 .00 .00 .00 .00 | C37: 12.00 654.96 .00 .00 | D37: 12.00 654.96 | E37: N
A39: ENG DISPOSAL WORKS | B39: MR M SPEELMAN 5.00 615.83 10.00 1642.20 .00 .00 | C39: .00 .00 .00 .00 | D39: 15.00 2258.03 | E39: Y
A41: ENG DISPOSAL WORKS | B41: MR SG NKOLONGO .00 .00 .00 .00 .00 .00 | C41: 12.00 810.72 .00 .00 | D41: 12.00 810.72 | E41: N
A43: ENG DISPOSAL WORKS | B43: MRS S SOMAGU .00 .00 .00 .00 .00 .00 | C43: 36.00 2871.36 12.00 1914.24 | D43: 48.00 4785.60 | E43: N
A45: ENG DISPOSAL WORKS | B45: MR L PLANGA .00 .00 .00 .00 .00 .00 | C45: 12.00 492.72 .00 .00 | D45: 12.00 943.44 | E45: N
A47: ENG DISPOSAL WORKS | B47: MR MS MAZUNGULA .00 .00 .00 .00 .00 .00 | C47: 36.00 1549.80 12.00 1033.20 | D47: 48.00 2583.00
A49: --------------------------- | B49: ------------------------------------------------------------------------------------------------------ | C49: -------------------------------------------- | D49: ------------------------ | E49: ---
A50: ENG DISPOSAL WORKS | B50: 5.00 615.83 10.00 1642.20 .00 .00 | C50: 120.00 7050.24 24.00 2947.44 | D50: 159.00 13607.87
A52: --------------------------- | B52: ------------------------------------------------------------------------------------------------------ | C52: -------------------------------------------- | D52: ------------------------ | E52: ---
A53: ENG SEWER RETICULATION | B53: MR R FRANCIS .00 .00 .00 .00 .00 .00 | C53: 36.00 2940.12 .00 .00 | D53: 36.00 2940.12 | E53: N
A55: ENG SEWER RETICULATION | B55: MR Z JAMES 5.00 615.83 10.00 1642.20 .00 .00 | C55: .00 .00 .00 .00 | D55: 15.00 2258.03 | E55: Y
A57: --------------------------- | B57: ------------------------------------------------------------------------------------------------------ | C57: -------------------------------------------- | D57: ------------------------ | E57: ---
A58: ENG SEWER RETICULATION | B58: 5.00 615.83 10.00 1642.20 .00 .00 | C58: 36.00 2940.12 .00 .00 | D58: 51.00 5198.15
A60: --------------------------- | B60: ------------------------------------------------------------------------------------------------------ | C60: -------------------------------------------- | D60: ------------------------ | E60: ---
A61: ENG STORMWATER DRAINS | B61: MR M TANDA 13.00 1601.15 .00 .00 13.00 .00 | C61: .00 .00 .00 .00 | D61: 13.00 1601.15
A63: --------------------------- | B63: ------------------------------------------------------------------------------------------------------ | C63: -------------------------------------------- | D63: ------------------------ | E63: ---
A64: ENG STORMWATER DRAINS | B64: 13.00 1601.15 .00 .00 13.00 .00 | C64: .00 .00 .00 .00 | D64: 13.00 1601.15
A67: 01 MAKANA MUNICIPALITY-SAL | B67: OVERIME HOURS REPORT PRINTED ON 2025/07/0(10:07) FOR 2025/06/25 | C67: PAGE 2
B68: NORMAL OVERTIME | D68: TOTALS
B69: ________________________________________________________________________________ | C69: ______________________________________ | D69: ____________________
B70: | O/T @ 1.5 O/T @ SUN O/T @ 1.0 O/T P/H | | C70: | SUN (SHIFT) P/H (SHIFT) | | D70: | T/HRS O/T TOT| | E70: ESS SERV
A71: DEPT | B71: EMPLOYEE NAME HOURS AMOUNT HOURS AMOUNT HOURS AMOUNT HOURS AMOUNT | C71: HOURS AMOUNT HOURS AMOUNT
A73: --------------------------- | B73: ------------------------------------------------------------------------------------------------------ | C73: -------------------------------------------- | D73: ------------------------ | E73: ---
A74: ENG STR FOOTPATHS GUTTERS | B74: MR SE KONDILE 50.00 5166.00 6.00 .00 .00 .00 | C74: .00 .00 .00 .00 | D74: 56.00 5166.00
A76: --------------------------- | B76: ------------------------------------------------------------------------------------------------------ | C76: -------------------------------------------- | D76: ------------------------ | E76: ---
A77: ENG STR FOOTPATHS GUTTERS | B77: 50.00 5166.00 6.00 .00 .00 .00 | C77: .00 .00 .00 .00 | D77: 56.00 5166.00
A79: --------------------------- | B79: ------------------------------------------------------------------------------------------------------ | C79: -------------------------------------------- | D79: ------------------------ | E79: ---
A80: WATER CONSERVATION PURIF | B80: MR ZP DAVANE .00 .00 .00 .00 .00 .00 | C80: 12.00 1184.88 .00 .00 | D80: 12.00 1860.96 | E80: N
A82: WATER CONSERVATION PURIF | B82: MR SM HANI .00 .00 .00 .00 .00 .00 | C82: 48.00 3920.16 12.00 1960.08 | D82: 60.00 6894.36 | E82: Y
A84: WATER CONSERVATION PURIF | B84: MR TJ JILANA .00 .00 .00 .00 .00 .00 | C84: 48.00 2682.72 12.00 1341.24 | D84: 60.00 4925.40 | E84: N
A86: WATER CONSERVATION PURIF | B86: MS KM MADINDA .00 .00 .00 .00 .00 .00 | C86: 36.00 3083.04 .00 .00 | D86: 36.00 3871.80 | E86: Y
A88: WATER CONSERVATION PURIF | B88: MS N MNGXUMA .00 .00 40.00 10808.80 .00 .00 | C88: .00 .00 .00 .00 | D88: 40.00 10485.60 | E88: N
A90: WATER CONSERVATION PURIF | B90: MR A HELENI .00 .00 .00 .00 .00 .00 | C90: 12.00 492.72 .00 .00 | D90: 12.00 718.08 | E90: Y
A92: WATER CONSERVATION PURIF | B92: MR X SODLADLA 7.00 784.25 28.00 4182.64 .00 .00 | C92: .00 .00 .00 .00 | D92: 35.00 4966.89 | E92: N
A94: WATER CONSERVATION PURIF | B94: MR AS BOTILE .00 .00 .00 .00 .00 .00 | C94: 24.00 1279.20 .00 .00 | D94: 24.00 1955.28 | E94: Y
A96: WATER CONSERVATION PURIF | B96: MR OO MBOMBO .00 .00 .00 .00 .00 .00 | C96: 48.00 2066.40 12.00 1033.20 | D96: 60.00 4001.04 | E96: N
A98: WATER CONSERVATION PURIF | B98: MS N FIHLANI .00 .00 .00 .00 .00 .00 | C98: 24.00 896.40 .00 .00 | D98: 24.00 1572.48 | E98: N
A100: --------------------------- | B100: ------------------------------------------------------------------------------------------------------ | C100: -------------------------------------------- | D100: ------------------------ | E100: ---
A101: WATER CONSERVATION PURIF | B101: 7.00 784.25 68.00 14991.44 .00 .00 | C101: 252.00 15605.52 36.00 4334.52 | D101: 363.00 41251.89
A103: --------------------------- | B103: ------------------------------------------------------------------------------------------------------ | C103: -------------------------------------------- | D103: ------------------------ | E103: ---
A104: WATER JAMES KLEYNHANS | B104: MR ZR ADAM .00 .00 .00 .00 .00 .00 | C104: 36.00 2513.16 .00 .00 | D104: 36.00 2963.88 | E104: N
A106: WATER JAMES KLEYNHANS | B106: MS N GONGQOBE .00 .00 .00 .00 .00 .00 | C106: 12.00 980.04 12.00 1960.08 | D106: 24.00 3278.16 | E106: Y
A108: WATER JAMES KLEYNHANS | B108: MR MM MGOGOSHE .00 .00 .00 .00 .00 .00 | C108: 12.00 957.12 .00 .00 | D108: 12.00 1633.20 | E108: Y
A110: WATER JAMES KLEYNHANS | B110: MR ME BANISI .00 .00 .00 .00 .00 .00 | C110: 12.00 810.72 .00 .00 | D110: 12.00 1712.16 | E110: Y
A112: WATER JAMES KLEYNHANS | B112: MR MN MANTLA .00 .00 .00 .00 .00 .00 | C112: 12.00 810.72 12.00 1621.32 | D112: 24.00 3220.80 | E112: N
A114: WATER JAMES KLEYNHANS | B114: MR BW MONDI 12.00 1344.42 12.00 1792.56 .00 .00 | C114: .00 .00 .00 .00 | D114: 24.00 3136.98
A116: --------------------------- | B116: ------------------------------------------------------------------------------------------------------ | C116: -------------------------------------------- | D116: ------------------------ | E116: ---
A117: WATER JAMES KLEYNHANS | B117: 12.00 1344.42 12.00 1792.56 .00 .00 | C117: 84.00 6071.76 24.00 3581.40 | D117: 132.00 15945.18
A119: --------------------------- | B119: ------------------------------------------------------------------------------------------------------ | C119: -------------------------------------------- | D119: ------------------------ | E119: ---
A120: WATER RETICULATION | B120: MR L PETER 20.00 2202.90 20.00 2937.20 .00 .00 | C120: .00 .00 .00 .00 | D120: 40.00 5140.10 | E120: N
A122: WATER RETICULATION | B122: MR P KRALO 10.00 1979.10 11.00 2902.68 .00 .00 | C122: .00 .00 .00 .00 | D122: 21.00 4881.78 | E122: N
A124: WATER RETICULATION | B124: MISS B KAHLA .00 .00 .00 .00 .00 .00 | C124: 48.00 1970.88 12.00 985.32 | D124: 60.00 3857.64
A126: WATER RETICULATION | B126: MR A BRUINTJIES 16.00 1792.56 8.00 1195.04 .00 .00 | C126: .00 .00 .00 .00 | D126: 24.00 2987.60 | E126: N
A128: WATER RETICULATION | B128: MR C BASSON 12.50 2594.25 7.00 1937.04 .00 .00 | C128: .00 .00 .00 .00 | D128: 19.50 4292.54 | E128: N
A130: WATER RETICULATION | B130: MR MN NTLOKWANA 10.00 1120.35 7.00 1045.66 .00 .00 | C130: .00 .00 .00 .00 | D130: 17.00 2166.01 | E130: N
A133: 01 MAKANA MUNICIPALITY-SAL | B133: OVERIME HOURS REPORT PRINTED ON 2025/07/0(10:07) FOR 2025/06/25 | C133: PAGE 3
B134: NORMAL OVERTIME | D134: TOTALS
B135: ________________________________________________________________________________ | C135: ______________________________________ | D135: ____________________
B136: | O/T @ 1.5 O/T @ SUN O/T @ 1.0 O/T P/H | | C136: | SUN (SHIFT) P/H (SHIFT) | | D136: | T/HRS O/T TOT| | E136: ESS SERV
A137: DEPT | B137: EMPLOYEE NAME HOURS AMOUNT HOURS AMOUNT HOURS AMOUNT HOURS AMOUNT | C137: HOURS AMOUNT HOURS AMOUNT
A139: WATER RETICULATION | B139: MRS N MANTLA .00 .00 .00 .00 .00 .00 | C139: 12.00 448.20 12.00 896.28 | D139: 24.00 2133.24 | E139: N
A141: WATER RETICULATION | B141: MRS NJ SUKULA .00 .00 .00 .00 .00 .00 | C141: 24.00 896.40 .00 .00 | D141: 24.00 1797.84 | E141: Y
A143: WATER RETICULATION | B143: MS NT JACK-XHALI .00 .00 .00 .00 .00 .00 | C143: 12.00 448.20 .00 .00 | D143: 12.00 1349.64
A145: --------------------------- | B145: ------------------------------------------------------------------------------------------------------ | C145: -------------------------------------------- | D145: ------------------------ | E145: ---
A146: WATER RETICULATION | B146: 68.50 9689.16 53.00 10017.62 .00 .00 | C146: 96.00 3763.68 24.00 1881.60 | D146: 241.50 28606.39
A148: --------------------------- | B148: ------------------------------------------------------------------------------------------------------ | C148: -------------------------------------------- | D148: ------------------------ | E148: ---
A149: DOMESTIC REFUSE | B149: MR MW NTSHOKO 8.00 1009.08 8.30 1395.89 .00 .00 | C149: .00 .00 .00 .00 | D149: 16.30 2404.97 | E149: N
A151: --------------------------- | B151: ------------------------------------------------------------------------------------------------------ | C151: -------------------------------------------- | D151: ------------------------ | E151: ---
A152: DOMESTIC REFUSE | B152: 8.00 1009.08 8.30 1395.89 .00 .00 | C152: .00 .00 .00 .00 | D152: 16.30 2404.97
A154: --------------------------- | B154: ------------------------------------------------------------------------------------------------------ | C154: -------------------------------------------- | D154: ------------------------ | E154: ---
A155: FIRE CONTROL | B155: MR VD VATELA .00 .00 .00 .00 .00 .00 | C155: 12.00 926.40 .00 .00 | D155: 12.00 926.40 | E155: Y
A157: FIRE CONTROL | B157: MR FM MAPALING .00 .00 .00 .00 .00 .00 | C157: 36.00 3204.36 12.00 2136.24 | D157: 48.00 5340.60 | E157: Y
A159: FIRE CONTROL | B159: MR GH FELIX .00 .00 .00 .00 .00 .00 | C159: 24.00 1645.68 .00 .00 | D159: 24.00 1645.68 | E159: Y
A161: FIRE CONTROL | B161: MR M MANKAYI .00 .00 .00 .00 .00 .00 | C161: 24.00 2086.08 .00 .00 | D161: 24.00 2086.08 | E161: Y
A163: FIRE CONTROL | B163: MR ME TEMBENI .00 .00 .00 .00 .00 .00 | C163: 12.00 822.84 .00 .00 | D163: 12.00 822.84 | E163: Y
A165: FIRE CONTROL | B165: MR MR NTSHO 8.00 1852.80 .00 .00 .00 .00 | C165: 36.00 2779.20 12.00 1852.80 | D165: 56.00 6484.80 | E165: Y
A167: FIRE CONTROL | B167: MR TJ SMAYILE 8.00 1795.08 .00 .00 .00 .00 | C167: 24.00 1795.20 .00 .00 | D167: 32.00 3590.28 | E167: Y
...

Sheet June25
A1: 04 MAKANA MUNICIPALITY-TEMP OVERIME HOURS REPORT PRINTED ON 2025/07/0(10:09) FOR 2025/06/25 PAGE 1
A2: NORMAL OVERTIME TOTALS
A3: ________________________________________________________________________________ ______________________________________ ____________________
A4: | O/T @ 1.5 O/T @ SUN O/T @ 1.0 O/T P/H | | SUN (SHIFT) P/H (SHIFT) | | T/HRS O/T TOT| ESS SERV
A5: DEPT EMPLOYEE NAME HOURS AMOUNT HOURS AMOUNT HOURS AMOUNT HOURS AMOUNT HOURS AMOUNT HOURS AMOUNT
A7: 10/10/01/6000/000 MR ME MAWUSE .00 28.00 .00 28.00 .00 .00 .00 .00 .00 .00 .00 5339.40
A9: --------------------------------------------------------------------------------------------------------------------------------------------------------------------------------------------------------
A10: 10/10/01/6000/000 .00 28.00 .00 28.00 .00 .00 .00 .00 .00 .00 .00 5339.40
A12: --------------------------------------------------------------------------------------------------------------------------------------------------------------------------------------------------------
A13: 40/10/60/6000/000 MS S CANGWENI .00 .00 .00 .00 .00 .00 .00 24.00 .00 12.00 .00 1468.20
A15: 40/10/60/6000/000 MR S DLABONGO .00 .00 .00 .00 .00 .00 .00 24.00 .00 24.00 .00 4463.28
A17: 40/10/60/6000/000 MR S GORA .00 .00 .00 .00 .00 .00 .00 24.00 .00 .00 .00 734.16
... A37: --------------------------------------------------------------------------------------------------------------------------------------------------------------------------------------------------------

Sheet May25
A1: 01 MAKANA MUNICIPALITY-SAL | B1: OVERIME HOURS REPORT PRINTED ON 2025/05/2(11:28) FOR 2025/05/23 | C1: PAGE 1
B2: NORMAL OVERTIME | D2: TOTALS
B3: ________________________________________________________________________________ | C3: ______________________________________ | D3: ____________________
B4: | O/T @ 1.5 O/T @ SUN O/T @ 1.0 O/T P/H | | C4: | SUN (SHIFT) P/H (SHIFT) | | D4: | T/HRS O/T TOT| | E4: ESS SERV
A5: DEPT | B5: EMPLOYEE NAME HOURS AMOUNT HOURS AMOUNT HOURS AMOUNT HOURS AMOUNT | C5: HOURS AMOUNT HOURS AMOUNT
A7: TECHNICAL ADMINISTRATION | B7: MR MV TABATA 42.00 5290.20 14.00 .00 .00 .00 | C7: .00 .00 .00 .00 | D7: 56.00 5290.20 | E7: N
A9: TECHNICAL ADMINISTRATION | B9: MR E SIAS 9.00 943.79 .00 .00 .00 .00 | C9: .00 .00 .00 .00 | D9: 9.00 943.79
A11: --------------------------- | B11: ------------------------------------------------------------------------------------------------------ | C11: -------------------------------------------- | D11: ------------------------ | E11: ---
A12: TECHNICAL ADMINISTRATION | B12: 51.00 6233.99 14.00 .00 .00 .00 | C12: .00 .00 .00 .00 | D12: 65.00 6233.99
A14: --------------------------- | B14: ------------------------------------------------------------------------------------------------------ | C14: -------------------------------------------- | D14: ------------------------ | E14: ---
A15: ENG PAIL REMOVALS | B15: MR ZJ ZWENI .00 .00 .00 .00 .00 .00 | C15: 36.00 2432.16 24.00 3242.64 | D15: 60.00 6463.56 | E15: Y
A17: --------------------------- | B17: ------------------------------------------------------------------------------------------------------ | C17: -------------------------------------------- | D17: ------------------------ | E17: ---
A18: ENG PAIL REMOVALS | B18: .00 .00 .00 .00 .00 .00 | C18: 36.00 2432.16 24.00 3242.64 | D18: 60.00 6463.56
A20: --------------------------- | B20: ------------------------------------------------------------------------------------------------------ | C20: -------------------------------------------- | D20: ------------------------ | E20: ---
A21: ENG SEWER ADMIN | B21: MR S THETHANI 44.00 8106.60 .00 .00 .00 .00 | C21: 36.00 2432.16 36.00 4863.96 | D21: 116.00 15160.32 | E21: N
A23: --------------------------- | B23: ------------------------------------------------------------------------------------------------------ | C23: -------------------------------------------- | D23: ------------------------ | E23: ---
A24: ENG SEWER ADMIN | B24: 44.00 8106.60 .00 .00 .00 .00 | C24: 36.00 2432.16 36.00 4863.96 | D24: 116.00 15160.32
A26: --------------------------- | B26: ------------------------------------------------------------------------------------------------------ | C26: -------------------------------------------- | D26: ------------------------ | E26: ---
A27: ENG DISPOSAL WORKS | B27: MR M MZIZI .00 .00 .00 .00 .00 .00 | C27: 36.00 2012.04 36.00 4023.72 | D27: 72.00 6486.48 | E27: N
A29: ENG DISPOSAL WORKS | B29: MR SC NZWANA .00 .00 .00 .00 .00 .00 | C29: 24.00 1309.92 24.00 2619.60 | D29: 48.00 3929.52 | E29: N
A31: ENG DISPOSAL WORKS | B31: MR SG NKOLONGO 11.00 2229.32 11.00 2972.42 .00 .00 | C31: 36.00 2432.16 36.00 4863.96 | D31: 94.00 12342.31 | E31: N
A33: ENG DISPOSAL WORKS | B33: MRS S SOMAGU .00 .00 .00 .00 .00 .00 | C33: 12.00 957.12 .00 .00 | D33: 12.00 957.12 | E33: N
A35: ENG DISPOSAL WORKS | B35: MR L PLANGA .00 .00 .00 .00 .00 .00 | C35: 36.00 1478.16 36.00 2955.96 | D35: 72.00 5222.88 | E35: N
A37: ENG DISPOSAL WORKS | B37: MR B CANGWENI 22.00 2800.88 22.00 4182.64 .00 .00 | C37: .00 .00 .00 .00 | D37: 44.00 6983.52 | E37: N
A39: ENG DISPOSAL WORKS | B39: MR MS MAZUNGULA .00 .00 .00 .00 .00 .00 | C39: 12.00 516.60 .00 .00 | D39: 12.00 516.60
A41: --------------------------- | B41: ------------------------------------------------------------------------------------------------------ | C41: -------------------------------------------- | D41: ------------------------ | E41: ---
A42: ENG DISPOSAL WORKS | B42: 33.00 5030.20 33.00 7155.06 .00 .00 | C42: 156.00 8706.00 132.00 14463.24 | D42: 354.00 36438.43
A44: --------------------------- | B44: ------------------------------------------------------------------------------------------------------ | C44: -------------------------------------------- | D44: ------------------------ | E44: ---
A45: ENG SEWER RETICULATION | B45: MR R FRANCIS 33.00 8085.33 .00 .00 .00 .00 | C45: 12.00 980.04 .00 .00 | D45: 45.00 7468.00 | E45: N
A47: ENG SEWER RETICULATION | B47: MR N KRIEL 18.00 2680.29 6.00 1610.56 .00 .00 | C47: .00 .00 .00 .00 | D47: 24.00 4290.85
A49: --------------------------- | B49: ------------------------------------------------------------------------------------------------------ | C49: -------------------------------------------- | D49: ------------------------ | E49: ---
A50: ENG SEWER RETICULATION | B50: 51.00 10765.62 6.00 1610.56 .00 .00 | C50: 12.00 980.04 .00 .00 | D50: 69.00 11758.85
A52: --------------------------- | B52: ------------------------------------------------------------------------------------------------------ | C52: -------------------------------------------- | D52: ------------------------ | E52: ---
A53: ENG STORMWATER DRAINS | B53: MR A ALBANY .00 .00 .00 .00 .00 .00 | C53: 48.00 1792.80 24.00 1792.56 | D53: 72.00 4486.80
A55: --------------------------- | B55: ------------------------------------------------------------------------------------------------------ | C55: -------------------------------------------- | D55: ------------------------ | E55: ---
A56: ENG STORMWATER DRAINS | B56: .00 .00 .00 .00 .00 .00 | C56: 48.00 1792.80 24.00 1792.56 | D56: 72.00 4486.80
A58: --------------------------- | B58: ------------------------------------------------------------------------------------------------------ | C58: -------------------------------------------- | D58: ------------------------ | E58: ---
A59: WATER CONSERVATION PURIF | B59: MR TJ JILANA .00 .00 .00 .00 .00 .00 | C59: .00 .00 12.00 1341.24 | D59: 12.00 2017.32 | E59: N
A61: WATER CONSERVATION PURIF | B61: MS KM MADINDA .00 .00 .00 .00 .00 .00 | C61: 12.00 1027.68 .00 .00 | D61: 12.00 1478.40 | E61: Y
A63: WATER CONSERVATION PURIF | B63: MR H MARAMBANA .00 .00 .00 .00 .00 .00 | C63: 36.00 2432.16 48.00 6485.28 | D63: 84.00 9706.20 | E63: Y
A65: WATER CONSERVATION PURIF | B65: MR A HELENI .00 .00 .00 .00 .00 .00 | C65: 12.00 492.72 12.00 985.32 | D65: 24.00 2379.48 | E65: Y
A67: 01 MAKANA MUNICIPALITY-SAL | B67: OVERIME HOURS REPORT PRINTED ON 2025/05/2(11:28) FOR 2025/05/23 | C67: PAGE 2
B68: NORMAL OVERTIME | D68: TOTALS
B69: ________________________________________________________________________________ | C69: ______________________________________ | D69: ____________________
B70: | O/T @ 1.5 O/T @ SUN O/T @ 1.0 O/T P/H | | C70: | SUN (SHIFT) P/H (SHIFT) | | D70: | T/HRS O/T TOT| | E70: ESS SERV
A71: DEPT | B71: EMPLOYEE NAME HOURS AMOUNT HOURS AMOUNT HOURS AMOUNT HOURS AMOUNT | C71: HOURS AMOUNT HOURS AMOUNT
A74: WATER CONSERVATION PURIF | B74: MR J LEON 22.00 4458.63 22.00 4863.96 .00 .00 | C74: .00 .00 .00 .00 | D74: 44.00 9043.83 | E74: N
A76: WATER CONSERVATION PURIF | B76: MR X SODLADLA 21.00 2352.74 21.00 2838.22 .00 .00 | C76: .00 .00 .00 .00 | D76: 42.00 5190.96 | E76: N
A78: WATER CONSERVATION PURIF | B78: MR AS BOTILE .00 .00 .00 .00 .00 .00 | C78: 36.00 1918.80 36.00 3837.60 | D78: 72.00 6657.84 | E78: Y
A80: WATER CONSERVATION PURIF | B80: MR M SOLANI .00 .00 .00 .00 .00 .00 | C80: 12.00 810.72 24.00 3242.64 | D80: 36.00 4954.80 | E80: Y
A82: WATER CONSERVATION PURIF | B82: MR OO MBOMBO .00 .00 .00 .00 .00 .00 | C82: .00 .00 12.00 1033.20 | D82: 12.00 1934.64 | E82: N
A84: --------------------------- | B84: ------------------------------------------------------------------------------------------------------ | C84: -------------------------------------------- | D84: ------------------------ | E84: ---
A85: WATER CONSERVATION PURIF | B85: 43.00 6811.37 43.00 7702.18 .00 .00 | C85: 108.00 6682.08 144.00 16925.28 | D85: 338.00 43363.47
A87: --------------------------- | B87: ------------------------------------------------------------------------------------------------------ | C87: -------------------------------------------- | D87: ------------------------ | E87: ---
A88: WATER JAMES KLEYNHANS | B88: MS N GONGQOBE .00 .00 .00 .00 .00 .00 | C88: 36.00 2940.12 24.00 3920.16 | D88: 60.00 7649.04 | E88: Y
A90: WATER JAMES KLEYNHANS | B90: MR MM MGOGOSHE .00 .00 .00 .00 .00 .00 | C90: 36.00 2871.36 36.00 5742.72 | D90: 72.00 9515.52 | E90: Y
A92: WATER JAMES KLEYNHANS | B92: MR ME BANISI .00 .00 .00 .00 .00 .00 | C92: 12.00 810.72 12.00 1621.32 | D92: 24.00 2657.40 | E92: Y
A94: WATER JAMES KLEYNHANS | B94: MR MN MANTLA .00 .00 .00 .00 .00 .00 | C94: 24.00 1621.44 24.00 3242.64 | D94: 48.00 5540.16 | E94: N
A96: --------------------------- | B96: ------------------------------------------------------------------------------------------------------ | C96: -------------------------------------------- | D96: ------------------------ | E96: ---
A97: WATER JAMES KLEYNHANS | B97: .00 .00 .00 .00 .00 .00 | C97: 108.00 8243.64 96.00 14526.84 | D97: 204.00 25362.12
A99: --------------------------- | B99: ------------------------------------------------------------------------------------------------------ | C99: -------------------------------------------- | D99: ------------------------ | E99: ---
A100: WATER RETICULATION | B100: MR L PETER 21.00 8404.07 10.30 9780.88 .00 .00 | C100: .00 .00 .00 .00 | D100: 31.30 18184.95 | E100: N
A102: WATER RETICULATION | B102: MR S JACK 21.00 2586.47 21.00 3120.18 .00 .00 | C102: .00 .00 .00 .00 | D102: 42.00 5706.65 | E102: N
A104: WATER RETICULATION | B104: MR P KRALO 10.30 4076.94 10.00 5277.60 .00 .00 | C104: .00 .00 .00 .00 | D104: 20.30 20702.50 | E104: N
A106: WATER RETICULATION | B106: MR L MLOLA 2.00 592.41 3.00 1601.88 .00 .00 | C106: .00 .00 .00 .00 | D106: 5.00 1179.63 | E106: N
A108: WATER RETICULATION | B108: MR A BRUINTJIES 6.00 672.21 .00 .00 .00 .00 | C108: .00 .00 .00 .00 | D108: 6.00 672.21 | E108: N
A110: WATER RETICULATION | B110: MR C BASSON 6.00 1245.24 .00 .00 .00 .00 | C110: .00 .00 .00 .00 | D110: 6.00 1179.63 | E110: N
A112: WATER RETICULATION | B112: F HLANGANA .00 .00 .00 .00 .00 .00 | C112: 48.00 2018.40 48.00 4036.32 | D112: 96.00 7519.56 | E112: N
A114: WATER RETICULATION | B114: MRS N MANTLA .00 .00 .00 .00 .00 .00 | C114: 24.00 896.40 24.00 1792.56 | D114: 48.00 3365.04 | E114: N
A116: WATER RETICULATION | B116: MR S NQEBE .00 .00 .00 .00 .00 .00 | C116: 12.00 810.72 .00 .00 | D116: 12.00 1599.48 | E116: Y
A118: WATER RETICULATION | B118: MS NT JACK-XHALI .00 .00 .00 .00 .00 .00 | C118: 36.00 1344.60 36.00 2688.84 | D118: 72.00 4934.88
A120: --------------------------- | B120: ------------------------------------------------------------------------------------------------------ | C120: -------------------------------------------- | D120: ------------------------ | E120: ---
A121: WATER RETICULATION | B121: 66.30 17577.34 44.30 19780.54 .00 .00 | C121: 120.00 5070.12 108.00 8517.72 | D121: 338.60 65044.53
A123: --------------------------- | B123: ------------------------------------------------------------------------------------------------------ | C123: -------------------------------------------- | D123: ------------------------ | E123: ---
A124: DOMESTIC REFUSE | B124: AJ MABINDISA 8.00 985.32 .00 .00 .00 .00 | C124: .00 .00 .00 .00 | D124: 8.00 985.32 | E124: 0
A126: DOMESTIC REFUSE | B126: MR MW NTSHOKO 36.30 9409.67 9.00 7123.39 .00 .00 | C126: .00 .00 .00 .00 | D126: 45.30 16533.06 | E126: N
A128: --------------------------- | B128: ------------------------------------------------------------------------------------------------------ | C128: -------------------------------------------- | D128: ------------------------ | E128: ---
A129: DOMESTIC REFUSE | B129: 44.30 10394.99 9.00 7123.39 .00 .00 | C129: .00 .00 .00 .00 | D129: 53.30 17518.38
A131: --------------------------- | B131: ------------------------------------------------------------------------------------------------------ | C131: -------------------------------------------- | D131: ------------------------ | E131: ---
A133: 01 MAKANA MUNICIPALITY-SAL | B133: OVERIME HOURS REPORT PRINTED ON 2025/05/2(11:28) FOR 2025/05/23 | C133: PAGE 3
B134: NORMAL OVERTIME | D134: TOTALS
B135: ________________________________________________________________________________ | C135: ______________________________________ | D135: ____________________
B136: | O/T @ 1.5 O/T @ SUN O/T @ 1.0 O/T P/H | | C136: | SUN (SHIFT) P/H (SHIFT) | | D136: | T/HRS O/T TOT| | E136: ESS SERV
A137: DEPT | B137: EMPLOYEE NAME HOURS AMOUNT HOURS AMOUNT HOURS AMOUNT HOURS AMOUNT | C137: HOURS AMOUNT HOURS AMOUNT
A139: FIRE CONTROL | B139: MR VD VATELA .00 .00 .00 .00 .00 .00 | C139: 36.00 2779.20 24.00 3705.60 | D139: 60.00 6484.80 | E139: Y
A141: FIRE CONTROL | B141: MR FM MAPALING .00 .00 .00 .00 .00 .00 | C141: .00 .00 24.00 4272.48 | D141: 24.00 4272.48 | E141: Y
A143: FIRE CONTROL | B143: MR GH FELIX 8.00 1645.68 .00 .00 .00 .00 | C143: 36.00 2468.52 24.00 3291.36 | D143: 68.00 7405.56 | E143: Y
A145: FIRE CONTROL | B145: MR MR NTSHO 8.00 1852.80 .00 .00 .00 .00 | C145: .00 .00 24.00 3705.60 | D145: 32.00 5558.40 | E145: Y
A147: FIRE CONTROL | B147: MR TJ SMAYILE 8.00 1795.08 .00 .00 .00 .00 | C147: 36.00 2692.80 24.00 3590.16 | D147: 68.00 8078.04 | E147: Y
A149: FIRE CONTROL | B149: MISS N NGQAKAYI 8.00 1852.80 .00 .00 .00 .00 | C149: 24.00 1852.80 12.00 1852.80 | D149: 44.00 5558.40 | E149: Y
A151: FIRE CONTROL | B151: MR MEB BOOI 1.00 202.67 .00 .00 .00 .00 | C151: .00 .00 .00 .00 | D151: 1.00 202.67 | E151: Y
A153: FIRE CONTROL | B153: MR AT BOMA 8.00 1795.08 .00 .00 .00 .00 | C153: .00 .00 24.00 3590.16 | D153: 32.00 5385.24 | E153: Y
A155: FIRE CONTROL | B155: MR MM MANCAM 8.00 1795.08 .00 .00 .00 .00 | C155: 24.00 1795.20 12.00 1795.08 | D155: 44.00 5385.36 | E155: Y
A157: FIRE CONTROL | B157: MR M MARAWU .00 .00 .00 .00 .00 .00 | C157: 12.00 766.32 .00 .00 | D157: 12.00 766.32 | E157: Y
A159: FIRE CONTROL | B159: MRS PL MBANE .00 .00 .00 .00 .00 .00 | C159: 24.00 1795.20 12.00 1795.08 | D159: 36.00 3590.28 | E159: Y
A161: FIRE CONTROL | B161: MS NP NTLANJENI 8.00 2275.44 .00 .00 .00 .00 | C161: .00 .00 24.00 4550.88 | D161: 32.00 6826.32 | E161: Y
... A171: FIRE CONTROL | B171: MR JI POTBERG .00 .00 .00 .00 .00 .00 | C171: 36.00 2374.92 12.00 1583.28 | D171: 48.00 3958.20 | E171: Y
A173: FIRE CONTROL | B173: MS T SOBIKWA .00 .00 .00 .00 .00 .00 | C173: 24.00 1341.36 12.00 1341.24 | D173: 36.00 2682.60
A175: FIRE CONTROL | B175: MRS NJ SOMEKETA 8.00 2369.64 .00 .00 .00 .00 | C175: 36.00 3554.64 24.00 4739.28 | D175: 68.00 10663.56 | E175: Y
A177: FIRE CONTROL | B177: MR T KASPER 8.00 1546.32 .00 .00 .00 .00 | C177: 24.00 1546.32 12.00 1546.32 | D177: 44.00 4638.96 | E177: Y
...

Sheet Apr25b
A2: 04 MAKANA MUNICIPALITY-TEMP OVERIME HOURS REPORT PRINTED ON 2025/04/3(10:38) FOR 2025/04/25 PAGE 1
A3: NORMAL OVERTIME TOTALS
A4: ________________________________________________________________________________ ______________________________________ ____________________
A5: | O/T @ 1.5 O/T @ SUN O/T @ 1.0 O/T P/H | | SUN (SHIFT) P/H (SHIFT) | | T/HRS O/T TOT| ESS SERV
A6: DEPT EMPLOYEE NAME HOURS AMOUNT HOURS AMOUNT HOURS AMOUNT HOURS AMOUNT HOURS AMOUNT HOURS AMOUNT
A8: 10/10/01/6000/000 MR ME MAWUSE .00 21.00 .00 42.00 .00 .00 .00 .00 .00 .00 .00 5622.55
A10: --------------------------------------------------------------------------------------------------------------------------------------------------------------------------------------------------------
A11: 10/10/01/6000/000 .00 21.00 .00 42.00 .00 .00 .00 .00 .00 .00 .00 5622.55
A13: --------------------------------------------------------------------------------------------------------------------------------------------------------------------------------------------------------
A14: 40/10/60/6000/000 MS S CANGWENI .00 20.30 .00 3.00 .00 .00 .00 24.00 .00 12.00 .00 3827.05
A16: 40/10/60/6000/000 MR S DLABONGO .00 22.50 .00 8.50 .00 .00 .00 24.00 .00 12.00 .00 9267.51
A18: 40/10/60/6000/000 MR S GORA .00 16.00 .00 10.00 .00 .00 .00 .00 .00 .00 .00 2691.48
... A46: --------------------------------------------------------------------------------------------------------------------------------------------------------------------------------------------------------

Sheet Apr25
A2: 01 MAKANA MUNICIPALITY-SAL | B2: OVERIME HOURS REPORT PRINTED ON 2025/04/3(10:36) FOR 2025/04/25 | C2: PAGE 1
B3: NORMAL OVERTIME | D3: TOTALS
B4: ________________________________________________________________________________ | C4: ______________________________________ | D4: ____________________
B5: | O/T @ 1.5 O/T @ SUN O/T @ 1.0 O/T P/H | | C5: | SUN (SHIFT) P/H (SHIFT) | | D5: | T/HRS O/T TOT| | E5: ESS SERV
A6: DEPT | B6: EMPLOYEE NAME HOURS AMOUNT HOURS AMOUNT HOURS AMOUNT HOURS AMOUNT | C6: HOURS AMOUNT HOURS AMOUNT
A8: TECHNICAL ADMINISTRATION | B8: MR MV TABATA 7.00 925.79 28.00 4937.52 .00 .00 | C8: .00 .00 .00 .00 | D8: 35.00 5863.31 | E8: N
A10: TECHNICAL ADMINISTRATION | B10: MR E SIAS 6.00 629.19 .00 .00 .00 .00 | C10: .00 .00 .00 .00 | D10: 6.00 629.19
A12: --------------------------- | B12: ------------------------------------------------------------------------------------------------------ | C12: -------------------------------------------- | D12: ------------------------ | E12: ---
A13: TECHNICAL ADMINISTRATION | B13: 13.00 1554.98 28.00 4937.52 .00 .00 | C13: .00 .00 .00 .00 | D13: 41.00 6492.50
A15: --------------------------- | B15: ------------------------------------------------------------------------------------------------------ | C15: -------------------------------------------- | D15: ------------------------ | E15: ---
A16: ENG SEWER ADMIN | B16: MR S THETHANI 44.00 8106.60 .00 .00 .00 .00 | C16: 24.00 1621.44 .00 .00 | D16: 68.00 9485.90 | E16: N
A18: --------------------------- | B18: ------------------------------------------------------------------------------------------------------ | C18: -------------------------------------------- | D18: ------------------------ | E18: ---
A19: ENG SEWER ADMIN | B19: 44.00 8106.60 .00 .00 .00 .00 | C19: 24.00 1621.44 .00 .00 | D19: 68.00 9485.90
A21: --------------------------- | B21: ------------------------------------------------------------------------------------------------------ | C21: -------------------------------------------- | D21: ------------------------ | E21: ---
A22: ENG DISPOSAL WORKS | B22: MR M MZIZI .00 .00 .00 .00 .00 .00 | C22: 24.00 1341.36 .00 .00 | D22: 24.00 2242.80 | E22: N
A24: ENG DISPOSAL WORKS | B24: MR SC NZWANA .00 .00 .00 .00 .00 .00 | C24: 12.00 654.96 .00 .00 | D24: 12.00 654.96 | E24: N
A26: ENG DISPOSAL WORKS | B26: MR SG NKOLONGO .00 .00 .00 .00 .00 .00 | C26: 24.00 1621.44 .00 .00 | D26: 24.00 1621.44 | E26: N
A28: ENG DISPOSAL WORKS | B28: MRS S SOMAGU .00 .00 .00 .00 .00 .00 | C28: 24.00 1914.24 12.00 1914.24 | D28: 36.00 3828.48 | E28: N
A30: ENG DISPOSAL WORKS | B30: MR L PLANGA .00 .00 .00 .00 .00 .00 | C30: 24.00 985.44 .00 .00 | D30: 24.00 1886.88 | E30: N
A32: ENG DISPOSAL WORKS | B32: MR MS MAZUNGULA .00 .00 .00 .00 .00 .00 | C32: 36.00 1549.80 12.00 1033.20 | D32: 48.00 2583.00
A34: --------------------------- | B34: ------------------------------------------------------------------------------------------------------ | C34: -------------------------------------------- | D34: ------------------------ | E34: ---
A35: ENG DISPOSAL WORKS | B35: .00 .00 .00 .00 .00 .00 | C35: 144.00 8067.24 24.00 2947.44 | D35: 168.00 12817.56
A37: --------------------------- | B37: ------------------------------------------------------------------------------------------------------ | C37: -------------------------------------------- | D37: ------------------------ | E37: ---
A38: ENG SEWER RETICULATION | B38: MR R FRANCIS 44.00 13475.55 .00 .00 .00 .00 | C38: .00 .00 .00 .00 | D38: 44.00 7864.46 | E38: N
A40: ENG SEWER RETICULATION | B40: MR N KRIEL 5.00 744.53 3.00 805.28 .00 .00 | C40: .00 .00 .00 .00 | D40: 8.00 1549.81
A42: --------------------------- | B42: ------------------------------------------------------------------------------------------------------ | C42: -------------------------------------------- | D42: ------------------------ | E42: ---
A43: ENG SEWER RETICULATION | B43: 49.00 14220.08 3.00 805.28 .00 .00 | C43: .00 .00 .00 .00 | D43: 52.00 9414.27
A45: --------------------------- | B45: ------------------------------------------------------------------------------------------------------ | C45: -------------------------------------------- | D45: ------------------------ | E45: ---
A46: ENG STORMWATER DRAINS | B46: MR A ALBANY .00 .00 .00 .00 .00 .00 | C46: 24.00 896.40 .00 .00 | D46: 24.00 1797.84
A48: --------------------------- | B48: ------------------------------------------------------------------------------------------------------ | C48: -------------------------------------------- | D48: ------------------------ | E48: ---
A49: ENG STORMWATER DRAINS | B49: .00 .00 .00 .00 .00 .00 | C49: 24.00 896.40 .00 .00 | D49: 24.00 1797.84
A51: --------------------------- | B51: ------------------------------------------------------------------------------------------------------ | C51: -------------------------------------------- | D51: ------------------------ | E51: ---
A52: WATER CONSERVATION PURIF | B52: MR MM MAKOMBE 6.00 1275.12 .00 .00 .00 .00 | C52: .00 .00 .00 .00 | D52: 6.00 1275.12 | E52: N
A54: WATER CONSERVATION PURIF | B54: MR ZP DAVANE .00 .00 .00 .00 .00 .00 | C54: 12.00 1184.88 12.00 2369.64 | D54: 24.00 4455.96 | E54: N
A56: WATER CONSERVATION PURIF | B56: MR SM HANI .00 .00 .00 .00 .00 .00 | C56: 48.00 3920.16 12.00 1960.08 | D56: 60.00 6669.00 | E56: Y
A58: WATER CONSERVATION PURIF | B58: MR TJ JILANA .00 .00 .00 .00 .00 .00 | C58: 48.00 2682.72 .00 .00 | D58: 48.00 3471.48 | E58: N
A60: WATER CONSERVATION PURIF | B60: MS KM MADINDA .00 .00 .00 .00 .00 .00 | C60: 48.00 4110.72 .00 .00 | D60: 48.00 4786.80 | E60: Y
A62: WATER CONSERVATION PURIF | B62: MR H MARAMBANA .00 .00 .00 .00 .00 .00 | C62: 24.00 1621.44 .00 .00 | D62: 24.00 2522.88 | E62: Y
A64: WATER CONSERVATION PURIF | B64: MR A HELENI .00 .00 .00 .00 .00 .00 | C64: 48.00 1970.88 .00 .00 | D64: 48.00 2646.96 | E64: Y
A66: WATER CONSERVATION PURIF | B66: MR T BAVUMA .00 .00 .00 .00 .00 .00 | C66: 36.00 1549.80 12.00 1033.20 | D66: 48.00 2583.00 | E66: Y
A68: 01 MAKANA MUNICIPALITY-SAL | B68: OVERIME HOURS REPORT PRINTED ON 2025/04/3(10:36) FOR 2025/04/25 | C68: PAGE 2
B69: NORMAL OVERTIME | D69: TOTALS
B70: ________________________________________________________________________________ | C70: ______________________________________ | D70: ____________________
B71: | O/T @ 1.5 O/T @ SUN O/T @ 1.0 O/T P/H | | C71: | SUN (SHIFT) P/H (SHIFT) | | D71: | T/HRS O/T TOT| | E71: ESS SERV
A72: DEPT | B72: EMPLOYEE NAME HOURS AMOUNT HOURS AMOUNT HOURS AMOUNT HOURS AMOUNT | C72: HOURS AMOUNT HOURS AMOUNT
A75: WATER CONSERVATION PURIF | B75: MR J LEON 16.50 3343.97 .00 .00 .00 .00 | C75: .00 .00 .00 .00 | D75: 16.50 3243.98 | E75: N
A77: WATER CONSERVATION PURIF | B77: MR X SODLADLA 21.00 2352.74 35.00 2838.22 .00 .00 | C77: .00 .00 .00 .00 | D77: 56.00 5190.96 | E77: N
A79: WATER CONSERVATION PURIF | B79: MR AS BOTILE .00 .00 .00 .00 .00 .00 | C79: 12.00 639.60 12.00 1279.20 | D79: 24.00 2820.24 | E79: Y
A81: WATER CONSERVATION PURIF | B81: MR M SOLANI .00 .00 .00 .00 .00 .00 | C81: 48.00 3242.88 .00 .00 | D81: 48.00 4144.32 | E81: Y
A83: WATER CONSERVATION PURIF | B83: MR OO MBOMBO .00 .00 .00 .00 .00 .00 | C83: 48.00 2066.40 .00 .00 | D83: 48.00 2855.16 | E83: N
A85: WATER CONSERVATION PURIF | B85: MS N FIHLANI 30.00 3361.05 12.00 1493.80 .00 .00 | C85: .00 .00 .00 .00 | D85: 42.00 5756.29 | E85: N
A87: --------------------------- | B87: ------------------------------------------------------------------------------------------------------ | C87: -------------------------------------------- | D87: ------------------------ | E87: ---
A88: WATER CONSERVATION PURIF | B88: 73.50 10332.88 47.00 4332.02 .00 .00 | C88: 372.00 22989.48 48.00 6642.12 | D88: 540.50 52422.15
A90: --------------------------- | B90: ------------------------------------------------------------------------------------------------------ | C90: -------------------------------------------- | D90: ------------------------ | E90: ---
A91: WATER JAMES KLEYNHANS | B91: MR ZR ADAM .00 .00 .00 .00 .00 .00 | C91: 36.00 2513.16 12.00 1675.44 | D91: 48.00 4752.00 | E91: N
A93: WATER JAMES KLEYNHANS | B93: MS N GONGQOBE .00 .00 .00 .00 .00 .00 | C93: 12.00 980.04 12.00 1960.08 | D93: 24.00 3841.56 | E93: Y
A95: WATER JAMES KLEYNHANS | B95: MR ME BANISI .00 .00 .00 .00 .00 .00 | C95: 24.00 1621.44 .00 .00 | D95: 24.00 2522.88 | E95: Y
A97: WATER JAMES KLEYNHANS | B97: MR MN MANTLA 4.00 810.66 4.00 1080.88 .00 .00 | C97: 12.00 810.72 12.00 1621.32 | D97: 32.00 5168.51 | E97: N
A99: --------------------------- | B99: ------------------------------------------------------------------------------------------------------ | C99: -------------------------------------------- | D99: ------------------------ | E99: ---
A100: WATER JAMES KLEYNHANS | B100: 4.00 810.66 4.00 1080.88 .00 .00 | C100: 84.00 5925.36 36.00 5256.84 | D100: 128.00 16284.95
A102: --------------------------- | B102: ------------------------------------------------------------------------------------------------------ | C102: -------------------------------------------- | D102: ------------------------ | E102: ---
A103: WATER RETICULATION | B103: MR LL BASIE 27.00 3518.24 7.00 1216.18 .00 .00 | C103: .00 .00 .00 .00 | D103: 34.00 4734.42 | E103: N
A105: WATER RETICULATION | B105: MR S JACK 14.00 1724.31 21.00 3448.62 .00 .00 | C105: .00 .00 .00 .00 | D105: 35.00 5172.93 | E105: N
A107: WATER RETICULATION | B107: MR L MLOLA 28.00 8293.75 5.00 1974.70 .00 .00 | C107: .00 .00 .00 .00 | D107: 33.00 6815.85 | E107: N
A109: WATER RETICULATION | B109: MR C BASSON 36.00 7471.44 17.50 1106.88 .00 .00 | C109: .00 .00 .00 .00 | D109: 53.50 8126.56 | E109: N
A111: WATER RETICULATION | B111: F HLANGANA .00 .00 .00 .00 .00 .00 | C111: 12.00 504.60 12.00 1009.08 | D111: 24.00 2640.48 | E111: N
A113: WATER RETICULATION | B113: MS N KAYINGANA 12.00 1344.42 12.00 1792.56 .00 .00 | C113: 48.00 1792.80 12.00 896.28 | D113: 84.00 6389.46
A115: WATER RETICULATION | B115: MRS N MANTLA .00 .00 .00 .00 .00 .00 | C115: 12.00 448.20 12.00 896.28 | D115: 24.00 2245.92 | E115: N
A117: WATER RETICULATION | B117: MRS NJ SUKULA .00 .00 .00 .00 .00 .00 | C117: 24.00 896.40 .00 .00 | D117: 24.00 1797.84 | E117: Y
A119: WATER RETICULATION | B119: MR S GQOSHA 19.00 2128.66 .00 .00 .00 .00 | C119: .00 .00 .00 .00 | D119: 19.00 2128.66 | E119: N
A121: WATER RETICULATION | B121: MR S NQEBE .00 .00 .00 .00 .00 .00 | C121: 48.00 3242.88 .00 .00 | D121: 48.00 4144.32 | E121: Y
A123: WATER RETICULATION | B123: MS NT JACK-XHALI .00 .00 .00 .00 .00 .00 | C123: 12.00 448.20 12.00 896.28 | D123: 24.00 2245.92
A125: --------------------------- | B125: ------------------------------------------------------------------------------------------------------ | C125: -------------------------------------------- | D125: ------------------------ | E125: ---
A126: WATER RETICULATION | B126: 136.00 24480.82 62.50 9538.94 .00 .00 | C126: 156.00 7333.08 48.00 3697.92 | D126: 402.50 46442.36
A128: --------------------------- | B128: ------------------------------------------------------------------------------------------------------ | C128: -------------------------------------------- | D128: ------------------------ | E128: ---
A129: FIRE CONTROL | B129: MR VD VATELA .00 .00 .00 .00 .00 .00 | C129: 12.00 926.40 .00 .00 | D129: 12.00 926.40 | E129: Y
A131: FIRE CONTROL | B131: MR FM MAPALING 1.20 320.44 .00 .00 .00 .00 | C131: 36.00 3204.36 .00 .00 | D131: 37.20 3440.29 | E131: Y
A134: 01 MAKANA MUNICIPALITY-SAL | B134: OVERIME HOURS REPORT PRINTED ON 2025/04/3(10:36) FOR 2025/04/25 | C134: PAGE 3
B135: NORMAL OVERTIME | D135: TOTALS
B136: ________________________________________________________________________________ | C136: ______________________________________ | D136: ____________________
B137: | O/T @ 1.5 O/T @ SUN O/T @ 1.0 O/T P/H | | C137: | SUN (SHIFT) P/H (SHIFT) | | D137: | T/HRS O/T TOT| | E137: ESS SERV
A138: DEPT | B138: EMPLOYEE NAME HOURS AMOUNT HOURS AMOUNT HOURS AMOUNT HOURS AMOUNT | C138: HOURS AMOUNT HOURS AMOUNT
A140: FIRE CONTROL | B140: MR GH FELIX .00 .00 .00 .00 .00 .00 | C140: 24.00 1645.68 .00 .00 | D140: 24.00 1645.68 | E140: Y
A142: FIRE CONTROL | B142: MR M MANKAYI .00 .00 .00 .00 .00 .00 | C142: 24.00 2086.08 12.00 2086.08 | D142: 36.00 4172.16 | E142: Y
A144: FIRE CONTROL | B144: MR MR NTSHO 8.40 1945.44 .00 .00 .00 .00 | C144: 48.00 3705.60 .00 .00 | D144: 56.40 5651.04 | E144: Y
A146: FIRE CONTROL | B146: MR TJ SMAYILE 8.00 1795.08 .00 .00 .00 .00 | C146: 24.00 1795.20 12.00 1795.08 | D146: 44.00 5385.36 | E146: Y
A148: FIRE CONTROL | B148: MISS N NGQAKAYI .00 .00 .00 .00 .00 .00 | C148: 24.00 1852.80 12.00 1852.80 | D148: 36.00 3705.60 | E148: Y
A150: FIRE CONTROL | B150: MR MEB BOOI 1.20 243.20 .00 .00 .00 .00 | C150: 24.00 1621.44 .00 .00 | D150: 25.20 1861.05 | E150: Y
A152: FIRE CONTROL | B152: MR AT BOMA .00 .00 .00 .00 .00 .00 | C152: 36.00 2692.80 .00 .00 | D152: 36.00 2692.80 | E152: Y
A154: FIRE CONTROL | B154: MR MM MANCAM 8.00 1795.08 .00 .00 .00 .00 | C154: 24.00 1795.20 12.00 1795.08 | D154: 44.00 5385.36 | E154: Y
A156: FIRE CONTROL | B156: MR M MARAWU 8.00 1532.64 .00 .00 .00 .00 | C156: 24.00 1532.64 12.00 1532.64 | D156: 44.00 4597.92 | E156: Y
A158: FIRE CONTROL | B158: MRS PL MBANE .00 .00 .00 .00 .00 .00 | C158: 5.20 388.96 .00 .00 | D158: 5.20 388.96 | E158: Y
A160: FIRE CONTROL | B160: MS NP NTLANJENI 1.20 341.32 .00 .00 .00 .00 | C160: 48.00 4550.88 .00 .00 | D160: 49.20 4786.81 | E160: Y
A162: FIRE CONTROL | B162: MR ZC NDOLO .00 .00 .00 .00 .00 .00 | C162: 12.00 788.28 .00 .00 | D162: 12.00 788.28 | E162: Y
... A170: FIRE CONTROL | B170: MR JI POTBERG .00 .00 .00 .00 .00 .00 | C170: 36.00 2374.92 12.00 1583.28 | D170: 48.00 3958.20 | E170: Y
A172: FIRE CONTROL | B172: MS T SOBIKWA .00 .00 .00 .00 .00 .00 | C172: 36.00 2012.04 12.00 1341.24 | D172: 48.00 3353.28
A174: FIRE CONTROL | B174: MRS NJ SOMEKETA .00 .00 .00 .00 .00 .00 | C174: 24.00 2369.76 12.00 2369.64 | D174: 36.00 4739.40 | E174: Y
A176: FIRE CONTROL | B176: MR T KASPER .00 .00 .00 .00 .00 .00 | C176: 24.00 1546.32 12.00 1546.32 | D176: 36.00 3092.64 | E176: Y
A178: FIRE CONTROL | B178: MR D MKHAZA 8.00 1546.32 .00 .00 .00 .00 | C178: 24.00 1546.32 12.00 1546.32 | D178: 44.00 4638.96 | E178: Y
A180: FIRE CONTROL | B180: MRS VJ JEZI 8.00 1279.20 .00 .00 .00 .00 | C180: 48.00 2558.40 .00 .00 | D180: 56.00 3837.60 | E180: Y
...

Sheet March25
A1: 01 MAKANA MUNICIPALITY-SAL | B1: OVER | C1: IME HOURS REPORT | E1: PRINTED ON | F1: 2025/03/2( 9:22) | G1: FOR | H1: 45741 | I1: PAGE 1
E2: NORMAL | F2: OVERTIME | I2: STATUTORY | J2: O/T | M2: TOTALS
C3: ___________________ | D3: ___________ | E3: ___________ | F3: __________________ | G3: ____ | H3: _________________ | I3: ________________ | J3: ____ | K3: ________________ | L3: __ | M3: ____________________
C4: | O/T @ 1.5 | D4: O/T @ | E4: SUN | F4: O/T @ 1.0 | H4: O/T P/H | | I4: | SUN (SHIFT) | K4: P/H (SHIFT) | L4: | | M4: | T/HRS O/T TOT| | N4: ESS SERV
A5: DEPT | B5: EMPLOYEE NAME | C5: HOURS AMOUNT | D5: HOURS | E5: AMOUNT | F5: HOURS AMOUNT | H5: HOURS AMOUNT | I5: HOURS AMOUNT | K5: HOURS AMOUNT
A7: ENG SEWER ADMIN | B7: MR S THETHANI | C7: .00 .00 | D7: .00 | E7: .00 | F7: .00 | H7: .00 | I7: 24.00 1621.44 | K7: .00 .00 | M7: 24.00 1621.44 | N7: N
A9: --------------------------- | B9: ------------------- | C9: ---------------------- | D9: ----------- | E9: ----------- | F9: ------------------ | G9: ---- | H9: ----------------- | I9: ------------------- | J9: ---- | K9: ---------------- | L9: ----- | M9: ------------------------ | N9: ---
A10: ENG SEWER ADMIN | C10: .00 .00 | D10: .00 | E10: .00 | F10: .00 | H10: .00 | I10: 24.00 1621.44 | K10: .00 .00 | M10: 24.00 1621.44
A12: --------------------------- | B12: ------------------- | C12: ---------------------- | D12: ----------- | E12: ----------- | F12: ------------------ | G12: ---- | H12: ----------------- | I12: ------------------- | J12: ---- | K12: ---------------- | L12: ----- | M12: ------------------------ | N12: ---
A13: ENG DISPOSAL WORKS | B13: MR M MZIZI | C13: .00 .00 | D13: .00 | E13: .00 | F13: .00 | H13: .00 | I13: 24.00 1341.36 | K13: .00 .00 | M13: 24.00 1792.08 | N13: N
A15: ENG DISPOSAL WORKS | B15: MR SC NZWANA | C15: .00 .00 | D15: .00 | E15: .00 | F15: .00 | H15: .00 | I15: 24.00 1309.92 | K15: .00 .00 | M15: 24.00 1309.92 | N15: N
A17: ENG DISPOSAL WORKS | B17: MR SG NKOLONGO | C17: .00 .00 | D17: .00 | E17: .00 | F17: .00 | H17: .00 | I17: 24.00 1621.44 | K17: .00 .00 | M17: 24.00 1621.44 | N17: N
A19: ENG DISPOSAL WORKS | B19: MRS S SOMAGU | C19: .00 .00 | D19: .00 | E19: .00 | F19: .00 | H19: .00 | I19: 24.00 1914.24 | K19: .00 .00 | M19: 24.00 1914.24 | N19: N
A21: ENG DISPOSAL WORKS | B21: MR L PLANGA | C21: .00 .00 | D21: .00 | E21: .00 | F21: .00 | H21: .00 | I21: 12.00 492.72 | K21: .00 .00 | M21: 12.00 492.72 | N21: N
A23: ENG DISPOSAL WORKS | B23: MR MS MAZUNGULA | C23: .00 .00 | D23: .00 | E23: .00 | F23: .00 | H23: .00 | I23: 12.00 516.60 | K23: .00 .00 | M23: 12.00 516.60
A25: --------------------------- | B25: ------------------- | C25: ---------------------- | D25: ----------- | E25: ----------- | F25: ------------------ | G25: ---- | H25: ----------------- | I25: ------------------- | J25: ---- | K25: ---------------- | L25: ----- | M25: ------------------------ | N25: ---
A26: ENG DISPOSAL WORKS | C26: .00 .00 | D26: .00 | E26: .00 | F26: .00 | H26: .00 | I26: 120.00 7196.28 | K26: .00 .00 | M26: 120.00 7647.00
A28: --------------------------- | B28: ------------------- | C28: ---------------------- | D28: ----------- | E28: ----------- | F28: ------------------ | G28: ---- | H28: ----------------- | I28: ------------------- | J28: ---- | K28: ---------------- | L28: ----- | M28: ------------------------ | N28: ---
A29: ENG SEWER RETICULATION | B29: MR R FRANCIS | C29: .00 .00 | D29: .00 | E29: .00 | F29: .00 | H29: .00 | I29: 24.00 1960.08 | K29: .00 .00 | M29: 24.00 1960.08 | N29: N
A31: ENG SEWER RETICULATION | B31: MR N KRIEL | C31: 37.00 5509.49 | D31: 9.00 | E31: 805.28 | F31: .00 | H31: .00 | I31: .00 .00 | K31: .00 .00 | M31: 46.00 6314.77
A33: --------------------------- | B33: ------------------- | C33: ---------------------- | D33: ----------- | E33: ----------- | F33: ------------------ | G33: ---- | H33: ----------------- | I33: ------------------- | J33: ---- | K33: ---------------- | L33: ----- | M33: ------------------------ | N33: ---
A34: ENG SEWER RETICULATION | C34: 37.00 5509.49 | D34: 9.00 | E34: 805.28 | F34: .00 | H34: .00 | I34: 24.00 1960.08 | K34: .00 .00 | M34: 70.00 8274.85
A36: --------------------------- | B36: ------------------- | C36: ---------------------- | D36: ----------- | E36: ----------- | F36: ------------------ | G36: ---- | H36: ----------------- | I36: ------------------- | J36: ---- | K36: ---------------- | L36: ----- | M36: ------------------------ | N36: ---
A37: ENG STORMWATER DRAINS | B37: MR A ALBANY | C37: .00 .00 | D37: .00 | E37: .00 | F37: .00 | H37: .00 | I37: 36.00 1344.60 | K37: .00 .00 | M37: 36.00 1795.32
A39: --------------------------- | B39: ------------------- | C39: ---------------------- | D39: ----------- | E39: ----------- | F39: ------------------ | G39: ---- | H39: ----------------- | I39: ------------------- | J39: ---- | K39: ---------------- | L39: ----- | M39: ------------------------ | N39: ---
A40: ENG STORMWATER DRAINS | C40: .00 .00 | D40: .00 | E40: .00 | F40: .00 | H40: .00 | I40: 36.00 1344.60 | K40: .00 .00 | M40: 36.00 1795.32
A42: --------------------------- | B42: ------------------- | C42: ---------------------- | D42: ----------- | E42: ----------- | F42: ------------------ | G42: ---- | H42: ----------------- | I42: ------------------- | J42: ---- | K42: ---------------- | L42: ----- | M42: ------------------------ | N42: ---
A43: WATER CONSERVATION PURIF | B43: MR ZP DAVANE | C43: .00 .00 | D43: .00 | E43: .00 | F43: .00 | H43: .00 | I43: 12.00 1052.40 | K43: .00 .00 | M43: 12.00 1277.76 | N43: N
A45: WATER CONSERVATION PURIF | B45: MR SM HANI | C45: .00 .00 | D45: .00 | E45: .00 | F45: .00 | H45: .00 | I45: 36.00 2940.12 | K45: .00 .00 | M45: 36.00 3616.20 | N45: Y
A47: WATER CONSERVATION PURIF | B47: MR TJ JILANA | C47: .00 .00 | D47: .00 | E47: .00 | F47: .00 | H47: .00 | I47: 12.00 670.68 | K47: .00 .00 | M47: 12.00 1459.44 | N47: N
A49: WATER CONSERVATION PURIF | B49: MR Z NGUMBELA | C49: 29.00 3417.80 | D49: 33.00 | E49: 1728.54 | F49: .00 | H49: .00 | I49: .00 .00 | K49: .00 .00 | M49: 62.00 5146.34 | N49: N
A51: WATER CONSERVATION PURIF | B51: MS KM MADINDA | C51: .00 .00 | D51: .00 | E51: .00 | F51: .00 | H51: .00 | I51: .00 .00 | K51: .00 .00 | M51: .00 676.08 | N51: Y
A53: WATER CONSERVATION PURIF | B53: MR H MARAMBANA | C53: .00 .00 | D53: .00 | E53: .00 | F53: .00 | H53: .00 | I53: 24.00 1621.44 | K53: .00 .00 | M53: 24.00 2297.52 | N53: Y
A55: WATER CONSERVATION PURIF | B55: MR FN MAVELA | C55: .00 .00 | D55: .00 | E55: .00 | F55: .00 | H55: .00 | I55: 36.00 3037.68 | K55: 36.00 6075.00 | M55: 72.00 10014.12 | N55: Y
A57: WATER CONSERVATION PURIF | B57: MR NM NDOLO | C57: 29.00 5540.16 | D57: 35.00 | E57: 2801.92 | F57: .00 | H57: .00 | I57: .00 .00 | K57: .00 .00 | M57: 64.00 7864.20 | N57: N
A59: WATER CONSERVATION PURIF | B59: MR MG FAKU | C59: 21.00 2525.99 | D59: 21.00 | E59: 3047.22 | F59: .00 | H59: .00 | I59: .00 .00 | K59: .00 .00 | M59: 42.00 5573.21 | N59: N
A61: WATER CONSERVATION PURIF | B61: MR X NTETHE | C61: 5.00 601.43 | D61: .00 | E61: .00 | F61: .00 | H61: .00 | I61: .00 .00 | K61: .00 .00 | M61: 5.00 601.43 | N61: N
A63: WATER CONSERVATION PURIF | B63: MR A HELENI | C63: .00 .00 | D63: .00 | E63: .00 | F63: .00 | H63: .00 | I63: .00 .00 | K63: .00 .00 | M63: .00 676.08 | N63: Y
A65: WATER CONSERVATION PURIF | B65: MR T BAVUMA | C65: .00 .00 | D65: .00 | E65: .00 | F65: .00 | H65: .00 | I65: 12.00 516.60 | K65: .00 .00 | M65: 12.00 516.60 | N65: Y
A67: 01 MAKANA MUNICIPALITY-SAL | B67: OVER | C67: IME HOURS REPORT | E67: PRINTED ON | F67: 2025/03/2( 9:22) | G67: FOR | H67: 45741 | I67: PAGE 2
E68: NORMAL | F68: OVERTIME | I68: STATUTORY | J68: O/T | M68: TOTALS
C69: ___________________ | D69: ___________ | E69: ___________ | F69: __________________ | G69: ____ | H69: _________________ | I69: ________________ | J69: ____ | K69: ________________ | L69: __ | M69: ____________________
C70: | O/T @ 1.5 | D70: O/T @ | E70: SUN | F70: O/T @ 1.0 | H70: O/T P/H | | I70: | SUN (SHIFT) | K70: P/H (SHIFT) | L70: | | M70: | T/HRS O/T TOT| | N70: ESS SERV
A71: DEPT | B71: EMPLOYEE NAME | C71: HOURS AMOUNT | D71: HOURS | E71: AMOUNT | F71: HOURS AMOUNT | H71: HOURS AMOUNT | I71: HOURS AMOUNT | K71: HOURS AMOUNT
A74: WATER CONSERVATION PURIF | B74: MR EP JACOBS | C74: 16.00 1924.56 | D74: 8.00 | E74: 1283.04 | F74: .00 | H74: .00 | I74: .00 .00 | K74: .00 .00 | M74: 24.00 3207.60
A76: WATER CONSERVATION PURIF | B76: MR AS BOTILE | C76: .00 .00 | D76: .00 | E76: .00 | F76: .00 | H76: .00 | I76: 48.00 2558.40 | K76: .00 .00 | M76: 48.00 3459.84 | N76: Y
A78: WATER CONSERVATION PURIF | B78: MR M SOLANI | C78: .00 .00 | D78: .00 | E78: .00 | F78: .00 | H78: .00 | I78: .00 .00 | K78: .00 .00 | M78: .00 676.08 | N78: Y
A80: WATER CONSERVATION PURIF | B80: MR OO MBOMBO | C80: .00 .00 | D80: .00 | E80: .00 | F80: .00 | H80: .00 | I80: 12.00 516.60 | K80: .00 .00 | M80: 12.00 1418.04 | N80: N
A82: WATER CONSERVATION PURIF | B82: MS N FIHLANI | C82: .00 .00 | D82: .00 | E82: .00 | F82: .00 | H82: .00 | I82: 24.00 896.40 | K82: .00 .00 | M82: 24.00 1572.48 | N82: N
A84: --------------------------- | B84: ------------------- | C84: ---------------------- | D84: ----------- | E84: ----------- | F84: ------------------ | G84: ---- | H84: ----------------- | I84: ------------------- | J84: ---- | K84: ---------------- | L84: ----- | M84: ------------------------ | N84: ---
A85: WATER CONSERVATION PURIF | C85: 100.00 14009.94 | D85: 97.00 | E85: 8860.72 | F85: .00 | H85: .00 | I85: 216.00 13810.32 | K85: 36.00 6075.00 | M85: 449.00 50053.02
A87: --------------------------- | B87: ------------------- | C87: ---------------------- | D87: ----------- | E87: ----------- | F87: ------------------ | G87: ---- | H87: ----------------- | I87: ------------------- | J87: ---- | K87: ---------------- | L87: ----- | M87: ------------------------ | N87: ---
A88: WATER JAMES KLEYNHANS | B88: MR ZR ADAM | C88: .00 .00 | D88: .00 | E88: .00 | F88: .00 | H88: .00 | I88: 24.00 1675.44 | K88: .00 .00 | M88: 24.00 2576.88 | N88: N
A90: WATER JAMES KLEYNHANS | B90: MS N GONGQOBE | C90: .00 .00 | D90: .00 | E90: .00 | F90: .00 | H90: .00 | I90: 36.00 2940.12 | K90: .00 .00 | M90: 36.00 3616.20 | N90: Y
A92: WATER JAMES KLEYNHANS | B92: MR MM MGOGOSHE | C92: .00 .00 | D92: .00 | E92: .00 | F92: .00 | H92: .00 | I92: 24.00 1914.24 | K92: .00 .00 | M92: 24.00 2815.68 | N92: Y
A94: WATER JAMES KLEYNHANS | B94: MR ME BANISI | C94: .00 .00 | D94: .00 | E94: .00 | F94: .00 | H94: .00 | I94: 24.00 1621.44 | K94: .00 .00 | M94: 24.00 2297.52 | N94: Y
A96: WATER JAMES KLEYNHANS | B96: MR MN MANTLA | C96: .00 .00 | D96: .00 | E96: .00 | F96: .00 | H96: .00 | I96: 48.00 3242.88 | K96: .00 .00 | M96: 48.00 3956.52 | N96: N
A98: WATER JAMES KLEYNHANS | B98: MR NL SMILE | C98: .00 .00 | D98: .00 | E98: .00 | F98: .00 | H98: .00 | I98: 24.00 1621.44 | K98: .00 .00 | M98: 24.00 2297.52
A100: --------------------------- | B100: ------------------- | C100: ---------------------- | D100: ----------- | E100: ----------- | F100: ------------------ | G100: ---- | H100: ----------------- | I100: ------------------- | J100: ---- | K100: ---------------- | L100: ----- | M100: ------------------------ | N100: ---
A101: WATER JAMES KLEYNHANS | C101: .00 .00 | D101: .00 | E101: .00 | F101: .00 | H101: .00 | I101: 180.00 13015.56 | K101: .00 .00 | M101: 180.00 17560.32
A103: --------------------------- | B103: ------------------- | C103: ---------------------- | D103: ----------- | E103: ----------- | F103: ------------------ | G103: ---- | H103: ----------------- | I103: ------------------- | J103: ---- | K103: ---------------- | L103: ----- | M103: ------------------------ | N103: ---
A104: WATER RETICULATION | B104: MR MP MKALIPI | C104: 36.00 8928.90 | D104: 9.00 | E104: 1322.80 | F104: .00 | H104: .00 | I104: .00 .00 | K104: .00 .00 | M104: 45.00 8126.59 | N104: N
A106: WATER RETICULATION | B106: MR A BRUINTJIES | C106: 28.00 3136.98 | D106: 8.00 | E106: 1195.04 | F106: .00 | H106: .00 | I106: .00 .00 | K106: .00 .00 | M106: 36.00 4332.02 | N106: N
A108: WATER RETICULATION | B108: MRS F HLANGANA | C108: .00 .00 | D108: .00 | E108: .00 | F108: .00 | H108: .00 | I108: 36.00 1513.80 | K108: .00 .00 | M108: 36.00 2527.92 | N108: N
A110: WATER RETICULATION | B110: MS N KAYINGANA | C110: .00 .00 | D110: .00 | E110: .00 | F110: .00 | H110: .00 | I110: .00 .00 | K110: .00 .00 | M110: .00 901.44
A112: WATER RETICULATION | B112: MRS N MANTLA | C112: 17.00 1904.60 | D112: 23.00 | E112: 3435.74 | F112: .00 | H112: .00 | I112: .00 .00 | K112: .00 .00 | M112: 40.00 5340.34 | N112: N
A114: WATER RETICULATION | B114: MR T MTWECU | C114: 22.00 2464.77 | D114: 9.00 | E114: 1344.42 | F114: .00 | H114: .00 | I114: .00 .00 | K114: .00 .00 | M114: 31.00 3809.19 | N114: N
A116: WATER RETICULATION | B116: MR SI DYONGOMAN | C116: 31.00 3473.09 | D116: 10.00 | E116: 1344.42 | F116: .00 | H116: .00 | I116: .00 .00 | K116: .00 .00 | M116: 41.00 4817.51
A118: WATER RETICULATION | B118: MR S NQEBE | C118: .00 .00 | D118: .00 | E118: .00 | F118: .00 | H118: .00 | I118: .00 .00 | K118: .00 .00 | M118: .00 676.08 | N118: Y
A120: --------------------------- | B120: ------------------- | C120: ---------------------- | D120: ----------- | E120: ----------- | F120: ------------------ | G120: ---- | H120: ----------------- | I120: ------------------- | J120: ---- | K120: ---------------- | L120: ----- | M120: ------------------------ | N120: ---
A121: WATER RETICULATION | C121: 134.00 19908.34 | D121: 59.00 | E121: 8642.42 | F121: .00 | H121: .00 | I121: 36.00 1513.80 | K121: .00 .00 | M121: 229.00 30531.09
A123: --------------------------- | B123: ------------------- | C123: ---------------------- | D123: ----------- | E123: ----------- | F123: ------------------ | G123: ---- | H123: ----------------- | I123: ------------------- | J123: ---- | K123: ---------------- | L123: ----- | M123: ------------------------ | N123: ---
A124: FIRE CONTROL | B124: MR FM MAPALING | C124: .00 .00 | D124: .00 | E124: .00 | F124: .00 | H124: .00 | I124: 12.00 1068.12 | K124: .00 .00 | M124: 12.00 1068.12 | N124: Y
A126: FIRE CONTROL | B126: MR GH FELIX | C126: 8.00 1645.68 | D126: .00 | E126: .00 | F126: .00 | H126: .00 | I126: 36.00 2468.52 | K126: .00 .00 | M126: 44.00 4114.20 | N126: Y
A128: FIRE CONTROL | B128: MR M MANKAYI | C128: .00 .00 | D128: .00 | E128: .00 | F128: .00 | H128: .00 | I128: 24.00 1645.68 | K128: .00 .00 | M128: 24.00 1645.68 | N128: Y
A130: FIRE CONTROL | B130: MR MR NTSHO | C130: 8.00 1852.80 | D130: .00 | E130: .00 | F130: .00 | H130: .00 | I130: 12.00 926.40 | K130: .00 .00 | M130: 20.00 2779.20 | N130: Y
A133: 01 MAKANA MUNICIPALITY-SAL | B133: OVER | C133: IME HOURS REPORT | E133: PRINTED ON | F133: 2025/03/2( 9:22) | G133: FOR | H133: 45741 | I133: PAGE 3
E134: NORMAL | F134: OVERTIME | I134: STATUTORY | J134: O/T | M134: TOTALS
C135: ___________________ | D135: ___________ | E135: ___________ | F135: __________________ | G135: ____ | H135: _________________ | I135: ________________ | J135: ____ | K135: ________________ | L135: __ | M135: ____________________
C136: | O/T @ 1.5 | D136: O/T @ | E136: SUN | F136: O/T @ 1.0 | H136: O/T P/H | | I136: | SUN (SHIFT) | K136: P/H (SHIFT) | L136: | | M136: | T/HRS O/T TOT| | N136: ESS SERV
A137: DEPT | B137: EMPLOYEE NAME | C137: HOURS AMOUNT | D137: HOURS | E137: AMOUNT | F137: HOURS AMOUNT | H137: HOURS AMOUNT | I137: HOURS AMOUNT | K137: HOURS AMOUNT
A139: FIRE CONTROL | B139: MR TJ SMAYILE | C139: 8.00 1795.08 | D139: .00 | E139: .00 | F139: .00 | H139: .00 | I139: 36.00 2692.80 | K139: .00 .00 | M139: 44.00 4487.88 | N139: Y
A141: FIRE CONTROL | B141: MISS N NGQAKAYI | C141: .00 .00 | D141: .00 | E141: .00 | F141: .00 | H141: .00 | I141: 24.00 1852.80 | K141: .00 .00 | M141: 24.00 1852.80 | N141: Y
A143: FIRE CONTROL | B143: MR AT BOMA | C143: .00 .00 | D143: .00 | E143: .00 | F143: .00 | H143: .00 | I143: 12.00 897.60 | K143: .00 .00 | M143: 12.00 897.60 | N143: Y
A145: FIRE CONTROL | B145: MR MM MANCAM | C145: 8.00 1795.08 | D145: .00 | E145: .00 | F145: .00 | H145: .00 | I145: 24.00 1795.20 | K145: .00 .00 | M145: 32.00 3590.28 | N145: Y
A147: FIRE CONTROL | B147: MR M MARAWU | C147: .00 .00 | D147: .00 | E147: .00 | F147: .00 | H147: .00 | I147: 12.00 766.32 | K147: .00 .00 | M147: 12.00 766.32 | N147: Y
A149: FIRE CONTROL | B149: MRS PL MBANE | C149: .00 .00 | D149: .00 | E149: .00 | F149: .00 | H149: .00 | I149: 12.00 897.60 | K149: .00 .00 | M149: 12.00 897.60 | N149: Y
A151: FIRE CONTROL | B151: MRS NP NGCESE | C151: .00 .00 | D151: .00 | E151: .00 | F151: .00 | H151: .00 | I151: 12.00 876.48 | K151: .00 .00 | M151: 12.00 876.48 | N151: Y
A153: FIRE CONTROL | B153: MR ZC NDOLO | C153: .00 .00 | D153: .00 | E153: .00 | F153: .00 | H153: .00 | I153: 12.00 788.28 | K153: .00 .00 | M153: 12.00 788.28 | N153: Y
A155: FIRE CONTROL | B155: MS NJ SIKO | C155: .00 .00 | D155: .00 | E155: .00 | F155: .00 | H155: .00 | I155: 24.00 1643.76 | K155: .00 .00 | M155: 24.00 1643.76 | N155: Y
A157: FIRE CONTROL | B157: MR NA SCHEEPERS | C157: 8.00 1767.00 | D157: .00 | E157: .00 | F157: .00 | H157: .00 | I157: 24.00 1767.12 | K157: .00 .00 | M157: 32.00 3534.12 | N157: Y
A159: FIRE CONTROL | B159: MS NVM MKELE | C159: 8.00 1645.68 | D159: .00 | E159: .00 | F159: .00 | H159: .00 | I159: 12.00 822.84 | K159: .00 .00 | M159: 20.00 2468.52 | N159: Y
A161: FIRE CONTROL | B161: MR JI POTBERG | C161: .00 .00 | D161: .00 | E161: .00 | F161: .00 | H161: .00 | I161: 24.00 1583.28 | K161: .00 .00 | M161: 24.00 1583.28 | N161: Y
A163: FIRE CONTROL | B163: MS T SOBIKWA | C163: .00 .00 | D163: .00 | E163: .00 | F163: .00 | H163: .00 | I163: 24.00 1279.20 | K163: .00 .00 | M163: 24.00 1279.20
A165: FIRE CONTROL | B165: MRS NJ SOMEKETA | C165: 8.00 1960.08 | D165: .00 | E165: .00 | F165: .00 | H165: .00 | I165: 36.00 2940.12 | K165: .00 .00 | M165: 44.00 4900.20 | N165: Y
A167: FIRE CONTROL | B167: MR T KASPER | C167: 8.00 1546.32 | D167: .00 | E167: .00 | F167: .00 | H167: .00 | I167: 24.00 1546.32 | K167: .00 .00 | M167: 32.00 3092.64 | N167: Y
A169: FIRE CONTROL | B169: MR D MKHAZA | C169: 8.00 1546.32 | D169: .00 | E169: .00 | F169: .00 | H169: .00 | I169: 24.00 1546.32 | K169: .00 .00 | M169: 32.00 3092.64 | N169: Y
A171: FIRE CONTROL | B171: MR AS NQOKOQA | C171: .00 .00 | D171: .00 | E171: .00 | F171: .00 | H171: .00 | I171: 36.00 2611.80 | K171: .00 .00 | M171: 36.00 2611.80 | N171: Y
A173: FIRE CONTROL | B173: MRS VJ JEZI | C173: 8.00 1279.20 | D173: .00 | E173: .00 | F173: .00 | H173: .00 | I173: 12.00 639.60 | K173: .00 .00 | M173: 20.00 1918.80 | N173: Y
A175: FIRE CONTROL | B175: MR L SONGONGO | C175: 8.00 1279.20 | D175: .00 | E175: .00 | F175: .00 | H175: .00 | I175: 24.00 1279.20 | K175: .00 .00 | M175: 32.00 2558.40 | N175: Y
...

Sheet March25b
A1: 04 MAKANA MUN | B1: ICIPALITY-TEMP | C1: OVERIME HOURS REP | D1: ORT PRINTED ON 2025/03/2( 9:23) FOR 2025/03/2 | E1: 0.70833333 | F1: AGE 1
D2: NORMAL OVERTIME | F2: STA | G2: TUTORY O/T | J2: TOTALS
C3: __________ | D3: _______________________________________________________________ | E3: _______ | F3: __________ | G3: ___________ | H3: _________ | I3: ________ | J3: ____________________
C4: | O/T @ | D4: 1.5 O/T @ SUN O/T @ 1.0 O/T P/H | E4: | | F4: | SUN (SHI | G4: FT) | H4: P/H (SHIF | I4: T) | | J4: | T/HRS O/T TOT| ESS SERV
A5: DEPT | B5: EMPLOYEE NAME | C5: HOURS | D5: AMOUNT HOURS AMOUNT HOURS AMOUNT HOURS | E5: AMOUNT | F5: HOURS | G5: AMOUNT | H5: HOURS | I5: AMOUNT
A7: 10/10/01/6000 | B7: /000 MR S.E MORRIS | C7: .00 | D7: 21.00 .00 42.00 .00 .00 | F7: .00 | G7: .00 | H7: .00 | I7: .00 | J7: .00 5622.55
A9: ------------- | B9: ----------------------------- | C9: ----------------- | D9: --------------------------------------------------------------- | E9: ---------- | F9: ---------- | G9: ----------- | H9: --------- | I9: -------- | J9: ------------------------------
A10: 10/10/01/6000 | B10: /000 | C10: .00 | D10: 21.00 .00 42.00 .00 .00 | F10: .00 | G10: .00 | H10: .00 | I10: .00 | J10: .00 5622.55
A12: ------------- | B12: ----------------------------- | C12: ----------------- | D12: --------------------------------------------------------------- | E12: ---------- | F12: ---------- | G12: ----------- | H12: --------- | I12: -------- | J12: ------------------------------
A13: 40/10/60/6000 | B13: /000 MS S CANGWENI | C13: .00 | D13: .00 .00 .00 .00 .00 | F13: .00 | G13: 36.00 | H13: .00 | I13: .00 | J13: .00 1101.24
A15: 40/10/60/6000 | B15: /000 MR S DLABONGO | C15: .00 | D15: .00 .00 .00 .00 .00 | F15: .00 | G15: 36.00 | H15: .00 | I15: .00 | J15: .00 2231.64
A17: 40/10/60/6000 | B17: /000 MR S GORA | C17: .00 | D17: .00 .00 .00 .00 .00 | F17: .00 | G17: 12.00 | H17: .00 | I17: .00 | J17: .00 367.08
A19: 40/10/60/6000 | B19: /000 MR X MADINDA | C19: .00 | D19: .00 .00 .00 .00 .00 | F19: .00 | G19: 12.00 | H19: .00 | I19: .00 | J19: .00 367.08
A21: 40/10/60/6000 | B21: /000 MR M MAKILE | C21: .00 | D21: .00 .00 .00 .00 .00 | F21: .00 | G21: 12.00 | H21: .00 | I21: .00 | J21: .00 367.08
A23: 40/10/60/6000 | B23: /000 MR S MASETI | C23: .00 | D23: .00 .00 .00 .00 .00 | F23: .00 | G23: 12.00 | H23: .00 | I23: .00 | J23: .00 743.88
A25: 40/10/60/6000 | B25: /000 MR N NKOSI | C25: .00 | D25: .00 .00 .00 .00 .00 | F25: .00 | G25: 36.00 | H25: .00 | I25: .00 | J25: .00 1101.24
A27: 40/10/60/6000 | B27: /000 MR M NOJOKO | C27: .00 | D27: .00 .00 .00 .00 .00 | F27: .00 | G27: 36.00 | H27: .00 | I27: .00 | J27: .00 1101.24
A29: ------------- | B29: ----------------------------- | C29: ----------------- | D29: --------------------------------------------------------------- | E29: ---------- | F29: ---------- | G29: ----------- | H29: --------- | I29: -------- | J29: ------------------------------
A30: 40/10/60/6000 | B30: /000 | C30: .00 | D30: .00 .00 .00 .00 .00 | F30: .00 | G30: 192.00 | H30: .00 | I30: .00 | J30: .00 7380.48
A32: ------------- | B32: ----------------------------- | C32: ----------------- | D32: --------------------------------------------------------------- | E32: ---------- | F32: ---------- | G32: ----------- | H32: --------- | I32: -------- | J32: ------------------------------
A33: 01/10/40/01/6 | B33: 694/000 MR P XAKEKILE | C33: .00 | D33: .00 .00 .00 .00 .00 | F33: .00 | G33: 12.00 | H33: .00 | I33: .00 | J33: .00 743.88
A35: ------------- | B35: ----------------------------- | C35: ----------------- | D35: --------------------------------------------------------------- | E35: ---------- | F35: ---------- | G35: ----------- | H35: --------- | I35: -------- | J35: ------------------------------
A36: 01/10/40/01/6 | B36: 694/000 | C36: .00 | D36: .00 .00 .00 .00 .00 | F36: .00 | G36: 12.00 | H36: .00 | I36: .00 | J36: .00 743.88
A38: ------------- | B38: ----------------------------- | C38: ----------------- | D38: --------------------------------------------------------------- | E38: ---------- | F38: ---------- | G38: ----------- | H38: --------- | I38: -------- | J38: ------------------------------
A39: TOTALS ------ | B39: ----------------------------- | C39: ----------------- | D39: --------------------------------------------------------------- | E39: ---------- | F39: ---------- | G39: ----------- | H39: --------- | I39: -------- | J39: ------------------------------
C40: .00 | D40: 21.00 .00 42.00 .00 .00 | F40: .00 | G40: 204.00 | H40: .00 | I40: .00 | J40: .00 13746.91
A42: ------------- | B42: ----------------------------- | C42: ----------------- | D42: --------------------------------------------------------------- | E42: ---------- | F42: ---------- | G42: ----------- | H42: --------- | I42: -------- | J42: ------------------------------
A43: ------------- | B43: ----------------------------- | C43: ----------------- | D43: --------------------------------------------------------------- | E43: ---------- | F43: ---------- | G43: ----------- | H43: --------- | I43: -------- | J43: ------------------------------

Sheet Feb25
A1: RD MAKANA MUNICIPALITY-SAL | B1: OVERIM | C1: E HOURS REPORT | E1: PRINTED ON | F1: 2025/03/0(12:07) | G1: FOR | H1: 45713 | I1: PAGE 1
E2: NORMAL | F2: OVERTIME | I2: STATUTORY | J2: O/T | N2: TOTALS
C3: ___________________ | D3: ___________ | E3: ___________ | F3: __________________ | G3: ____ | H3: _________________ | I3: ________________ | J3: ____ | K3: ________________ | L3: __ | M3: _ | N3: ___________________
C4: | O/T @ 1.5 | D4: O/T @ | E4: SUN | F4: O/T @ 1.0 | H4: O/T P/H | | I4: | SUN (SHIFT) | K4: P/H (SHIFT) | L4: | | M4: | | N4: T/HRS O/T TOT| | O4: ESS SERV
A5: DEPT | B5: EMPLOYEE NAME | C5: HOURS AMOUNT | D5: HOURS | E5: AMOUNT | F5: HOURS AMOUNT | H5: HOURS AMOUNT | I5: HOURS AMOUNT | K5: HOURS AMOUNT
A7: ENG SEWER ADMIN | B7: MR S THETHANI | C7: 22.00 4392.96 | D7: .00 | E7: .00 | F7: .00 | H7: .00 | I7: 24.00 1597.44 | K7: .00 .00 | N7: 46.00 3760.17 | O7: N
A9: --------------------------- | B9: --------------------- | C9: -------------------- | D9: ----------- | E9: ----------- | F9: ------------------ | G9: ---- | H9: ----------------- | I9: ------------------- | J9: ---- | K9: ---------------- | L9: ----- | M9: ----- | N9: ------------------- | O9: ---
A10: ENG SEWER ADMIN | C10: 22.00 4392.96 | D10: .00 | E10: .00 | F10: .00 | H10: .00 | I10: 24.00 1597.44 | K10: .00 .00 | N10: 46.00 3760.17
A12: --------------------------- | B12: --------------------- | C12: -------------------- | D12: ----------- | E12: ----------- | F12: ------------------ | G12: ---- | H12: ----------------- | I12: ------------------- | J12: ---- | K12: ---------------- | L12: ----- | M12: ----- | N12: ------------------- | O12: ---
A13: ENG DISPOSAL WORKS | B13: MR M MZIZI | C13: .00 .00 | D13: .00 | E13: .00 | F13: .00 | H13: .00 | I13: 24.00 1321.44 | K13: .00 .00 | N13: 24.00 2222.88 | O13: N
A15: ENG DISPOSAL WORKS | B15: MR SC NZWANA | C15: .00 .00 | D15: .00 | E15: .00 | F15: .00 | H15: .00 | I15: 24.00 1290.48 | K15: .00 .00 | N15: 24.00 1290.48 | O15: N
A17: ENG DISPOSAL WORKS | B17: MR SG NKOLONGO | C17: .00 .00 | D17: .00 | E17: .00 | F17: .00 | H17: .00 | I17: 24.00 1597.44 | K17: .00 .00 | N17: 24.00 1597.44 | O17: N
A19: ENG DISPOSAL WORKS | B19: MR S METHUSI | C19: 13.00 4696.38 | D19: .00 | E19: .00 | F19: .00 | H19: .00 | I19: .00 .00 | K19: .00 .00 | N19: 13.00 2555.95 | O19: N
A21: ENG DISPOSAL WORKS | B21: MRS S SOMAGU | C21: .00 .00 | D21: .00 | E21: .00 | F21: .00 | H21: .00 | I21: 24.00 1885.92 | K21: 12.00 1885.92 | N21: 36.00 3771.84 | O21: N
A23: ENG DISPOSAL WORKS | B23: MR L PLANGA | C23: .00 .00 | D23: .00 | E23: .00 | F23: .00 | H23: .00 | I23: 12.00 485.40 | K23: .00 .00 | N23: 12.00 936.12 | O23: N
A25: ENG DISPOSAL WORKS | B25: MR L TYALA | C25: 8.00 883.08 | D25: 16.00 | E25: 2354.88 | F25: .00 | H25: .00 | I25: .00 .00 | K25: .00 .00 | N25: 24.00 3237.96 | O25: N
A27: ENG DISPOSAL WORKS | B27: MR MS MAZUNGULA | C27: .00 .00 | D27: .00 | E27: .00 | F27: .00 | H27: .00 | I27: 12.00 509.04 | K27: .00 .00 | N27: 12.00 509.04
A29: --------------------------- | B29: --------------------- | C29: -------------------- | D29: ----------- | E29: ----------- | F29: ------------------ | G29: ---- | H29: ----------------- | I29: ------------------- | J29: ---- | K29: ---------------- | L29: ----- | M29: ----- | N29: ------------------- | O29: ---
A30: ENG DISPOSAL WORKS | C30: 21.00 5579.46 | D30: 16.00 | E30: 2354.88 | F30: .00 | H30: .00 | I30: 120.00 7089.72 | K30: 12.00 1885.92 | N30: 169.00 16121.71
A32: --------------------------- | B32: --------------------- | C32: -------------------- | D32: ----------- | E32: ----------- | F32: ------------------ | G32: ---- | H32: ----------------- | I32: ------------------- | J32: ---- | K32: ---------------- | L32: ----- | M32: ----- | N32: ------------------- | O32: ---
A33: ENG SEWER RETICULATION | B33: MR R FRANCIS | C33: 44.00 9655.80 | D33: .00 | E33: .00 | F33: .00 | H33: .00 | I33: 24.00 1931.28 | K33: 12.00 1931.16 | N33: 80.00 11726.90 | O33: N
A35: --------------------------- | B35: --------------------- | C35: -------------------- | D35: ----------- | E35: ----------- | F35: ------------------ | G35: ---- | H35: ----------------- | I35: ------------------- | J35: ---- | K35: ---------------- | L35: ----- | M35: ----- | N35: ------------------- | O35: ---
A36: ENG SEWER RETICULATION | C36: 44.00 9655.80 | D36: .00 | E36: .00 | F36: .00 | H36: .00 | I36: 24.00 1931.28 | K36: 12.00 1931.16 | N36: 80.00 11726.90
A38: --------------------------- | B38: --------------------- | C38: -------------------- | D38: ----------- | E38: ----------- | F38: ------------------ | G38: ---- | H38: ----------------- | I38: ------------------- | J38: ---- | K38: ---------------- | L38: ----- | M38: ----- | N38: ------------------- | O38: ---
A39: ENG STORMWATER DRAINS | B39: MR A ALBANY | C39: .00 .00 | D39: .00 | E39: .00 | F39: .00 | H39: .00 | I39: 12.00 441.60 | K39: .00 .00 | N39: 12.00 1230.36
A41: --------------------------- | B41: --------------------- | C41: -------------------- | D41: ----------- | E41: ----------- | F41: ------------------ | G41: ---- | H41: ----------------- | I41: ------------------- | J41: ---- | K41: ---------------- | L41: ----- | M41: ----- | N41: ------------------- | O41: ---
A42: ENG STORMWATER DRAINS | C42: .00 .00 | D42: .00 | E42: .00 | F42: .00 | H42: .00 | I42: 12.00 441.60 | K42: .00 .00 | N42: 12.00 1230.36
A44: --------------------------- | B44: --------------------- | C44: -------------------- | D44: ----------- | E44: ----------- | F44: ------------------ | G44: ---- | H44: ----------------- | I44: ------------------- | J44: ---- | K44: ---------------- | L44: ----- | M44: ----- | N44: ------------------- | O44: ---
A45: WATER CONSERVATION PURIF | B45: MR TJ JILANA | C45: .00 .00 | D45: .00 | E45: .00 | F45: .00 | H45: .00 | I45: 36.00 1982.16 | K45: 12.00 1321.32 | N45: 48.00 4204.92 | O45: N
A47: WATER CONSERVATION PURIF | B47: MS KM MADINDA | C47: .00 .00 | D47: .00 | E47: .00 | F47: .00 | H47: .00 | I47: 48.00 4050.24 | K47: .00 .00 | N47: 48.00 4726.32 | O47: Y
A49: WATER CONSERVATION PURIF | B49: MR H MARAMBANA | C49: .00 .00 | D49: .00 | E49: .00 | F49: .00 | H49: .00 | I49: 24.00 1597.44 | K49: .00 .00 | N49: 24.00 2273.52 | O49: Y
A51: WATER CONSERVATION PURIF | B51: MR A HELENI | C51: .00 .00 | D51: .00 | E51: .00 | F51: .00 | H51: .00 | I51: 48.00 1941.60 | K51: .00 .00 | N51: 48.00 2617.68 | O51: Y
A53: WATER CONSERVATION PURIF | B53: MR AS BOTILE | C53: .00 .00 | D53: .00 | E53: .00 | F53: .00 | H53: .00 | I53: .00 .00 | K53: 12.00 1260.24 | N53: 12.00 2049.00 | O53: Y
A55: WATER CONSERVATION PURIF | B55: MR M SOLANI | C55: .00 .00 | D55: .00 | E55: .00 | F55: .00 | H55: .00 | I55: 48.00 3194.88 | K55: .00 .00 | N55: 48.00 4096.32 | O55: Y
A57: WATER CONSERVATION PURIF | B57: MR OO MBOMBO | C57: .00 .00 | D57: .00 | E57: .00 | F57: .00 | H57: .00 | I57: 36.00 1527.12 | K57: 12.00 1017.96 | N57: 48.00 3108.48 | O57: N
A59: --------------------------- | B59: --------------------- | C59: -------------------- | D59: ----------- | E59: ----------- | F59: ------------------ | G59: ---- | H59: ----------------- | I59: ------------------- | J59: ---- | K59: ---------------- | L59: ----- | M59: ----- | N59: ------------------- | O59: ---
A60: WATER CONSERVATION PURIF | C60: .00 .00 | D60: .00 | E60: .00 | F60: .00 | H60: .00 | I60: 240.00 14293.44 | K60: 36.00 3599.52 | N60: 276.00 23076.24
A62: --------------------------- | B62: --------------------- | C62: -------------------- | D62: ----------- | E62: ----------- | F62: ------------------ | G62: ---- | H62: ----------------- | I62: ------------------- | J62: ---- | K62: ---------------- | L62: ----- | M62: ----- | N62: ------------------- | O62: ---
A63: WATER JAMES KLEYNHANS | B63: MR ZR ADAM | C63: .00 .00 | D63: .00 | E63: .00 | F63: .00 | H63: .00 | I63: 24.00 1650.72 | K63: 12.00 1650.72 | N63: 36.00 3977.52 | O63: N
A65: WATER JAMES KLEYNHANS | B65: MS N GONGQOBE | C65: .00 .00 | D65: .00 | E65: .00 | F65: .00 | H65: .00 | I65: .00 .00 | K65: 12.00 1931.16 | N65: 12.00 2156.52 | O65: Y
A67: RD MAKANA MUNICIPALITY-SAL | B67: OVERIM | C67: E HOURS REPORT | E67: PRINTED ON | F67: 2025/03/0(12:07) | G67: FOR | H67: 45713 | I67: PAGE 2
E68: NORMAL | F68: OVERTIME | I68: STATUTORY | J68: O/T | N68: TOTALS
C69: ___________________ | D69: ___________ | E69: ___________ | F69: __________________ | G69: ____ | H69: _________________ | I69: ________________ | J69: ____ | K69: ________________ | L69: __ | M69: _ | N69: ___________________
C70: | O/T @ 1.5 | D70: O/T @ | E70: SUN | F70: O/T @ 1.0 | H70: O/T P/H | | I70: | SUN (SHIFT) | K70: P/H (SHIFT) | L70: | | M70: | | N70: T/HRS O/T TOT| | O70: ESS SERV
A71: DEPT | B71: EMPLOYEE NAME | C71: HOURS AMOUNT | D71: HOURS | E71: AMOUNT | F71: HOURS AMOUNT | H71: HOURS AMOUNT | I71: HOURS AMOUNT | K71: HOURS AMOUNT
A74: WATER JAMES KLEYNHANS | B74: MR MM MGOGOSHE | C74: .00 .00 | D74: .00 | E74: .00 | F74: .00 | H74: .00 | I74: 48.00 3771.84 | K74: .00 .00 | N74: 48.00 4138.05 | O74: Y
A76: WATER JAMES KLEYNHANS | B76: MR MN MANTLA | C76: .00 .00 | D76: .00 | E76: .00 | F76: .00 | H76: .00 | I76: 12.00 798.72 | K76: .00 .00 | N76: 12.00 1362.12 | O76: N
A78: WATER JAMES KLEYNHANS | B78: MR NL SMILE | C78: .00 .00 | D78: .00 | E78: .00 | F78: .00 | H78: .00 | I78: 24.00 1597.44 | K78: .00 .00 | N78: 24.00 2498.88
A80: --------------------------- | B80: --------------------- | C80: -------------------- | D80: ----------- | E80: ----------- | F80: ------------------ | G80: ---- | H80: ----------------- | I80: ------------------- | J80: ---- | K80: ---------------- | L80: ----- | M80: ----- | N80: ------------------- | O80: ---
A81: WATER JAMES KLEYNHANS | C81: .00 .00 | D81: .00 | E81: .00 | F81: .00 | H81: .00 | I81: 108.00 7818.72 | K81: 24.00 3581.88 | N81: 132.00 14133.09
A83: --------------------------- | B83: --------------------- | C83: -------------------- | D83: ----------- | E83: ----------- | F83: ------------------ | G83: ---- | H83: ----------------- | I83: ------------------- | J83: ---- | K83: ---------------- | L83: ----- | M83: ----- | N83: ------------------- | O83: ---
A84: WATER RETICULATION | B84: MRS F HLANGANA | C84: .00 .00 | D84: .00 | E84: .00 | F84: .00 | H84: .00 | I84: 12.00 497.04 | K84: .00 .00 | N84: 12.00 1398.48 | O84: N
A86: WATER RETICULATION | B86: MS N KAYINGANA | C86: .00 .00 | D86: .00 | E86: .00 | F86: .00 | H86: .00 | I86: 12.00 441.60 | K86: .00 .00 | N86: 12.00 807.81
A88: WATER RETICULATION | B88: MR S NQEBE | C88: .00 .00 | D88: .00 | E88: .00 | F88: .00 | H88: .00 | I88: 36.00 2396.16 | K88: .00 .00 | N88: 36.00 3072.24 | O88: Y
