Workbook
Name DATAFILESPREVIEW0105: 'OVERTIME APRIL CO 01'!$A$1:$A$692
Name DATAFILESPREVIEW0105: 'OVERTIME CO 01 FEB 2018'!$A$1:$Q$674
Name DATAFILESPREVIEW0105: 'OVERTIME MARCH 2018 CO 01'!$A$1:$A$633
Name DATAFILESPREVIEW0105: 'OVERTIME MAY 2018 CO 01'!$A$1:$Q$787
Name DATAFILESPREVIEW0112: Aug22CO1!$A$1:$A$613
Name DATAFILESPREVIEW0112: 'Nov22'!$A$1:$A$615
Name DATAFILESPREVIEW0141: 'Apr1'!$A$1:$A$755
Name DATAFILESPREVIEW0141: 'CO,01march'!$A$1:$A$657
Name DATAFILESPREVIEW0141: 'May1'!$A$1:$A$806
Name DATAFILESPREVIEW0141: 'OVERTIME JAN 24'!$A$1:$A$617
Name DATAFILESPREVIEW2205: 'OVERTIME JUNE 2018 CO 01'!$A$1:$Q$720
Name DATAFILESPREVIEWFX41: 'overtime Feb24'!$A$1:$A$678
Name DATAFILESPREVIEWHA41: June24!$A$1:$A$745
Name DATAFILESPREVIEWR605: 'JAN 2018 OVERTIME CO 01'!$A$1:$A$641
Name desc: '[1]Template names'!$B$30
Name Head1: '[1]Template names'!$B$2
Name Head10: '[1]Template names'!$B$16
Name Head11: '[1]Template names'!$B$17
Name head1A: '[1]Template names'!$B$3
Name head1b: '[1]Template names'!$B$4
Name Head2: '[1]Template names'!$B$5
Name head27: '[1]Template names'!$B$33
Name head27a: '[2]Template names'!$B$34
Name Head3: '[1]Template names'!$B$7
Name Head5: '[2]Template names'!$B$9
Name Head5A: '[1]Template names'!$B$10
Name Head6: '[1]Template names'!$B$12
Name Head7: '[1]Template names'!$B$13
Name Head8: '[1]Template names'!$B$14
Name Head9: '[1]Template names'!$B$15
Name muni: '[1]Template names'!$B$93
Name PREVIEWHI41: STAFFjuly24!$A$1:$A$700
Name TableA24: '[1]Template names'!$B$136
Name TableA4: '[2]Template names'!$B$114
Name TableA5: '[2]Template names'!$B$115
Name TableA6: '[2]Template names'!$B$116
Name TableA7: '[2]Template names'!$B$117

Sheet Budget
DK2: OVERTIME REPORT AS OF 30 SEPTEMBER 2026 | DP2: ANNEXURE 1
B6: YTD AMOUNT SPENT | D6: NORMAL OVERTIME | E6: SHIFT HOURS | F6: NORMAL OVERTIME | G6: SHIFT HOURS | H6: NORMAL OVERTIME | I6: SHIFT HOURS | J6: NORMAL OVERTIME | K6: SHIFT HOURS | L6: NORMAL OVERTIME | M6: SHIFT HOURS | N6: NORMAL OVERTIME | O6: SHIFT HOURS | P6: NORMAL OVERTIME | Q6: SHIFT HOURS | R6: NORMAL OVERTIME | S6: SHIFT HOURS | T6: NORMAL OVERTIME | U6: SHIFT HOURS | V6: NORMAL OVERTIME | W6: SHIFT HOURS | X6: NORMAL OVERTIME | Y6: SHIFT HOURS | Z6: NORMAL OVERTIME | AA6: SHIFT HOURS | AB6: NORMAL OVERTIME | AC6: SHIFT HOURS | AD6: NORMAL OVERTIME | AE6: SHIFT HOURS | AF6: NORMAL OVERTIME | AG6: SHIFT HOURS | AH6: YTD AMOUNT SPENT | AI6: NORMAL OVERTIME | AJ6: SHIFT HOURS | AK6: NORMAL OVERTIME | AL6: SHIFT HOURS | AM6: NORMAL OVERTIME | AN6: SHIFT HOURS | AO6: NORMAL OVERTIME | AP6: SHIFT HOURS | AQ6: NORMAL OVERTIME | AR6: SHIFT HOURS | AS6: NORMAL OVERTIME | AT6: SHIFT HOURS | AU6: NORMAL OVERTIME | AV6: SHIFT HOURS | AW6: NORMAL OVERTIME | AX6: SHIFT HOURS | AY6: NORMAL OVERTIME | AZ6: SHIFT HOURS | BA6: NORMAL OVERTIME | BB6: SHIFT HOURS | BC6: NORMAL OVERTIME | BD6: SHIFT HOURS | BE6: NORMAL OVERTIME | BF6: SHIFT HOURS | BG6: YTD AMOUNT SPENT | BI6: NORMAL OVERTIME | BJ6: SHIFT HOURS | BK6: NORMAL OVERTIME | BL6: SHIFT HOURS | BM6: NORMAL OVERTIME | BN6: SHIFT HOURS | BO6: SHIFT HOURS | BP6: NORMAL OVERTIME | BQ6: SHIFT HOURS | BR6: NORMAL OVERTIME | BS6: SHIFT HOURS | BT6: NORMAL OVERTIME | BU6: SHIFT HOURS | BV6: NORMAL OVERTIME | BW6: SHIFT HOURS | BX6: NORMAL OVERTIME | BY6: SHIFT HOURS | BZ6: NORMAL OVERTIME | CA6: SHIFT HOURS | CB6: NORMAL OVERTIME | CC6: SHIFT HOURS | CD6: NORMAL OVERTIME | CE6: SHIFT HOURS | CF6: YTD AMOUNT SPENT | CH6: NORMAL OVERTIME | CI6: SHIFT HOURS | CJ6: NORMAL OVERTIME | CK6: SHIFT HOURS | CL6: NORMAL OVERTIME | CM6: SHIFT HOURS | CN6: NORMAL OVERTIME | CO6: SHIFT HOURS | CP6: NORMAL OVERTIME | CQ6: SHIFT HOURS | CR6: NORMAL OVERTIME | CS6: SHIFT HOURS | CT6: NORMAL OVERTIME | CU6: SHIFT HOURS | CV6: NORMAL OVERTIME | CW6: SHIFT HOURS | CX6: NORMAL OVERTIME | CY6: SHIFT HOURS | CZ6: NORMAL OVERTIME | DA6: SHIFT HOURS | DB6: NORMAL OVERTIME | DC6: SHIFT HOURS | DD6: NORMAL OVERTIME | DE6: SHIFT HOURS | DF6: YTD AMOUNT SPENT | DH6: NORMAL OVERTIME | DI6: SHIFT HOURS | DJ6: Perc Per Dept | DK6: NORMAL OVERTIME | DL6: SHIFT HOURS | DM6: Perc Per Dept | DN6: NORMAL OVERTIME | DO6: SHIFT HOURS | DP6: Perc Per Dept | DQ6: NORMAL OVERTIME | DR6: SHIFT HOURS | DS6: NORMAL OVERTIME | DT6: SHIFT HOURS | DU6: NORMAL OVERTIME | DV6: SHIFT HOURS | DW6: NORMAL OVERTIME | DX6: SHIFT HOURS | DY6: NORMAL OVERTIME | DZ6: SHIFT HOURS | EA6: NORMAL OVERTIME | EB6: SHIFT HOURS | EC6: NORMAL OVERTIME | ED6: SHIFT HOURS | EE6: NORMAL OVERTIME | EF6: SHIFT HOURS | EG6: NORMAL OVERTIME | EH6: SHIFT HOURS | EI6: YTD AMOUNT SPENT
A7: DEPARTMENT | B7: 21/22 | D7: 44764 | E7: 44764 | F7: 44795 | G7: 44795 | H7: 44826 | I7: 44826 | J7: Quarter 1 | K7: Quarter 1 | L7: 44856 | M7: 44856 | N7: 44887 | O7: 44887 | P7: 44917 | Q7: 44917 | R7: Quarter 2 | S7: Quarter 2 | T7: 44949 | U7: 44949 | V7: 44980 | W7: 44980 | X7: 45008 | Y7: 45008 | Z7: Quarter 3 | AA7: Quarter 3 | AB7: 45039 | AC7: 45039 | AD7: 45069 | AE7: 45069 | AF7: 45100 | AG7: 45100 | AH7: 22/23 | AI7: 45130 | AJ7: 45130 | AK7: 45161 | AL7: 45161 | AM7: 45192 | AN7: 45192 | AO7: 45222 | AP7: 45222 | AQ7: 45253 | AR7: 45253 | AS7: 45283 | AT7: 45283 | AU7: 45315 | AV7: 45315 | AW7: 45346 | AX7: 45346 | AY7: 45375 | AZ7: 45375 | BA7: 45406 | BB7: 45406 | BC7: 45436 | BD7: 45436 | BE7: 45467 | BF7: 45467 | BG7: 23/24 | BI7: JULY 24 | BJ7: JULY 24 | BK7: AUG 24 | BL7: AUG 24 | BM7: SEPT 24 | BN7: SEPT 24 | BO7: OCT 24 | BP7: NOV 24 | BQ7: NOV 24 | BR7: DEC 24 | BS7: DEC 24 | BT7: JAN 25 | BU7: JAN 25 | BV7: FEB 25 | BW7: FEB 25 | BX7: MARCH 25 | BY7: MARCH 25 | BZ7: APRIL 25 | CA7: APRIL 25 | CB7: MAY 25 | CC7: MAY 25 | CD7: JUNE 25 | CE7: JUNE 25 | CF7: 24/25 | CH7: JULY 25 | CI7: JULY 25 | CJ7: AUGUST 25 | CK7: AUGUST 25 | CL7: SEPT 25 | CM7: SEPT 25 | CN7: OCT 25 | CO7: OCT 25 | CP7: NOV 25 | CQ7: NOV 25 | CR7: DEC 25 | CS7: DEC 25 | CT7: JAN 26 | CU7: JAN 26 | CV7: FEB 26 | CW7: FEB 26 | CX7: MAR 26 | CY7: MAR 26 | CZ7: APR 26 | DA7: APR 26 | DB7: MAY 26 | DC7: MAY 26 | DD7: JUNE 26 | DE7: JUNE 26 | DF7: 25/26 | DH7: JULY 26 | DI7: JULY 26 | DJ7: % | DK7: AUGUST 26 | DL7: AUGUST 26 | DM7: % | DN7: SEPT 26 | DO7: SEPT 26 | DP7: % | DQ7: OCT 26 | DR7: OCT 26 | DS7: NOV 26 | DT7: NOV 26 | DU7: DEC 26 | DV7: DEC 26 | DW7: JAN 27 | DX7: JAN 27 | DY7: FEB 27 | DZ7: FEB 27 | EA7: MAR 27 | EB7: MAR 27 | EC7: APR 27 | ED7: APR 27 | EE7: MAY 27 | EF7: MAY 27 | EG7: JUNE 27 | EH7: JUNE 27 | EI7: 26/27
A8: TECHNICAL ADMIN | B8: 40506.57 | D8: 2380.68 | F8: 4661.78 | H8: 4248.24 | J8: =D8+F8+H8 -> 11290.7 | K8: =E8+G8+I8 -> 0 | L8: 5225.71 | N8: 7255.98 | P8: 7067.86 | R8: =L8+N8+P8 -> 19549.55 | S8: =M8+O8+Q8 -> 0 | T8: 5225.71 | V8: 4782.96 | X8: 4323.43 | Z8: =T8+V8+X8 -> 14332.1 | AA8: =U8+W8+Y8 -> 0 | AB8: 5000.14 | AD8: 5263.3 | AF8: =12082.53+4285.83 -> 16368.36 | AH8: =D8+E8+F8+G8+H8+I8+L8+M8+N8+O8+P8+Q8+T8+U8+V8+W8+X8+Y8+AB8+AC8+AD8+AE8+AF8+AG8 -> 71804.15 | AI8: =4736.97+15130.7 -> 19867.67 | AK8: =5200.64+9695.41 -> 14896.05 | AM8: 5642.01 | AO8: 5357.88 | AQ8: 5357.88 | AS8: 5357.88 | AU8: =12461.13-AV8 -> 11324.61 | AV8: 1136.52 | AW8: =26320.68+5114.34 -> 31435.02 | AY8: =5236.11+1734.08 -> 6970.19 | BA8: 5733.09 | BC8: =7027.36+4006.7 -> 11034.06 | BE8: 9448.2 | BG8: =AI8+AJ8+AK8+AL8+AM8+AN8+AO8+AP8+AQ8+AR8+AS8+AT8+AU8+AV8+AW8+AX8+AY8+AZ8+BA8+BB8+BC8+BD8+BE8+BF8 -> 133561.06 | BI8: =6286.04+4870.8 -> 11156.84 | BK8: 3325.2 | BO8: 1497.54 | BP8: 6037.47 | BT8: 6083.44 | BX8: 5622.55 | BZ8: =6492.5+5622.55 -> 12115.05 | CB8: 6233.99 | CD8: =5339.4+5554.71 -> 10894.11 | CF8: =SUM(BI8:CE8) -> 62966.19 | CH8: 8434.23 | CL8: 8890.11 | CN8: 7622.94 | CP8: 14471.04 | CR8: 7300.37 | CT8: =1991.01+3982.02 -> 5973.03 | CV8: 4645.69 | CX8: 4645.69 | CZ8: 11060.01 | DB8: 4930.12 | DC8: 1991.01 | DD8: =[3]Sheet1!$D$11+[3]Sheet1!$F$11 -> 7146.61 | DF8: =CJ8+CK8+CL8+CM8+CN8+CO8+CP8+CQ8+CR8+CS8+CT8+CU8+CV8+CW8+CX8+CY8+CZ8+DA8+DB8+DC8+DD8+DE8+CI8+CH8 -> 87110.85 | DH8: 0 | DI8: 0 | DJ8: =(DH8+DI8)/$DH$69 -> 0 | DK8: 8845.44 | DM8: =(DK8+DL8)/$DK$69 -> 0.014330254 | DN8: 10340.21 | DP8: =(DN8+DO8)/$DN$69 -> 0.013854967 | EI8: =DK8+DL8+DN8+DO8+DQ8+DR8+DS8+DT8+DU8+DV8+DW8+DX8+DY8+DZ8+EA8+EB8+EC8+ED8+EE8+EF8+EG8+EH8+DI8+DH8 -> 19185.65
A9: MASONS/CARPENTERS | B9: 0 | J9: =D9+F9+H9 -> 0 | K9: =E9+G9+I9 -> 0 | R9: =L9+N9+P9 -> 0 | S9: =M9+O9+Q9 -> 0 | Z9: =T9+V9+X9 -> 0 | AA9: =U9+W9+Y9 -> 0 | AH9: =D9+E9+F9+G9+H9+I9+L9+M9+N9+O9+P9+Q9+T9+U9+V9+W9+X9+Y9+AB9+AC9+AD9+AE9+AF9+AG9 -> 0 | BA9: 3754.39 | BG9: =AI9+AJ9+AK9+AL9+AM9+AN9+AO9+AP9+AQ9+AR9+AS9+AT9+AU9+AV9+AW9+AX9+AY9+AZ9+BA9+BB9+BC9+BD9+BE9+BF9 -> 3754.39 | CF9: =SUM(BI9:CE9) -> 0 | DF9: =CJ9+CK9+CL9+CM9+CN9+CO9+CP9+CQ9+CR9+CS9+CT9+CU9+CV9+CW9+CX9+CY9+CZ9+DA9+DB9+DC9+DD9+DE9+CI9+CH9 -> 0 | DJ9: =(DH9+DI9)/$DH$69 -> 0 | DM9: =(DK9+DL9)/$DK$69 -> 0 | DP9: =(DN9+DO9)/$DN$69 -> 0 | EI9: =DK9+DL9+DN9+DO9+DQ9+DR9+DS9+DT9+DU9+DV9+DW9+DX9+DY9+DZ9+EA9+EB9+EC9+ED9+EE9+EF9+EG9+EH9+DI9+DH9 -> 0
A10: ENG DISTR PLANT | B10: 85430.38 | D10: 5171.79 | F10: 881.41 | H10: 4717.2 | J10: =D10+F10+H10 -> 10770.4 | K10: =E10+G10+I10 -> 0 | L10: 6243.25 | N10: 4056.15 | P10: 4166.33 | R10: =L10+N10+P10 -> 14465.73 | S10: =M10+O10+Q10 -> 0 | T10: 449.87 | V10: 3525.6 | X10: 4774.25 | Z10: =T10+V10+X10 -> 8749.72 | AA10: =U10+W10+Y10 -> 0 | AB10: 1652.63 | AD10: 9879.04 | AF10: 771.23 | AH10: =D10+E10+F10+G10+H10+I10+L10+M10+N10+O10+P10+Q10+T10+U10+V10+W10+X10+Y10+AB10+AC10+AD10+AE10+AF10+AG10 -> 46288.75 | AI10: 8263.13 | AK10: 8631.22 | AM10: 7121.72 | AO10: 7053.01 | AQ10: 9211.8 | AS10: 5147.77 | AU10: =15907.76-AV10 -> 14204.74 | AV10: 1703.02 | AW10: 7083.02 | AY10: 9143.08 | BC10: 6365.03 | BE10: 5225.18 | BG10: =AI10+AJ10+AK10+AL10+AM10+AN10+AO10+AP10+AQ10+AR10+AS10+AT10+AU10+AV10+AW10+AX10+AY10+AZ10+BA10+BB10+BC10+BD10+BE10+BF10 -> 89152.72 | BI10: 7044.31 | BO10: 697.26 | BR10: 2961.88 | CF10: =SUM(BI10:CE10) -> 10703.45 | CH10: 2771.21 | CJ10: 2457.27 | DB10: 1034.64 | DC10: 1293.3 | DD10: =[3]Sheet1!$D$15+[3]Sheet1!$F$15 -> 2759.04 | DF10: =CJ10+CK10+CL10+CM10+CN10+CO10+CP10+CQ10+CR10+CS10+CT10+CU10+CV10+CW10+CX10+CY10+CZ10+DA10+DB10+DC10+DD10+DE10+CI10+CH10 -> 10315.46 | DH10: 0 | DJ10: =(DH10+DI10)/$DH$69 -> 0 | DK10: 4922.44 | DM10: =(DK10+DL10)/$DK$69 -> 0.0079747096 | DP10: =(DN10+DO10)/$DN$69 -> 0 | EI10: =DK10+DL10+DN10+DO10+DQ10+DR10+DS10+DT10+DU10+DV10+DW10+DX10+DY10+DZ10+EA10+EB10+EC10+ED10+EE10+EF10+EG10+EH10+DI10+DH10 -> 4922.44
A11: ENG DISTR TRANSPORT | B11: 81797.74 | D11: 3564.69 | F11: 2431.43 | H11: 2489.77 | J11: =D11+F11+H11 -> 8485.89 | K11: =E11+G11+I11 -> 0 | L11: 3814 | N11: 3957.03 | R11: =L11+N11+P11 -> 7771.03 | S11: =M11+O11+Q11 -> 0 | Z11: =T11+V11+X11 -> 0 | AA11: =U11+W11+Y11 -> 0 | AH11: =D11+E11+F11+G11+H11+I11+L11+M11+N11+O11+P11+Q11+T11+U11+V11+W11+X11+Y11+AB11+AC11+AD11+AE11+AF11+AG11 -> 16256.92 | AI11: 4964.11 | AK11: 1456.79 | AM11: 3770.75 | AO11: 1510.74 | BG11: =AI11+AJ11+AK11+AL11+AM11+AN11+AO11+AP11+AQ11+AR11+AS11+AT11+AU11+AV11+AW11+AX11+AY11+AZ11+BA11+BB11+BC11+BD11+BE11+BF11 -> 11702.39 | CF11: =SUM(BI11:CE11) -> 0 | CV11: 1243.52 | DF11: =CJ11+CK11+CL11+CM11+CN11+CO11+CP11+CQ11+CR11+CS11+CT11+CU11+CV11+CW11+CX11+CY11+CZ11+DA11+DB11+DC11+DD11+DE11+CI11+CH11 -> 1243.52 | DJ11: =(DH11+DI11)/$DH$69 -> 0 | DM11: =(DK11+DL11)/$DK$69 -> 0 | DN11: 10702.92 | DP11: =(DN11+DO11)/$DN$69 -> 0.014340966 | EI11: =DK11+DL11+DN11+DO11+DQ11+DR11+DS11+DT11+DU11+DV11+DW11+DX11+DY11+DZ11+EA11+EB11+EC11+ED11+EE11+EF11+EG11+EH11+DI11+DH11 -> 10702.92
A12: WORKSHOPS | B12: 82239.28 | F12: 776.26 | H12: 5427.55 | J12: =D12+F12+H12 -> 6203.81 | K12: =E12+G12+I12 -> 0 | L12: 3522.86 | N12: 1729.53 | P12: 6129.63 | R12: =L12+N12+P12 -> 11382.02 | S12: =M12+O12+Q12 -> 0 | T12: 4325.71 | V12: 4132.22 | X12: 1784.66 | Z12: =T12+V12+X12 -> 10242.59 | AA12: =U12+W12+Y12 -> 0 | AB12: 121.14 | AD12: 1816 | AF12: 3391.68 | AH12: =D12+E12+F12+G12+H12+I12+L12+M12+N12+O12+P12+Q12+T12+U12+V12+W12+X12+Y12+AB12+AC12+AD12+AE12+AF12+AG12 -> 33157.24 | AI12: 33348.95 | AK12: 2014.05 | AO12: 2252.74 | AQ12: 1839.31 | AS12: 2963.8 | AU12: =4755.03-AV12 -> 3852.99 | AV12: 902.04 | AW12: 3303.89 | AY12: 3223 | BA12: 3091.71 | BC12: 4129.28 | BE12: 1335.11 | BG12: =AI12+AJ12+AK12+AL12+AM12+AN12+AO12+AP12+AQ12+AR12+AS12+AT12+AU12+AV12+AW12+AX12+AY12+AZ12+BA12+BB12+BC12+BD12+BE12+BF12 -> 62256.87 | BI12: 1447.04 | BK12: 37.56 | BR12: 2111.26 | CF12: =SUM(BI12:CE12) -> 3595.86 | DD12: 228.53 | DF12: =CJ12+CK12+CL12+CM12+CN12+CO12+CP12+CQ12+CR12+CS12+CT12+CU12+CV12+CW12+CX12+CY12+CZ12+DA12+DB12+DC12+DD12+DE12+CI12+CH12 -> 228.53 | DH12: 0 | DJ12: =(DH12+DI12)/$DH$69 -> 0 | DM12: =(DK12+DL12)/$DK$69 -> 0 | DP12: =(DN12+DO12)/$DN$69 -> 0 | EI12: =DK12+DL12+DN12+DO12+DQ12+DR12+DS12+DT12+DU12+DV12+DW12+DX12+DY12+DZ12+EA12+EB12+EC12+ED12+EE12+EF12+EG12+EH12+DI12+DH12 -> 0
A13: ENG PAIL REMOVALS | B13: 514806.01 | D13: 14948.79 | F13: =15229.68-2074.68 -> 13155 | G13: 2074.68 | H13: =26365.27-I13 -> 24982.15 | I13: 1383.12 | J13: =D13+F13+H13 -> 53085.94 | K13: =E13+G13+I13 -> 3457.8 | L13: =22304.15-M13 -> 20921.03 | M13: =1383.12 -> 1383.12 | N13: =28344.75-2074.68 -> 26270.07 | O13: 2074.68 | P13: 13805.14 | R13: =L13+N13+P13 -> 60996.24 | S13: =M13+O13+Q13 -> 3457.8 | T13: =33603.22-U13 -> 27379.18 | U13: =6224.04 -> 6224.04 | V13: 30565.89 | X13: =26879.62-Y13 -> 24113.38 | Y13: 2766.24 | Z13: =T13+V13+X13 -> 82058.45 | AA13: =U13+W13+Y13 -> 8990.28 | AB13: 15621.12 | AD13: =36770.93-AE13 -> 31930.01 | AE13: 4840.92 | AF13: 15168.79 | AH13: =D13+E13+F13+G13+H13+I13+L13+M13+N13+O13+P13+Q13+T13+U13+V13+W13+X13+Y13+AB13+AC13+AD13+AE13+AF13+AG13 -> 279607.35 | AK13: =34262.41-AL13 -> 32768.17 | AL13: 1494.24 | AM13: =32749.17-AN13 -> 31256.37 | AN13: 1492.8 | AO13: =40320.59-AP13 -> 36588.59 | AP13: =2239.2+1492.8 -> 3732 | AQ13: 23231.09 | AS13: 20926.64 | AU13: =19054.24-AV13 -> 18744.6 | AV13: 309.64 | AW13: 28319.69 | AY13: 32743.06 | BA13: =32229.63-BB13 -> 29244.03 | BB13: 2985.6 | BC13: =22886.54-BD13 -> 20647.34 | BD13: =1492.8+746.4 -> 2239.2 | BE13: =37844.54-BF13 -> 34112.54 | BF13: =2239.2+1492.8 -> 3732 | BG13: =AI13+AJ13+AK13+AL13+AM13+AN13+AO13+AP13+AQ13+AR13+AS13+AT13+AU13+AV13+AW13+AX13+AY13+AZ13+BA13+BB13+BC13+BD13+BE13+BF13 -> 324567.6 | BI13: =29306.93-BJ13 -> 27814.13 | BJ13: 1492.8 | BK13: =1753.92-BL13 -> 225.36 | BL13: 1528.56 | BN13: 1979.28 | BO13: 4055.16 | BP13: 551.93 | BR13: =6749.53-BS13 -> 5950.81 | BS13: 798.72 | BU13: 5468.4 | CC13: 6463.56 | CD13: =10960.07-CE13 -> 9338.75 | CE13: 1621.32 | CF13: =SUM(BI13:CE13) -> 67288.78 | CH13: =15705.56-CI13 -> 11652.08 | CI13: 4053.48 | CJ13: 6952.36 | CL13: =4568.39-CM13 -> 2824.79 | CM13: 1743.6 | CP13: 9164.77 | CR13: =4050.6-CS13 -> 563.4 | CS13: 3487.2 | CT13: =5828.09+4108.46 -> 9936.55 | CU13: 5230.44 | CV13: 17882.95 | CX13: 24816.69 | CZ13: 23832.47 | DB13: 9316 | DC13: 11597.74 | DD13: =[3]Sheet1!$D$33+[3]Sheet1!$F$33 -> 29361.53 | DE13: =[3]Sheet1!$O$33+[3]Sheet1!$Q$33 -> 1358.88 | DF13: =CJ13+CK13+CL13+CM13+CN13+CO13+CP13+CQ13+CR13+CS13+CT13+CU13+CV13+CW13+CX13+CY13+CZ13+DA13+DB13+DC13+DD13+DE13+CI13+CH13 -> 173774.93 | DH13: 1743.6 | DI13: 0 | DJ13: =(DH13+DI13)/$DH$69 -> 0.011841323 | DK13: 31959.98 | DL13: 1826.4 | DM13: =(DK13+DL13)/$DK$69 -> 0.054736385 | DN13: 30107.89 | DO13: =31934.29-DN13 -> 1826.4 | DP13: =(DN13+DO13)/$DN$69 -> 0.042789125 | EI13: =DK13+DL13+DN13+DO13+DQ13+DR13+DS13+DT13+DU13+DV13+DW13+DX13+DY13+DZ13+EA13+EB13+EC13+ED13+EE13+EF13+EG13+EH13+DI13+DH13 -> 67464.27
A14: ENG SEWER ADMIN | B14: 334649.79 | D14: =12072.38+870.46 -> 12942.84 | E14: =643.92+1287.72 -> 1931.64 | F14: =11784.15-2766.24 -> 9017.91 | G14: 2766.24 | H14: =8759.76-I14 -> 7376.64 | I14: 1383.12 | J14: =D14+F14+H14 -> 29337.39 | K14: =E14+G14+I14 -> 6081 | L14: =17417.8-M14 -> 15343.12 | M14: 2074.68 | N14: =20361.19-O14 -> 19669.63 | O14: 691.56 | P14: =15434.81-Q14 -> 13360.13 | Q14: 2074.68 | R14: =L14+N14+P14 -> 48372.88 | S14: =M14+O14+Q14 -> 4840.92 | T14: =17244.63-U14 -> 15169.95 | U14: 2074.68 | V14: =34171.6-W14 -> 30713.8 | W14: =2074.68+1383.12 -> 3457.8 | X14: =18640.25-Y14 -> 17257.13 | Y14: 1383.12 | Z14: =T14+V14+X14 -> 63140.88 | AA14: =U14+W14+Y14 -> 6915.6 | AB14: =5359.59-AC14 -> 2593.35 | AC14: =1383.12+1383.12 -> 2766.24 | AD14: 38460.4 | AE14: 3457.8 | AF14: =22404.32-AG14 -> 20329.64 | AG14: =691.56+1383.12 -> 2074.68 | AH14: =D14+E14+F14+G14+H14+I14+L14+M14+N14+O14+P14+Q14+T14+U14+V14+W14+X14+Y14+AB14+AC14+AD14+AE14+AF14+AG14 -> 228370.78 | AI14: =16793.91-AJ14 -> 13336.11 | AJ14: =2074.68+1383.12 -> 3457.8 | AK14: 30669.47 | AM14: =33742-2985.6 -> 30756.4 | AN14: 2985.6 | AP14: 31631.16 | AQ14: =28704.97-AR14 -> 25719.37 | AR14: 2985.6 | AS14: =25935.86-AT14 -> 25189.46 | AT14: 746.4 | AU14: =35932.76-AV14 -> 32947.16 | AV14: 2985.6 | AW14: =30039.38-AX14 -> 28546.58 | AX14: 1492.8 | AY14: =24266.76-AZ14 -> 22773.96 | AZ14: 1492.8 | BA14: =32833.35-BB14 -> 30594.15 | BB14: 2239.2 | BC14: =23959.57-BD14 -> 21720.37 | BD14: =1492.8+746.4 -> 2239.2 | BE14: =26910.89-BF14 -> 23178.89 | BF14: =2239.2+1492.8 -> 3732 | BG14: =AI14+AJ14+AK14+AL14+AM14+AN14+AO14+AP14+AQ14+AR14+AS14+AT14+AU14+AV14+AW14+AX14+AY14+AZ14+BA14+BB14+BC14+BD14+BE14+BF14 -> 341420.08 | BI14: =17444.21-BJ14 -> 16697.81 | BJ14: 746.4 | BL14: 2292.84 | BO14: 1044.68 | BR14: 8816.59 | BU14: 1597.44 | BW14: 1597.44 | BY14: 1621.44 | BZ14: 9485.9 | CB14: 8106.6 | CC14: =15160.32-Budget!CB14 -> 7053.72 | CD14: 6687.95 | CE14: =7298.68-CD14 -> 610.73 | CF14: =SUM(BI14:CE14) -> 66359.54 | CH14: =14764.6-CI14 -> 9900.4 | CI14: 4864.2 | CJ14: 14960.17 | CM14: 5230.68 | CP14: 13763.39 | CR14: 8717.4 | CS14: 1743.6 | CT14: =2232.62+1082.48 -> 3315.1 | CU14: 0 | CV14: 17902.39 | CX14: 19848.23 | CZ14: 8198.8 | DB14: 8184.82 | DC14: 9988.98 | DD14: =[3]Sheet1!$D$40+[3]Sheet1!$F$40 -> 18793.75 | DE14: =[3]Sheet1!$O$40+[3]Sheet1!$Q$40 -> 1358.88 | DF14: =CJ14+CK14+CL14+CM14+CN14+CO14+CP14+CQ14+CR14+CS14+CT14+CU14+CV14+CW14+CX14+CY14+CZ14+DA14+DB14+DC14+DD14+DE14+CI14+CH14 -> 146770.79 | DH14: 871.8 | DI14: 1743.48 | DJ14: =(DH14+DI14)/$DH$69 -> 0.01776117 | DK14: 20259.4 | DL14: 2739.6 | DM14: =(DK14+DL14)/$DK$69 -> 0.037260047 | DN14: 26764.13 | DO14: =27677.33-DN14 -> 913.2 | DP14: =(DN14+DO14)/$DN$69 -> 0.037085175 | EI14: =DK14+DL14+DN14+DO14+DQ14+DR14+DS14+DT14+DU14+DV14+DW14+DX14+DY14+DZ14+EA14+EB14+EC14+ED14+EE14+EF14+EG14+EH14+DI14+DH14 -> 53291.61
A15: ENG DISPOSAL WORKS | B15: 588696.43 | D15: =31187.42-10284.84-4163.04 -> 16739.54 | E15: =10284.84+4163.04 -> 14447.88 | F15: =41574.04-14113.2 -> 27460.84 | G15: 14113.2 | H15: =37355.71-I15 -> 25698.88 | I15: =2208.9+9447.93 -> 11656.83 | J15: =D15+F15+H15 -> 69899.26 | K15: =E15+G15+I15 -> 40217.91 | L15: =35272.3-M15 -> 23946.1 | M15: 11326.2 | N15: =37694.65-O15 -> 25999.33 | O15: 11695.32 | P15: =52400.97-Q15 -> 42665.64 | Q15: 9735.33 | R15: =L15+N15+P15 -> 92611.07 | S15: =M15+O15+Q15 -> 32756.85 | T15: =64036.11-U15 -> 42357.69 | U15: 21678.42 | V15: =58006.76-W15 -> 39051.77 | W15: =12943.2+6011.79 -> 18954.99 | X15: =57388.94-Y15 -> 48430.01 | Y15: 8958.93 | Z15: =T15+V15+X15 -> 129839.47 | AA15: =U15+W15+Y15 -> 49592.34 | AB15: =32009.06-AC15 -> 22057.82 | AC15: =7396.56+2554.68 -> 9951.24 | AD15: 28362.07 | AE15: 20434.08 | AF15: =29218.7-AG15 -> 17618.42 | AG15: =6964.56+4635.72 -> 11600.28 | AH15: =D15+E15+F15+G15+H15+I15+L15+M15+N15+O15+P15+Q15+T15+U15+V15+W15+X15+Y15+AB15+AC15+AD15+AE15+AF15+AG15 -> 524940.81 | AI15: =47624.85-AJ15 -> 35748.52 | AJ15: =7240.61+4635.72 -> 11876.33 | AK15: =62771.15-AL15 -> 54876.71 | AL15: 7894.44 | AM15: =OVERTIME0923!C99+OVERTIME0923!D99 -> 57587.08 | AN15: =70357-AM15 -> 12769.92 | AO15: =64883.71-AP15 -> 55840.75 | AP15: =5140.8+3902.16 -> 9042.96 | AQ15: =62450.48-AR15 -> 51403.28 | AR15: 11047.2 | AS15: =52880.75-AT15 -> 47230.55 | AT15: 5650.2 | AU15: =51781.09-AV15 -> 46631.95 | AV15: 5149.14 | AW15: =53031.82-AX15 -> 45944.02 | AX15: =6136.44+951.36 -> 7087.8 | AY15: =61620.21-AZ15 -> 55342.05 | AZ15: 6278.16 | BA15: =68239.43-BB15 -> 58240.91 | BB15: 9998.52 | BC15: =56512.97-BD15 -> 48622.13 | BD15: =4943.4+2947.44 -> 7890.84 | BE15: =75088.95-BF15 -> 62651.31 | BF15: =7516.68+4920.96 -> 12437.64 | BG15: =AI15+AJ15+AK15+AL15+AM15+AN15+AO15+AP15+AQ15+AR15+AS15+AT15+AU15+AV15+AW15+AX15+AY15+AZ15+BA15+BB15+BC15+BD15+BE15+BF15 -> 727242.41 | BI15: =79214.91-BJ15 -> 73842.15 | BJ15: 5372.76 | BK15: =10952.52-BL15 -> 1802.88 | BL15: 9149.64 | BO15: 12417.5 | BR15: =28145.47-BS15 -> 19432.27 | BS15: 8713.2 | BT15: =16606.47-BU15 -> 7469.31 | BU15: 9137.16 | BV15: =5579.46+2354.88 -> 7934.34 | BW15: =7089.72+1885.92 -> 8975.64 | BX15: =7647-BY15 -> 450.72 | BY15: 7196.28 | CA15: 12817.56 | CB15: 12185.26 | CC15: =36438.43-Budget!CB15 -> 24253.17 | CD15: =13607.87-CE15 -> 3610.19 | CE15: =7050.24+2947.44 -> 9997.68 | CF15: =SUM(BI15:CE15) -> 234757.71 | CH15: =24557.4-CI15 -> 8295 | CI15: 16262.4 | CJ15: 5593.67 | CL15: =23788.23-CM15 -> 7101.87 | CM15: =5561.88+11124.48 -> 16686.36 | CN15: 4980.31 | CP15: 7764.57 | CR15: 16843.7 | CS15: 8517.84 | CT15: =18357.93+19238.32 -> 37596.25 | CU15: =3152.16+6303.84 -> 9456 | CV15: 24735.03 | CX15: 31029.27 | CZ15: 30353.11 | DB15: 13783.56 | DC15: 9096.99 | DD15: =[3]Sheet1!$D$54+[3]Sheet1!$F$54 -> 31537.1 | DE15: =[3]Sheet1!$O$54+[3]Sheet1!$Q$54 -> 826.68 | DF15: =CJ15+CK15+CL15+CM15+CN15+CO15+CP15+CQ15+CR15+CS15+CT15+CU15+CV15+CW15+CX15+CY15+CZ15+DA15+DB15+DC15+DD15+DE15+CI15+CH15 -> 280459.71 | DH15: 7211.16 | DI15: 3818.4 | DJ15: =(DH15+DI15)/$DH$69 -> 0.074905129 | DK15: 28537.52 | DL15: 9655.44 | DM15: =(DK15+DL15)/$DK$69 -> 0.061875364 | DN15: 62183.51 | DO15: =68610.47-DN15 -> 6426.96 | DP15: =(DN15+DO15)/$DN$69 -> 0.091931962 | EI15: =DK15+DL15+DN15+DO15+DQ15+DR15+DS15+DT15+DU15+DV15+DW15+DX15+DY15+DZ15+EA15+EB15+EC15+ED15+EE15+EF15+EG15+EH15+DI15+DH15 -> 117832.99
A16: ENG SEWER RETICULATION | B16: 227934.57 | D16: =16789.43-2630.16 -> 14159.27 | E16: 2630.16 | F16: =5764.69-876.72 -> 4887.97 | G16: 876.72 | H16: =7142.66-I16 -> 3635.78 | I16: 3506.88 | J16: =D16+F16+H16 -> 22683.02 | K16: =E16+G16+I16 -> 7013.76 | L16: =20965.36-M16 -> 19212.04 | M16: 1753.32 | N16: =19401.04-O16 -> 15894.16 | O16: 3506.88 | P16: =17870.96-Q16 -> 16994.24 | Q16: 876.72 | R16: =L16+N16+P16 -> 52100.44 | S16: =M16+O16+Q16 -> 6136.92 | T16: =20438.37-U16 -> 16931.73 | U16: 3506.64 | V16: =26275.07-W16 -> 24521.63 | W16: 1753.44 | X16: =25452.82-Y16 -> 23699.38 | Y16: 1753.44 | Z16: =T16+V16+X16 -> 65152.74 | AA16: =U16+W16+Y16 -> 7013.52 | AB16: =11772.62-AC16 -> 10019.18 | AC16: 1753.44 | AD16: 22234.2 | AE16: 5260.08 | AF16: =13631.82-AG16 -> 11001.66 | AG16: 2630.16 | AH16: =D16+E16+F16+G16+H16+I16+L16+M16+N16+O16+P16+Q16+T16+U16+V16+W16+X16+Y16+AB16+AC16+AD16+AE16+AF16+AG16 -> 212999.12 | AI16: =15868.9-AJ16 -> 14992.18 | AJ16: 876.72 | AK16: =28017.17-AL16 -> 24321.17 | AL16: 3696 | AM16: 26619.25 | AO16: =26639.24-AP16 -> 21095.24 | AP16: =1848+3696 -> 5544 | AQ16: =15243.62-AR16 -> 14319.62 | AR16: 924 | AS16: =29191.27-AT16 -> 26419.27 | AT16: 2772 | AU16: =35372.67-AV16 -> 34012.38 | AV16: 1360.29 | AW16: =40260.51-Budget!AX16 -> 36564.51 | AX16: =1848+1848 -> 3696 | AY16: 24768.18 | BA16: =30690.31-BB16 -> 25146.31 | BB16: 5544 | BC16: =29257.36-BD16 -> 24637.36 | BD16: =1848+2772 -> 4620 | BE16: =19482.37-BF16 -> 16710.37 | BF16: =924+1848 -> 2772 | BG16: =AI16+AJ16+AK16+AL16+AM16+AN16+AO16+AP16+AQ16+AR16+AS16+AT16+AU16+AV16+AW16+AX16+AY16+AZ16+BA16+BB16+BC16+BD16+BE16+BF16 -> 321410.85 | BI16: =13377.85-BJ16 -> 7833.85 | BJ16: =1848+3696 -> 5544 | BL16: 924 | BR16: =10245.85-BS16 -> 9280.21 | BS16: 965.64 | BU16: 8690.4 | BW16: =1931.28+1931.16 -> 3862.44 | BX16: =8274.85-BY16 -> 6314.77 | BY16: 1960.08 | BZ16: 15025.36 | CA16: 9414.27 | CB16: 11758.85 | CD16: =5198.15-CE16 -> 2258.03 | CE16: 2940.12 | CF16: =SUM(BI16:CE16) -> 86772.02 | CH16: =10942.72-CI16 -> 9962.68 | CI16: 980.04 | CJ16: 10291.8 | CL16: =6878.39-CM16 -> 5849.15 | CM16: 1029.24 | CN16: 3596.28 | CP16: 19476.63 | CR16: 10291.8 | CS16: 3087.72 | CU16: 3087.72 | CV16: 5107.76 | CX16: 15515.51 | CZ16: 11475.3 | DB16: 2575.77 | DC16: 14119.71 | DD16: =[3]Sheet1!$D$60+[3]Sheet1!$F$60 -> 19165.66 | DE16: 29.24 | DF16: =CJ16+CK16+CL16+CM16+CN16+CO16+CP16+CQ16+CR16+CS16+CT16+CU16+CV16+CW16+CX16+CY16+CZ16+DA16+DB16+DC16+DD16+DE16+CI16+CH16 -> 135642.01 | DH16: 3087.72 | DI16: 0 | DJ16: =(DH16+DI16)/$DH$69 -> 0.020969655 | DK16: 17864.87 | DL16: 1078.08 | DM16: =(DK16+DL16)/$DK$69 -> 0.030688952 | DN16: 18866.88 | DO16: =25355.24-DN16 -> 6488.36 | DP16: =(DN16+DO16)/$DN$69 -> 0.033973779 | EI16: =DK16+DL16+DN16+DO16+DQ16+DR16+DS16+DT16+DU16+DV16+DW16+DX16+DY16+DZ16+EA16+EB16+EC16+ED16+EE16+EF16+EG16+EH16+DI16+DH16 -> 47385.91
A17: STORMWATER DRAINS | B17: 34740.77 | J17: =D17+F17+H17 -> 0 | K17: =E17+G17+I17 -> 0 | R17: =L17+N17+P17 -> 0 | S17: =M17+O17+Q17 -> 0 | T17: 6826.85 | Z17: =T17+V17+X17 -> 6826.85 | AA17: =U17+W17+Y17 -> 0 | AH17: =D17+E17+F17+G17+H17+I17+L17+M17+N17+O17+P17+Q17+T17+U17+V17+W17+X17+Y17+AB17+AC17+AD17+AE17+AF17+AG17 -> 6826.85 | AI17: 2019.87 | AY17: 1219.21 | BA17: 1103.09 | BC17: 2352.33 | BE17: 4034.13 | BG17: =AI17+AJ17+AK17+AL17+AM17+AN17+AO17+AP17+AQ17+AR17+AS17+AT17+AU17+AV17+AW17+AX17+AY17+AZ17+BA17+BB17+BC17+BD17+BE17+BF17 -> 10728.63 | BI17: 4462.28 | BO17: 697.26 | BP17: 1986.93 | BR17: 338.04 | BU17: 2226.24 | BW17: 441.6 | BX17: =1795.32-Budget!BY17+743.88 -> 1194.6 | BY17: 1344.6 | CA17: 1797.84 | CC17: 4486.8 | CD17: 1601.15 | CF17: =SUM(BI17:CE17) -> 20577.34 | CI17: 2694.24 | CL17: 1352.16 | CR17: =921.37-CS17 -> 450.73 | CS17: 470.64 | CU17: 470.64 | CV17: 12224.48 | CX17: 9333.51 | CZ17: 5941.68 | DB17: 5067.96 | DC17: 3980.7 | DD17: =[3]Sheet1!$D$66+[3]Sheet1!$F$66 -> 10282.92 | DE17: =[3]Sheet1!$O$66+[3]Sheet1!$Q$66 -> 1882.44 | DF17: =CJ17+CK17+CL17+CM17+CN17+CO17+CP17+CQ17+CR17+CS17+CT17+CU17+CV17+CW17+CX17+CY17+CZ17+DA17+DB17+DC17+DD17+DE17+CI17+CH17 -> 54152.1 | DH17: 0 | DI17: 0 | DJ17: =(DH17+DI17)/$DH$69 -> 0 | DK17: 10723.9 | DL17: 1478.88 | DM17: =(DK17+DL17)/$DK$69 -> 0.019769388 | DN17: 12433.39 | DO17: =13419.31-DN17 -> 985.92 | DP17: =(DN17+DO17)/$DN$69 -> 0.017980689 | EI17: =DK17+DL17+DN17+DO17+DQ17+DR17+DS17+DT17+DU17+DV17+DW17+DX17+DY17+DZ17+EA17+EB17+EC17+ED17+EE17+EF17+EG17+EH17+DI17+DH17 -> 25622.09
A18: ENG STR FOOTPATHS GUTTERS | B18: 83552.64 | D18: 4924.86 | F18: 4816.77 | H18: 6599.07 | J18: =D18+F18+H18 -> 16340.7 | K18: =E18+G18+I18 -> 0 | L18: 7580.43 | O18: 8338.22 | P18: 9617.9 | R18: =L18+N18+P18 -> 17198.33 | S18: =M18+O18+Q18 -> 8338.22 | T18: 23446.71 | V18: 14577.86 | X18: 11691.31 | Z18: =T18+V18+X18 -> 49715.88 | AA18: =U18+W18+Y18 -> 0 | AB18: 7249.6 | AD18: 9936.11 | AF18: 5453.27 | AH18: =D18+E18+F18+G18+H18+I18+L18+M18+N18+O18+P18+Q18+T18+U18+V18+W18+X18+Y18+AB18+AC18+AD18+AE18+AF18+AG18 -> 114232.11 | AI18: 7622.03 | AK18: 11399.92 | AM18: 10074.09 | AO18: 5073.92 | AQ18: 5232.48 | AS18: 4686.36 | AU18: =21500.79-AV18 -> 18767.18 | AV18: 2733.61 | AW18: 4439.68 | AY18: 4915.36 | BA18: 4915.36 | BC18: 5886.73 | BE18: 4915.36 | BG18: =AI18+AJ18+AK18+AL18+AM18+AN18+AO18+AP18+AQ18+AR18+AS18+AT18+AU18+AV18+AW18+AX18+AY18+AZ18+BA18+BB18+BC18+BD18+BE18+BF18 -> 90662.08 | BI18: 5073.92 | BR18: 5259.46 | CD18: 5166 | CF18: =SUM(BI18:CE18) -> 15499.38 | CH18: 452.03 | CL18: 2378.46 | CP18: 10290.48 | CR18: 2378.46 | CV18: 7634.22 | CX18: 2329.92 | CZ18: 3388.95 | DB18: 4065.6 | DC18: 2038.68 | DD18: =[3]Sheet1!$D$78+[3]Sheet1!$F$78 -> 12179.16 | DF18: =CJ18+CK18+CL18+CM18+CN18+CO18+CP18+CQ18+CR18+CS18+CT18+CU18+CV18+CW18+CX18+CY18+CZ18+DA18+DB18+DC18+DD18+DE18+CI18+CH18 -> 47135.96 | DH18: 0 | DJ18: =(DH18+DI18)/$DH$69 -> 0 | DK18: 10380.71 | DM18: =(DK18+DL18)/$DK$69 -> 0.016817503 | DN18: 5987.98 | DP18: =(DN18+DO18)/$DN$69 -> 0.0080233637 | EI18: =DK18+DL18+DN18+DO18+DQ18+DR18+DS18+DT18+DU18+DV18+DW18+DX18+DY18+DZ18+EA18+EB18+EC18+ED18+EE18+EF18+EG18+EH18+DI18+DH18 -> 16368.69
A19: TOWN PLANNING | B19: 9974.6 | J19: =D19+F19+H19 -> 0 | K19: =E19+G19+I19 -> 0 | L19: 4626.6 | R19: =L19+N19+P19 -> 4626.6 | S19: =M19+O19+Q19 -> 0 | Z19: =T19+V19+X19 -> 0 | AA19: =U19+W19+Y19 -> 0 | AD19: 2863.8 | AF19: =58810.42-AG19 -> 38891.62 | AG19: =15337.2+4581.6 -> 19918.8 | AH19: =D19+E19+F19+G19+H19+I19+L19+M19+N19+O19+P19+Q19+T19+U19+V19+W19+X19+Y19+AB19+AC19+AD19+AE19+AF19+AG19 -> 66300.82 | BG19: =AI19+AJ19+AK19+AL19+AM19+AN19+AO19+AP19+AQ19+AR19+AS19+AT19+AU19+AV19+AW19+AX19+AY19+AZ19+BA19+BB19+BC19+BD19+BE19+BF19 -> 0 | CF19: =SUM(BI19:CE19) -> 0 | DF19: =CJ19+CK19+CL19+CM19+CN19+CO19+CP19+CQ19+CR19+CS19+CT19+CU19+CV19+CW19+CX19+CY19+CZ19+DA19+DB19+DC19+DD19+DE19+CI19+CH19 -> 0 | DJ19: =(DH19+DI19)/$DH$69 -> 0 | DM19: =(DK19+DL19)/$DK$69 -> 0 | DP19: =(DN19+DO19)/$DN$69 -> 0 | EI19: =DK19+DL19+DN19+DO19+DQ19+DR19+DS19+DT19+DU19+DV19+DW19+DX19+DY19+DZ19+EA19+EB19+EC19+ED19+EE19+EF19+EG19+EH19+DI19+DH19 -> 0
A20: PROPERTIES AND ESTATES | B20: 0 | J20: =D20+F20+H20 -> 0 | K20: =E20+G20+I20 -> 0 | R20: =L20+N20+P20 -> 0 | S20: =M20+O20+Q20 -> 0 | Z20: =T20+V20+X20 -> 0 | AA20: =U20+W20+Y20 -> 0 | AH20: =D20+E20+F20+G20+H20+I20+L20+M20+N20+O20+P20+Q20+T20+U20+V20+W20+X20+Y20+AB20+AC20+AD20+AE20+AF20+AG20 -> 0 | AS20: 8605.2 | AU20: 4087.47 | AW20: 8605.2 | BC20: 6023.64 | BG20: =AI20+AJ20+AK20+AL20+AM20+AN20+AO20+AP20+AQ20+AR20+AS20+AT20+AU20+AV20+AW20+AX20+AY20+AZ20+BA20+BB20+BC20+BD20+BE20+BF20 -> 27321.51 | CF20: =SUM(BI20:CE20) -> 0 | DF20: =CJ20+CK20+CL20+CM20+CN20+CO20+CP20+CQ20+CR20+CS20+CT20+CU20+CV20+CW20+CX20+CY20+CZ20+DA20+DB20+DC20+DD20+DE20+CI20+CH20 -> 0 | DJ20: =(DH20+DI20)/$DH$69 -> 0 | DM20: =(DK20+DL20)/$DK$69 -> 0 | DP20: =(DN20+DO20)/$DN$69 -> 0 | EI20: =DK20+DL20+DN20+DO20+DQ20+DR20+DS20+DT20+DU20+DV20+DW20+DX20+DY20+DZ20+EA20+EB20+EC20+ED20+EE20+EF20+EG20+EH20+DI20+DH20 -> 0
A21: WATER ADMIN | B21: 0 | J21: =D21+F21+H21 -> 0 | K21: =E21+G21+I21 -> 0 | R21: =L21+N21+P21 -> 0 | S21: =M21+O21+Q21 -> 0 | Z21: =T21+V21+X21 -> 0 | AA21: =U21+W21+Y21 -> 0 | AH21: =D21+E21+F21+G21+H21+I21+L21+M21+N21+O21+P21+Q21+T21+U21+V21+W21+X21+Y21+AB21+AC21+AD21+AE21+AF21+AG21 -> 0 | BG21: =AI21+AJ21+AK21+AL21+AM21+AN21+AO21+AP21+AQ21+AR21+AS21+AT21+AU21+AV21+AW21+AX21+AY21+AZ21+BA21+BB21+BC21+BD21+BE21+BF21 -> 0 | CF21: =SUM(BI21:CE21) -> 0 | DF21: =CJ21+CK21+CL21+CM21+CN21+CO21+CP21+CQ21+CR21+CS21+CT21+CU21+CV21+CW21+CX21+CY21+CZ21+DA21+DB21+DC21+DD21+DE21+CI21+CH21 -> 0 | DJ21: =(DH21+DI21)/$DH$69 -> 0 | DM21: =(DK21+DL21)/$DK$69 -> 0 | DP21: =(DN21+DO21)/$DN$69 -> 0 | EI21: =DK21+DL21+DN21+DO21+DQ21+DR21+DS21+DT21+DU21+DV21+DW21+DX21+DY21+DZ21+EA21+EB21+EC21+ED21+EE21+EF21+EG21+EH21+DI21+DH21 -> 0
A22: WATER CONSERVATION PURIF | B22: 1319757.8 | D22: =123974.85-3722.04-15458.4 -> 104794.41 | E22: =15458.4+3722.04 -> 19180.44 | F22: =94046.96-9949.56 -> 84097.4 | G22: 9949.56 | H22: =98389.39-I22 -> 81006.67 | I22: =14789.04+2593.68 -> 17382.72 | J22: =D22+F22+H22 -> 269898.48 | K22: =E22+G22+I22 -> 46512.72 | L22: =100261.24-M22 -> 85178.44 | M22: 15082.8 | N22: =93696.51-O22 -> 75009.15 | O22: 18687.36 | P22: =54969.69-Q22 -> 46731.81 | Q22: 8237.88 | R22: =L22+N22+P22 -> 206919.4 | S22: =M22+O22+Q22 -> 42008.04 | T22: =116466.53-U22 -> 90432.05 | U22: 26034.48 | V22: =101743.04-W22 -> 84960.92 | W22: =2399.28+14382.84 -> 16782.12 | X22: =91078.99-Y22 -> 83966.95 | Y22: 7112.04 | Z22: =T22+V22+X22 -> 259359.92 | AA22: =U22+W22+Y22 -> 49928.64 | AB22: =60274.62-AC22 -> 47241.13 | AC22: =3145.92+9887.57 -> 13033.49 | AD22: 101699.21 | AE22: 27048.96 | AH22: =D22+E22+F22+G22+H22+I22+L22+M22+N22+O22+P22+Q22+T22+U22+V22+W22+X22+Y22+AB22+AC22+AD22+AE22+AF22+AG22 -> 1063650 | AI22: =102988.66-AJ22 -> 85330.222 | AJ22: =7118.238+10540.2 -> 17658.438 | AK22: =118376.64-AL22 -> 101398.8 | AL22: 16977.84 | AM22: =61579.96+20859.82 -> 82439.78 | AN22: =112902.08-AM22 -> 30462.3 | AO22: =89262.41-AP22 -> 73156.73 | AP22: =11755.8+4349.88 -> 16105.68 | AQ22: =106749.32-AR22 -> 86152.04 | AR22: =18749.28+1848 -> 20597.28 | AS22: =87713.18-AT22 -> 77677.34 | AT22: 10035.84 | AU22: =142205.17-AV22 -> 101078.77 | AV22: =14398.32+26728.08 -> 41126.4 | AW22: =88424.86-AX22 -> 82787.14 | AX22: =4373.28+1264.44 -> 5637.72 | AY22: =102674.63-AZ22 -> 85838.75 | AZ22: 16835.88 | BA22: =116668.42-BB22 -> 85521.1 | BB22: 31147.32 | BC22: =123169.98-BD22 -> 100702.3 | BD22: =4369.64+18098.04 -> 22467.68 | BE22: =122625.07-BF22 -> 100741.87 | BF22: =9774.48+12108.72 -> 21883.2 | BG22: =AI22+AJ22+AK22+AL22+AM22+AN22+AO22+AP22+AQ22+AR22+AS22+AT22+AU22+AV22+AW22+AX22+AY22+AZ22+BA22+BB22+BC22+BD22+BE22+BF22 -> 1313760.4 | BI22: =98564.84-BJ22 -> 71035.52 | BJ22: =10526.04+17003.28 -> 27529.32 | BK22: =17530.12-BL22 -> 8225.44 | BL22: 9304.68 | BN22: 28015.32 | BO22: 4355.65 | BP22: 66729.21 | BR22: =46947.12-BS22 -> 29976.12 | BS22: 16971 | BT22: =84094.75-BU22 -> 48337.87 | BU22: 35756.88 | BW22: =14293.44+3599.52 -> 17892.96 | BX22: =50053.02-Budget!BY22+7380.48 -> 37548.18 | BY22: 19885.32 | BZ22: 48861.96 | CA22: 29631.52 | CB22: 14513.55 | CC22: =43363.47-CB22 -> 28849.92 | CD22: =41251.89-CE22+12558.12 -> 33869.97 | CE22: =15605.52+4334.52 -> 19940.04 | CF22: =SUM(BI22:CE22) -> 597230.43 | CH22: =53143.3-CI22 -> 34467.82 | CI22: 18675.48 | CJ22: 685.58 | CL22: =76590.29-CM22 -> 47986.49 | CM22: =5860.2+22743.6 -> 28603.8 | CN22: 5176.38 | CP22: 75526.53 | CR22: =54085.35-CS22 -> 38400.03 | CS22: 15685.32 | CU22: 15685.32 | CV22: 48866.65 | CX22: 38459.34 | CZ22: 38849.62 | DB22: 31041.62 | DC22: 25144.06 | DD22: =[3]Sheet1!$D$98+[3]Sheet1!$F$98 -> 50537.97 | DE22: =[3]Sheet1!$O$98+[3]Sheet1!$Q$98 -> 1004.28 | DF22: =CJ22+CK22+CL22+CM22+CN22+CO22+CP22+CQ22+CR22+CS22+CT22+CU22+CV22+CW22+CX22+CY22+CZ22+DA22+DB22+DC22+DD22+DE22+CI22+CH22 -> 514796.29 | DH22: 17857.56 | DI22: 9154.08 | DJ22: =(DH22+DI22)/$DH$69 -> 0.18344434 | DK22: 60604.56 | DL22: 15379.2 | DM22: =(DK22+DL22)/$DK$69 -> 0.1230992 | DN22: 73359.13 | DO22: =112582.33-DN22 -> 39223.2 | DP22: =(DN22+DO22)/$DN$69 -> 0.15085037 | EI22: =DK22+DL22+DN22+DO22+DQ22+DR22+DS22+DT22+DU22+DV22+DW22+DX22+DY22+DZ22+EA22+EB22+EC22+ED22+EE22+EF22+EG22+EH22+DI22+DH22 -> 215577.73
A23: WATER JAMES KLEYNHANS | B23: 463723.19 | D23: =35428.3-6567.72-6690.6 -> 22169.98 | E23: =6690.6+6567.72 -> 13258.32 | F23: =43763.32-14473.2 -> 29290.12 | G23: =14473.2 -> 14473.2 | H23: =44916.9-I23 -> 35597.22 | I23: =4399.08+4920.6 -> 9319.68 | J23: =D23+F23+H23 -> 87057.32 | K23: =E23+G23+I23 -> 37051.2 | L23: =42315.29-M23 -> 30543.89 | M23: 11771.4 | N23: =33394.04-O23 -> 23898.32 | O23: 9495.72 | P23: =44989.24-Q23 -> 35561.56 | Q23: 9427.68 | R23: =L23+N23+P23 -> 90003.77 | S23: =M23+O23+Q23 -> 30694.8 | U23: 21434.4 | V23: =48649.62-W23 -> 36788.7 | W23: =4519.56+7341.36 -> 11860.92 | X23: =45051.93-Y23 -> 34970.13 | Y23: 10081.8 | Z23: =T23+V23+X23 -> 71758.83 | AA23: =U23+W23+Y23 -> 43377.12 | AB23: =28936.43-AC23 -> 21213.59 | AC23: =2766.24+4956.6 -> 7722.84 | AD23: 29922.72 | AE23: 30271.68 | AF23: =36061.72-AG23 -> 25188.4 | AG23: =4970.64+5902.68 -> 10873.32 | AH23: =D23+E23+F23+G23+H23+I23+L23+M23+N23+O23+P23+Q23+T23+U23+V23+W23+X23+Y23+AB23+AC23+AD23+AE23+AF23+AG23 -> 485135.59 | AI23: =47468.25-AJ23 -> 30615.21 | AJ23: =4399.08+12453.96 -> 16853.04 | AK23: =38894.8-AL23 -> 30696.28 | AL23: 8198.52 | AM23: =22508.7+6184.16 -> 28692.86 | AN23: =49926.62-AM23 -> 21233.76 | AO23: =50730.44-AP23 -> 36738.56 | AP23: =8226.48+5765.4 -> 13991.88 | AQ23: =58460.68-AR23 -> 45659.8 | AR23: =12800.88 -> 12800.88 | AS23: =51440.74-AT23 -> 40418.38 | AT23: 11022.36 | AU23: =62012.18-AV23 -> 56737.22 | AV23: 5274.96 | AW23: =48279.7-AX23 -> 35453.26 | AX23: 12826.44 | AY23: =46880.22-AZ23 -> 43894.62 | AZ23: 2985.6 | BA23: =66447.96-BB23 -> 47794.68 | BB23: 18653.28 | BC23: =46586.1-BD23 -> 32045.82 | BD23: =9753.96+4786.32 -> 14540.28 | BE23: =50706.68-BF23 -> 31187.36 | BF23: =12923.28+6596.04 -> 19519.32 | BG23: =AI23+AJ23+AK23+AL23+AM23+AN23+AO23+AP23+AQ23+AR23+AS23+AT23+AU23+AV23+AW23+AX23+AY23+AZ23+BA23+BB23+BC23+BD23+BE23+BF23 -> 617834.37 | BI23: =45791.06-BJ23 -> 36964.94 | BJ23: =1579.56+7246.56 -> 8826.12 | BK23: =18390-BL23 -> 5183.28 | BL23: 13206.72 | BN23: 4935.48 | BO23: 7863.53 | BP23: 29240.37 | BR23: =13662.48-BS23 -> 4394.52 | BS23: 9267.96 | BT23: =36577.55-BU23 -> 12539.51 | BU23: 24038.04 | BW23: =7818.72+3581.88 -> 11400.6 | BX23: =17560.32-BY23 -> 4544.76 | BY23: 13015.56 | BZ23: 1891.54 | CA23: 11182.2 | CC23: 25362.12 | CD23: =15945.18-CE23 -> 6292.02 | CE23: =6071.76+3581.4 -> 9653.16 | CF23: =SUM(BI23:CE23) -> 239802.43 | CH23: =21871.8-CI23 -> 8026.92 | CI23: 13844.88 | CJ23: 15650.08 | CL23: =22665.36-CM23 -> 9266.4 | CM23: =3486.84+9912.12 -> 13398.96 | CP23: 6102.18 | CR23: 10944 | CS23: 15788.76 | CU23: 15788.76 | CV23: 26927.87 | CZ23: 27990.11 | DD23: =[3]Sheet1!$D$107 -> 5230.44 | DE23: =[3]Sheet1!$O$107+[3]Sheet1!$Q$107 -> 1020.76 | DF23: =CJ23+CK23+CL23+CM23+CN23+CO23+CP23+CQ23+CR23+CS23+CT23+CU23+CV23+CW23+CX23+CY23+CZ23+DA23+DB23+DC23+DD23+DE23+CI23+CH23 -> 169980.12 | DH23: 7320.96 | DI23: 3801.84 | DJ23: =(DH23+DI23)/$DH$69 -> 0.07553835 | DL23: 7965.12 | DM23: =(DK23+DL23)/$DK$69 -> 0.012904072 | DN23: 30811.09 | DO23: =42470.41-DN23 -> 11659.32 | DP23: =(DN23+DO23)/$DN$69 -> 0.056906594 | EI23: =DK23+DL23+DN23+DO23+DQ23+DR23+DS23+DT23+DU23+DV23+DW23+DX23+DY23+DZ23+EA23+EB23+EC23+ED23+EE23+EF23+EG23+EH23+DI23+DH23 -> 61558.33
A24: WATER RETICULATION | B24: 1540227.7 | D24: =139878.93+7586.02-3918.48 -> 143546.47 | E24: =764.28+3154.2 -> 3918.48 | F24: =115242.8+9253.66-2084.28 -> 122412.18 | G24: 2084.28 | H24: =107748.43+6504.82-I24 -> 109803.65 | I24: =1383.123+3066.48 -> 4449.603 | J24: =D24+F24+H24 -> 375762.3 | K24: =E24+G24+I24 -> 10452.363 | L24: =108630.11-M24 -> 104621.27 | M24: 4008.84 | N24: =96684.31-O24 -> 94419.67 | O24: 2264.64 | P24: =92082.2-Q24 -> 89817.56 | Q24: 2264.64 | R24: =L24+N24+P24 -> 288858.5 | S24: =M24+O24+Q24 -> 8538.12 | T24: =112229.21-U24 -> 107889.89 | U24: 4339.32 | V24: =125030.64-W24 -> 121823.64 | W24: 3207 | X24: =110908.72-Y24 -> 108824.44 | Y24: 2084.28 | Z24: =T24+V24+X24 -> 338537.97 | AA24: =U24+W24+Y24 -> 9630.6 | AB24: =44636.38-AC24 -> 42120.94 | AC24: 2515.44 | AD24: 142788.18 | AE24: 2705.28 | AF24: =96281.99-AG24 -> 93766.55 | AG24: =2515.44 -> 2515.44 | AH24: =D24+E24+F24+G24+H24+I24+L24+M24+N24+O24+P24+Q24+T24+U24+V24+W24+X24+Y24+AB24+AC24+AD24+AE24+AF24+AG24 -> 1318191.7 | AI24: =113919.12-AJ24 -> 110081.52 | AJ24: =2264.52+1573.08 -> 3837.6 | AK24: =148943.28-AL24 -> 146237.4 | AL24: 2705.88 | AM24: =98721.24+31972.25 -> 130693.49 | AN24: =136410.89-AM24 -> 5717.4 | AO24: =113759.25-AP24 -> 109943.97 | AP24: =2886.36+928.92 -> 3815.28 | AQ24: =115636-AR24 -> 112467.76 | AR24: 3168.24 | AS24: =105700.31-AT24 -> 104024.87 | AT24: 1675.44 | AU24: =136194.94-AV24 -> 119170.18 | AV24: =3408.12+13616.64 -> 17024.76 | AW24: =127577.72-AX24 -> 123579.92 | AX24: =2139.96+1857.84 -> 3997.8 | AY24: =115134.66-AZ24 -> 111966.42 | AZ24: 3168.24 | BA24: =132994.32-BB24 -> 126939.96 | BB24: 6054.36 | BC24: =118057.42-BD24 -> 116199.46 | BD24: =928.92+929.04 -> 1857.96 | BE24: =129214.35-BF24 -> 126792.51 | BF24: =929.04+1492.8 -> 2421.84 | BG24: =AI24+AJ24+AK24+AL24+AM24+AN24+AO24+AP24+AQ24+AR24+AS24+AT24+AU24+AV24+AW24+AX24+AY24+AZ24+BA24+BB24+BC24+BD24+BE24+BF24 -> 1493542.3 | BI24: =125527.17-BJ24 -> 117979.89 | BJ24: =3914.52+3632.76 -> 7547.28 | BK24: =16237.45-BL24 -> 13757.53 | BL24: 2479.92 | BN24: 2553.84 | BO24: 19021.54 | BP24: 79676.95 | BR24: =39175.81-BS24 -> 35343.97 | BS24: 3831.84 | BT24: =66872.61-BU24 -> 62816.37 | BU24: 4056.24 | BW24: 3334.8 | BX24: =30531.09-BY24 -> 29017.29 | BY24: 1513.8 | BZ24: 34019.76 | CA24: 11031 | CB24: 37357.88 | CC24: =65044.53-CB24 -> 27686.65 | CD24: =28606.39-CE24 -> 22961.11 | CE24: =3763.68+1881.6 -> 5645.28 | CF24: =SUM(BI24:CE24) -> 521632.94 | CH24: =45694.76-CI24 -> 34415.12 | CI24: 11279.64 | CL24: =24021.18-CM24 -> 20289.18 | CM24: 3732 | CN24: 11319.55 | CP24: 37484.65 | CR24: 14120.05 | CS24: 5986.56 | CU24: 5986.56 | CV24: 30391.13 | CX24: 28825.93 | CZ24: 24022.44 | DB24: 27454.01 | DC24: 23361.64 | DD24: =[3]Sheet1!$D$121+[3]Sheet1!$F$121 -> 40542.95 | DE24: =[3]Sheet1!$O$121+[3]Sheet1!$Q$121 -> 749.56 | DF24: =CJ24+CK24+CL24+CM24+CN24+CO24+CP24+CQ24+CR24+CS24+CT24+CU24+CV24+CW24+CX24+CY24+CZ24+DA24+DB24+DC24+DD24+DE24+CI24+CH24 -> 319960.97 | DH24: 5847.36 | DI24: 3468 | DJ24: =(DH24+DI24)/$DH$69 -> 0.06326347 | DK24: 50459.26 | DL24: 7455.72 | DM24: =(DK24+DL24)/$DK$69 -> 0.093826466 | DN24: 41766.59 | DO24: =50426.51-DN24 -> 8659.92 | DP24: =(DN24+DO24)/$DN$69 -> 0.067567064 | EI24: =DK24+DL24+DN24+DO24+DQ24+DR24+DS24+DT24+DU24+DV24+DW24+DX24+DY24+DZ24+EA24+EB24+EC24+ED24+EE24+EF24+EG24+EH24+DI24+DH24 -> 117656.85
A25: ELECTRICITY ADMIN | B25: 17604.36 | J25: =D25+F25+H25 -> 0 | K25: =E25+G25+I25 -> 0 | R25: =L25+N25+P25 -> 0 | S25: =M25+O25+Q25 -> 0 | T25: 5812.26 | V25: 1432.28 | Z25: =T25+V25+X25 -> 7244.54 | AA25: =U25+W25+Y25 -> 0 | AH25: =D25+E25+F25+G25+H25+I25+L25+M25+N25+O25+P25+Q25+T25+U25+V25+W25+X25+Y25+AB25+AC25+AD25+AE25+AF25+AG25 -> 7244.54 | AI25: 4810.98 | AK25: 4528.49 | AM25: 3193.16 | AO25: 5430.49 | AQ25: 3483.45 | AS25: 4672.32 | AU25: 5371.3 | AW25: 4041.81 | AY25: 4922.64 | BA25: 3698.17 | BC25: 4758.43 | BE25: 5473.9 | BG25: =AI25+AJ25+AK25+AL25+AM25+AN25+AO25+AP25+AQ25+AR25+AS25+AT25+AU25+AV25+AW25+AX25+AY25+AZ25+BA25+BB25+BC25+BD25+BE25+BF25 -> 54385.14 | BI25: 4738.5 | BK25: 239.45 | BN25: 14.09 | BR25: 3943.88 | CF25: =SUM(BI25:CE25) -> 8935.92 | CH25: 5109.06 | CL25: 5392.59 | CP25: 7738.25 | CR25: 2026.17 | CV25: 3879.9 | CX25: 5625.86 | CZ25: 6272.51 | DB25: 699.45 | DC25: 4591.22 | DD25: =[3]Sheet1!$D$125+[3]Sheet1!$F$125 -> 5420 | DF25: =CJ25+CK25+CL25+CM25+CN25+CO25+CP25+CQ25+CR25+CS25+CT25+CU25+CV25+CW25+CX25+CY25+CZ25+DA25+DB25+DC25+DD25+DE25+CI25+CH25 -> 46755.01 | DI25: 0 | DJ25: =(DH25+DI25)/$DH$69 -> 0 | DK25: 5622.42 | DM25: =(DK25+DL25)/$DK$69 -> 0.009108728 | DN25: 5983.7 | DP25: =(DN25+DO25)/$DN$69 -> 0.0080176288 | EI25: =DK25+DL25+DN25+DO25+DQ25+DR25+DS25+DT25+DU25+DV25+DW25+DX25+DY25+DZ25+EA25+EB25+EC25+ED25+EE25+EF25+EG25+EH25+DI25+DH25 -> 11606.12
A26: ELECTRICITY DISTRIBUTION | B26: 2558387.8 | D26: 81173.48 | F26: 56694.93 | H26: 109587.59 | J26: =D26+F26+H26 -> 247456 | K26: =E26+G26+I26 -> 0 | L26: 112662.94 | N26: =159741.06-O26 -> 159649.23 | O26: 91.83 | P26: 148247.18 | R26: =L26+N26+P26 -> 420559.35 | S26: =M26+O26+Q26 -> 91.83 | T26: 187262.4 | V26: 143840.95 | X26: 170239.55 | Z26: =T26+V26+X26 -> 501342.9 | AA26: =U26+W26+Y26 -> 0 | AB26: 54764.82 | AD26: 137728.46 | AF26: =107820.29-AG26 -> 107820.29 | AH26: =D26+E26+F26+G26+H26+I26+L26+M26+N26+O26+P26+Q26+T26+U26+V26+W26+X26+Y26+AB26+AC26+AD26+AE26+AF26+AG26 -> 1469763.7 | AI26: 166573.77 | AK26: 172990.13 | AM26: 158486.83 | AO26: 161682.08 | AQ26: 165688.74 | AS26: 171291.51 | AU26: =188665.21-AV26 -> 179361.34 | AV26: 9303.87 | AW26: 197323.13 | AY26: 208701.94 | BA26: 216943.2 | BC26: 197079.74 | BE26: 193263.39 | BG26: =AI26+AJ26+AK26+AL26+AM26+AN26+AO26+AP26+AQ26+AR26+AS26+AT26+AU26+AV26+AW26+AX26+AY26+AZ26+BA26+BB26+BC26+BD26+BE26+BF26 -> 2198689.7 | BI26: 179345.86 | BK26: 4688.36 | BN26: 2314.71 | BO26: 10361.65 | BR26: 126737.67 | BV26: =71991.01+33055.97 -> 105046.98 | CF26: =SUM(BI26:CE26) -> 428495.23 | CH26: 47489.16 | CL26: 88099.25 | CP26: 248397.72 | CR26: 70795.86 | CV26: 157639.21 | CX26: 158111.53 | CZ26: 191553.74 | DB26: 54786.96 | DC26: 114643.36 | DD26: =[3]Sheet1!$D$164+[3]Sheet1!$F$164 -> 78175.49 | DF26: =CJ26+CK26+CL26+CM26+CN26+CO26+CP26+CQ26+CR26+CS26+CT26+CU26+CV26+CW26+CX26+CY26+CZ26+DA26+DB26+DC26+DD26+DE26+CI26+CH26 -> 1209692.3 | DH26: 0 | DI26: 0 | DJ26: =(DH26+DI26)/$DH$69 -> 0 | DK26: 69850.47 | DL26: 100000 | DM26: =(DK26+DL26)/$DK$69 -> 0.27517007 | DN26: 178574.58 | DP26: =(DN26+DO26)/$DN$69 -> 0.23927415 | EI26: =DK26+DL26+DN26+DO26+DQ26+DR26+DS26+DT26+DU26+DV26+DW26+DX26+DY26+DZ26+EA26+EB26+EC26+ED26+EE26+EF26+EG26+EH26+DI26+DH26 -> 348425.05
A27: CORPORATE SERVICES | B27: 43360.37 | J27: =D27+F27+H27 -> 0 | K27: =E27+G27+I27 -> 0 | N27: 2410.59 | P27: 266.4 | R27: =L27+N27+P27 -> 2676.99 | S27: =M27+O27+Q27 -> 0 | T27: 1078.36 | V27: 3145.28 | X27: 1201.09 | Z27: =T27+V27+X27 -> 5424.73 | AA27: =U27+W27+Y27 -> 0 | AD27: 3087.02 | AF27: 7832.45 | AH27: =D27+E27+F27+G27+H27+I27+L27+M27+N27+O27+P27+Q27+T27+U27+V27+W27+X27+Y27+AB27+AC27+AD27+AE27+AF27+AG27 -> 19021.19 | AI27: 3678.82 | AK27: 2106.15 | AM27: 7794.15 | AO27: 3368.2 | AQ27: 6364.41 | AS27: 4537.26 | AU27: =2437.07-AV27 -> 1968.75 | AV27: 468.32 | AW27: 4382.98 | AY27: 13726.97 | BA27: 9143.25 | BC27: 15797.54 | BE27: 13884.24 | BG27: =AI27+AJ27+AK27+AL27+AM27+AN27+AO27+AP27+AQ27+AR27+AS27+AT27+AU27+AV27+AW27+AX27+AY27+AZ27+BA27+BB27+BC27+BD27+BE27+BF27 -> 87221.04 | BI27: 5697.58 | BR27: 551.93 | BT27: 9034.08 | CF27: =SUM(BI27:CE27) -> 15283.59 | CH27: 2807.98 | DF27: =CJ27+CK27+CL27+CM27+CN27+CO27+CP27+CQ27+CR27+CS27+CT27+CU27+CV27+CW27+CX27+CY27+CZ27+DA27+DB27+DC27+DD27+DE27+CI27+CH27 -> 2807.98 | DJ27: =(DH27+DI27)/$DH$69 -> 0 | DM27: =(DK27+DL27)/$DK$69 -> 0 | DP27: =(DN27+DO27)/$DN$69 -> 0 | EI27: =DK27+DL27+DN27+DO27+DQ27+DR27+DS27+DT27+DU27+DV27+DW27+DX27+DY27+DZ27+EA27+EB27+EC27+ED27+EE27+EF27+EG27+EH27+DI27+DH27 -> 0
A28: CITY HALL & OFFICES | B28: 4979.56 | D28: 3284.09 | F28: 2394 | H28: 1273.09 | J28: =D28+F28+H28 -> 6951.18 | K28: =E28+G28+I28 -> 0 | N28: 1812.6 | R28: =L28+N28+P28 -> 1812.6 | S28: =M28+O28+Q28 -> 0 | T28: 1128.6 | V28: 2599.2 | Z28: =T28+V28+X28 -> 3727.8 | AA28: =U28+W28+Y28 -> 0 | AD28: 1624.5 | AF28: 1504.8 | AH28: =D28+E28+F28+G28+H28+I28+L28+M28+N28+O28+P28+Q28+T28+U28+V28+W28+X28+Y28+AB28+AC28+AD28+AE28+AF28+AG28 -> 15620.88 | AI28: 2684.7 | AK28: 1666.36 | AO28: 4794.65 | AQ28: 2199.05 | AS28: 2631.65 | BG28: =AI28+AJ28+AK28+AL28+AM28+AN28+AO28+AP28+AQ28+AR28+AS28+AT28+AU28+AV28+AW28+AX28+AY28+AZ28+BA28+BB28+BC28+BD28+BE28+BF28 -> 13976.41 | CF28: =SUM(BI28:CE28) -> 0 | CH28: 651.95 | DF28: =CJ28+CK28+CL28+CM28+CN28+CO28+CP28+CQ28+CR28+CS28+CT28+CU28+CV28+CW28+CX28+CY28+CZ28+DA28+DB28+DC28+DD28+DE28+CI28+CH28 -> 651.95 | DJ28: =(DH28+DI28)/$DH$69 -> 0 | DM28: =(DK28+DL28)/$DK$69 -> 0 | DP28: =(DN28+DO28)/$DN$69 -> 0 | EI28: =DK28+DL28+DN28+DO28+DQ28+DR28+DS28+DT28+DU28+DV28+DW28+DX28+DY28+DZ28+EA28+EB28+EC28+ED28+EE28+EF28+EG28+EH28+DI28+DH28 -> 0
A29: COMMUNITY HALLS | B29: 121416.04 | D29: 12224.22 | F29: 14038.68 | H29: 12517.64 | J29: =D29+F29+H29 -> 38780.54 | K29: =E29+G29+I29 -> 0 | L29: 10972.54 | N29: 4879.23 | P29: 11976.69 | R29: =L29+N29+P29 -> 27828.46 | S29: =M29+O29+Q29 -> 0 | T29: 5391.67 | V29: 8241.06 | X29: 9691.99 | Z29: =T29+V29+X29 -> 23324.72 | AA29: =U29+W29+Y29 -> 0 | AD29: 5744.74 | AF29: 18328.8 | AH29: =D29+E29+F29+G29+H29+I29+L29+M29+N29+O29+P29+Q29+T29+U29+V29+W29+X29+Y29+AB29+AC29+AD29+AE29+AF29+AG29 -> 114007.26 | AI29: 16786.68 | AK29: 11502.06 | AM29: 13627.9 | AO29: 12627.72 | AQ29: 15539.55 | AS29: 16969.12 | AU29: =13907.92-AV29 -> 11792.69 | AV29: 2115.23 | AW29: 11531.57 | AY29: 13787.03 | BA29: 9664.16 | BC29: 12607.63 | BE29: 23948.47 | BG29: =AI29+AJ29+AK29+AL29+AM29+AN29+AO29+AP29+AQ29+AR29+AS29+AT29+AU29+AV29+AW29+AX29+AY29+AZ29+BA29+BB29+BC29+BD29+BE29+BF29 -> 172499.81 | BI29: 20921.18 | BR29: 2607 | BT29: 6270.71 | CF29: =SUM(BI29:CE29) -> 29798.89 | CH29: 12404.19 | DF29: =CJ29+CK29+CL29+CM29+CN29+CO29+CP29+CQ29+CR29+CS29+CT29+CU29+CV29+CW29+CX29+CY29+CZ29+DA29+DB29+DC29+DD29+DE29+CI29+CH29 -> 12404.19 | DJ29: =(DH29+DI29)/$DH$69 -> 0 | DM29: =(DK29+DL29)/$DK$69 -> 0 | DN29: 3314.85 | DP29: =(DN29+DO29)/$DN$69 -> 0.0044416059 | EI29: =DK29+DL29+DN29+DO29+DQ29+DR29+DS29+DT29+DU29+DV29+DW29+DX29+DY29+DZ29+EA29+EB29+EC29+ED29+EE29+EF29+EG29+EH29+DI29+DH29 -> 3314.85
A30: COUNCIL | B30: 27028.41 | J30: =D30+F30+H30 -> 0 | K30: =E30+G30+I30 -> 0 | L30: 6285.58 | R30: =L30+N30+P30 -> 6285.58 | S30: =M30+O30+Q30 -> 0 | Z30: =T30+V30+X30 -> 0 | AA30: =U30+W30+Y30 -> 0 | AD30: 5833.38 | AH30: =D30+E30+F30+G30+H30+I30+L30+M30+N30+O30+P30+Q30+T30+U30+V30+W30+X30+Y30+AB30+AC30+AD30+AE30+AF30+AG30 -> 12118.96 | AI30: 2984.52 | AK30: 728.94 | AM30: 7027.56 | AS30: 4245.81 | BA30: 11246.48 | BC30: 11615 | BE30: 10931.76 | BG30: =AI30+AJ30+AK30+AL30+AM30+AN30+AO30+AP30+AQ30+AR30+AS30+AT30+AU30+AV30+AW30+AX30+AY30+AZ30+BA30+BB30+BC30+BD30+BE30+BF30 -> 48780.07 | CF30: =SUM(BI30:CE30) -> 0 | DF30: =CJ30+CK30+CL30+CM30+CN30+CO30+CP30+CQ30+CR30+CS30+CT30+CU30+CV30+CW30+CX30+CY30+CZ30+DA30+DB30+DC30+DD30+DE30+CI30+CH30 -> 0 | DJ30: =(DH30+DI30)/$DH$69 -> 0 | DM30: =(DK30+DL30)/$DK$69 -> 0 | DP30: =(DN30+DO30)/$DN$69 -> 0 | EI30: =DK30+DL30+DN30+DO30+DQ30+DR30+DS30+DT30+DU30+DV30+DW30+DX30+DY30+DZ30+EA30+EB30+EC30+ED30+EE30+EF30+EG30+EH30+DI30+DH30 -> 0
A31: HUMAN RESOURCES | B31: 21582.5 | J31: =D31+F31+H31 -> 0 | K31: =E31+G31+I31 -> 0 | R31: =L31+N31+P31 -> 0 | S31: =M31+O31+Q31 -> 0 | Z31: =T31+V31+X31 -> 0 | AA31: =U31+W31+Y31 -> 0 | AH31: =D31+E31+F31+G31+H31+I31+L31+M31+N31+O31+P31+Q31+T31+U31+V31+W31+X31+Y31+AB31+AC31+AD31+AE31+AF31+AG31 -> 0 | BC31: 1680.84 | BE31: 2311.16 | BG31: =AI31+AJ31+AK31+AL31+AM31+AN31+AO31+AP31+AQ31+AR31+AS31+AT31+AU31+AV31+AW31+AX31+AY31+AZ31+BA31+BB31+BC31+BD31+BE31+BF31 -> 3992 | BI31: 1400.7 | CF31: =SUM(BI31:CE31) -> 1400.7 | DF31: =CJ31+CK31+CL31+CM31+CN31+CO31+CP31+CQ31+CR31+CS31+CT31+CU31+CV31+CW31+CX31+CY31+CZ31+DA31+DB31+DC31+DD31+DE31+CI31+CH31 -> 0 | DJ31: =(DH31+DI31)/$DH$69 -> 0 | DM31: =(DK31+DL31)/$DK$69 -> 0 | DP31: =(DN31+DO31)/$DN$69 -> 0 | EI31: =DK31+DL31+DN31+DO31+DQ31+DR31+DS31+DT31+DU31+DV31+DW31+DX31+DY31+DZ31+EA31+EB31+EC31+ED31+EE31+EF31+EG31+EH31+DI31+DH31 -> 0
A32: FINANCE ADMINISTRATION | B32: 743936 | D32: 22415.38 | F32: 8649.32 | H32: 21353.7 | J32: =D32+F32+H32 -> 52418.4 | K32: =E32+G32+I32 -> 0 | L32: 9029.51 | N32: 8617.64 | P32: 25429.14 | R32: =L32+N32+P32 -> 43076.29 | S32: =M32+O32+Q32 -> 0 | T32: 3599.05 | V32: 21132.9 | X32: 25130.57 | Z32: =T32+V32+X32 -> 49862.52 | AA32: =U32+W32+Y32 -> 0 | AB32: 2823.78 | AD32: 3087.66 | AF32: 2649.71 | AH32: =D32+E32+F32+G32+H32+I32+L32+M32+N32+O32+P32+Q32+T32+U32+V32+W32+X32+Y32+AB32+AC32+AD32+AE32+AF32+AG32 -> 153918.36 | AI32: 4324.82 | AK32: 3328.46 | AM32: 6888.84 | AO32: 3182 | AQ32: 3872.96 | AS32: 2733.39 | AU32: 2454.09 | AW32: 8129.92 | AY32: 4936.35 | BA32: 3872.96 | BC32: 5115.98 | BE32: 4964.52 | BG32: =AI32+AJ32+AK32+AL32+AM32+AN32+AO32+AP32+AQ32+AR32+AS32+AT32+AU32+AV32+AW32+AX32+AY32+AZ32+BA32+BB32+BC32+BD32+BE32+BF32 -> 53804.29 | BI32: 1839.63 | BR32: 3335.63 | BV32: =1601.1+711.6 -> 2312.7 | BZ32: 10120.45 | CF32: =SUM(BI32:CE32) -> 17608.41 | CL32: 853.29 | CP32: 4277.07 | CR32: 1072.3 | CV32: 4124.24 | CX32: 3934.62 | CZ32: 3507.97 | DB32: 1327.34 | DC32: 1422.15 | DD32: =[3]Sheet1!$D$168+[3]Sheet1!$F$168 -> 3602.78 | DF32: =CJ32+CK32+CL32+CM32+CN32+CO32+CP32+CQ32+CR32+CS32+CT32+CU32+CV32+CW32+CX32+CY32+CZ32+DA32+DB32+DC32+DD32+DE32+CI32+CH32 -> 24121.76 | DH32: 0 | DJ32: =(DH32+DI32)/$DH$69 -> 0 | DK32: 2929.65 | DM32: =(DK32+DL32)/$DK$69 -> 0.0047462454 | DN32: 3177.92 | DP32: =(DN32+DO32)/$DN$69 -> 0.0042581318 | EI32: =DK32+DL32+DN32+DO32+DQ32+DR32+DS32+DT32+DU32+DV32+DW32+DX32+DY32+DZ32+EA32+EB32+EC32+ED32+EE32+EF32+EG32+EH32+DI32+DH32 -> 6107.57
A33: STORES | B33: 59653.1 | D33: 855.5 | F33: 1521.89 | H33: 4118.76 | J33: =D33+F33+H33 -> 6496.15 | K33: =E33+G33+I33 -> 0 | L33: 2382.42 | N33: 4808.97 | P33: 3270.78 | R33: =L33+N33+P33 -> 10462.17 | S33: =M33+O33+Q33 -> 0 | T33: 5299.17 | Z33: =T33+V33+X33 -> 5299.17 | AA33: =U33+W33+Y33 -> 0 | AH33: =D33+E33+F33+G33+H33+I33+L33+M33+N33+O33+P33+Q33+T33+U33+V33+W33+X33+Y33+AB33+AC33+AD33+AE33+AF33+AG33 -> 22257.49 | BG33: =AI33+AJ33+AK33+AL33+AM33+AN33+AO33+AP33+AQ33+AR33+AS33+AT33+AU33+AV33+AW33+AX33+AY33+AZ33+BA33+BB33+BC33+BD33+BE33+BF33 -> 0 | CF33: =SUM(BI33:CE33) -> 0 | CH33: 406.31 | DF33: =CJ33+CK33+CL33+CM33+CN33+CO33+CP33+CQ33+CR33+CS33+CT33+CU33+CV33+CW33+CX33+CY33+CZ33+DA33+DB33+DC33+DD33+DE33+CI33+CH33 -> 406.31 | DJ33: =(DH33+DI33)/$DH$69 -> 0 | DM33: =(DK33+DL33)/$DK$69 -> 0 | DP33: =(DN33+DO33)/$DN$69 -> 0 | EI33: =DK33+DL33+DN33+DO33+DQ33+DR33+DS33+DT33+DU33+DV33+DW33+DX33+DY33+DZ33+EA33+EB33+EC33+ED33+EE33+EF33+EG33+EH33+DI33+DH33 -> 0
A34: ADMIN & SOCIAL DEVELOPMENT | B34: 2115.19 | J34: =D34+F34+H34 -> 0 | K34: =E34+G34+I34 -> 0 | R34: =L34+N34+P34 -> 0 | S34: =M34+O34+Q34 -> 0 | Z34: =T34+V34+X34 -> 0 | AA34: =U34+W34+Y34 -> 0 | AH34: =D34+E34+F34+G34+H34+I34+L34+M34+N34+O34+P34+Q34+T34+U34+V34+W34+X34+Y34+AB34+AC34+AD34+AE34+AF34+AG34 -> 0 | BG34: =AI34+AJ34+AK34+AL34+AM34+AN34+AO34+AP34+AQ34+AR34+AS34+AT34+AU34+AV34+AW34+AX34+AY34+AZ34+BA34+BB34+BC34+BD34+BE34+BF34 -> 0 | CF34: =SUM(BI34:CE34) -> 0 | DF34: =CJ34+CK34+CL34+CM34+CN34+CO34+CP34+CQ34+CR34+CS34+CT34+CU34+CV34+CW34+CX34+CY34+CZ34+DA34+DB34+DC34+DD34+DE34+CI34+CH34 -> 0 | DJ34: =(DH34+DI34)/$DH$69 -> 0 | DM34: =(DK34+DL34)/$DK$69 -> 0 | DP34: =(DN34+DO34)/$DN$69 -> 0 | EI34: =DK34+DL34+DN34+DO34+DQ34+DR34+DS34+DT34+DU34+DV34+DW34+DX34+DY34+DZ34+EA34+EB34+EC34+ED34+EE34+EF34+EG34+EH34+DI34+DH34 -> 0
A35: BOTANICAL GARDENS | BA35: 6220.2 | BC35: 18836.09 | BE35: 5092.98 | BG35: =AI35+AJ35+AK35+AL35+AM35+AN35+AO35+AP35+AQ35+AR35+AS35+AT35+AU35+AV35+AW35+AX35+AY35+AZ35+BA35+BB35+BC35+BD35+BE35+BF35 -> 30149.27 | BI35: 7610.2 | CF35: =SUM(BI35:CE35) -> 7610.2 | DF35: =CJ35+CK35+CL35+CM35+CN35+CO35+CP35+CQ35+CR35+CS35+CT35+CU35+CV35+CW35+CX35+CY35+CZ35+DA35+DB35+DC35+DD35+DE35+CI35+CH35 -> 0 | DJ35: =(DH35+DI35)/$DH$69 -> 0 | DM35: =(DK35+DL35)/$DK$69 -> 0 | DP35: =(DN35+DO35)/$DN$69 -> 0 | EI35: =DK35+DL35+DN35+DO35+DQ35+DR35+DS35+DT35+DU35+DV35+DW35+DX35+DY35+DZ35+EA35+EB35+EC35+ED35+EE35+EF35+EG35+EH35+DI35+DH35 -> 0
A36: CARAVAN PARK | B36: 19491.53 | D36: 2790.89 | H36: 4199.52 | J36: =D36+F36+H36 -> 6990.41 | K36: =E36+G36+I36 -> 0 | L36: 4038 | N36: 5895.48 | P36: 969.12 | R36: =L36+N36+P36 -> 10902.6 | S36: =M36+O36+Q36 -> 0 | V36: 2866.98 | X36: 4522.56 | Z36: =T36+V36+X36 -> 7389.54 | AA36: =U36+W36+Y36 -> 0 | AD36: 3876.48 | AF36: 4926.36 | AH36: =D36+E36+F36+G36+H36+I36+L36+M36+N36+O36+P36+Q36+T36+U36+V36+W36+X36+Y36+AB36+AC36+AD36+AE36+AF36+AG36 -> 34085.39 | AI36: 5572.44 | AK36: 5596.64 | AM36: 5788.16 | AO36: 5107.2 | AQ36: 5362.56 | AS36: 5788.16 | AU36: =6384-AV36 -> 5958.4 | AV36: 425.6 | AW36: 5617.92 | BG36: =AI36+AJ36+AK36+AL36+AM36+AN36+AO36+AP36+AQ36+AR36+AS36+AT36+AU36+AV36+AW36+AX36+AY36+AZ36+BA36+BB36+BC36+BD36+BE36+BF36 -> 45217.08 | CF36: =SUM(BI36:CE36) -> 0 | DF36: =CJ36+CK36+CL36+CM36+CN36+CO36+CP36+CQ36+CR36+CS36+CT36+CU36+CV36+CW36+CX36+CY36+CZ36+DA36+DB36+DC36+DD36+DE36+CI36+CH36 -> 0 | DJ36: =(DH36+DI36)/$DH$69 -> 0 | DM36: =(DK36+DL36)/$DK$69 -> 0 | DP36: =(DN36+DO36)/$DN$69 -> 0 | EI36: =DK36+DL36+DN36+DO36+DQ36+DR36+DS36+DT36+DU36+DV36+DW36+DX36+DY36+DZ36+EA36+EB36+EC36+ED36+EE36+EF36+EG36+EH36+DI36+DH36 -> 0
A37: CEMETERIES | B37: 52241.93 | D37: 8831.84 | F37: 9713.13 | H37: 8928.3 | J37: =D37+F37+H37 -> 27473.27 | K37: =E37+G37+I37 -> 0 | L37: 2534.03 | N37: 13945.8 | P37: 5746 | R37: =L37+N37+P37 -> 22225.83 | S37: =M37+O37+Q37 -> 0 | T37: 10324.68 | V37: 4957.88 | X37: 8542.28 | Z37: =T37+V37+X37 -> 23824.84 | AA37: =U37+W37+Y37 -> 0 | AD37: 10168.25 | AF37: 10136.15 | AH37: =D37+E37+F37+G37+H37+I37+L37+M37+N37+O37+P37+Q37+T37+U37+V37+W37+X37+Y37+AB37+AC37+AD37+AE37+AF37+AG37 -> 93828.34 | AI37: 8229.43 | AK37: 15280.76 | AM37: 10637.5 | AO37: 15036.65 | AQ37: 15840.24 | AS37: 14378.91 | AU37: =17343.98-AV37 -> 13180.98 | AV37: 4163 | AW37: 13903.81 | AY37: 6936.9 | BA37: 11751.86 | BC37: 9271.13 | BE37: 7416.9 | BG37: =AI37+AJ37+AK37+AL37+AM37+AN37+AO37+AP37+AQ37+AR37+AS37+AT37+AU37+AV37+AW37+AX37+AY37+AZ37+BA37+BB37+BC37+BD37+BE37+BF37 -> 146028.07 | BI37: 9271.13 | BP37: 2669.7 | CF37: =SUM(BI37:CE37) -> 11940.83 | CJ37: 1551.96 | CP37: 14757.23 | DF37: =CJ37+CK37+CL37+CM37+CN37+CO37+CP37+CQ37+CR37+CS37+CT37+CU37+CV37+CW37+CX37+CY37+CZ37+DA37+DB37+DC37+DD37+DE37+CI37+CH37 -> 16309.19 | DJ37: =(DH37+DI37)/$DH$69 -> 0 | DM37: =(DK37+DL37)/$DK$69 -> 0 | DN37: 699.45 | DP37: =(DN37+DO37)/$DN$69 -> 0.00093720115 | EI37: =DK37+DL37+DN37+DO37+DQ37+DR37+DS37+DT37+DU37+DV37+DW37+DX37+DY37+DZ37+EA37+EB37+EC37+ED37+EE37+EF37+EG37+EH37+DI37+DH37 -> 699.45
A38: COMMONAGE | B38: 138043.72 | D38: =11233.09+1502.88 -> 12735.97 | F38: =8126.75+1379.28 -> 9506.03 | H38: =10970.32+1379.28 -> 12349.6 | J38: =D38+F38+H38 -> 34591.6 | K38: =E38+G38+I38 -> 0 | L38: 4565.92 | N38: 1379.28 | P38: 3282.84 | R38: =L38+N38+P38 -> 9228.04 | S38: =M38+O38+Q38 -> 0 | T38: 5009.92 | V38: 4198.54 | X38: 8862 | Z38: =T38+V38+X38 -> 18070.46 | AA38: =U38+W38+Y38 -> 0 | AD38: 3182.2 | AH38: =D38+E38+F38+G38+H38+I38+L38+M38+N38+O38+P38+Q38+T38+U38+V38+W38+X38+Y38+AB38+AC38+AD38+AE38+AF38+AG38 -> 65072.3 | AI38: 13640.35 | AK38: 11791.58 | AO38: 12464.34 | AQ38: 9506.7 | AS38: 14541.73 | AU38: =18146.58-AV38 -> 15505.14 | AV38: 2641.44 | AW38: 20717.1 | AY38: 14773.01 | BA38: 12802.86 | BC38: 2854.08 | BE38: 1050.46 | BG38: =AI38+AJ38+AK38+AL38+AM38+AN38+AO38+AP38+AQ38+AR38+AS38+AT38+AU38+AV38+AW38+AX38+AY38+AZ38+BA38+BB38+BC38+BD38+BE38+BF38 -> 132288.79 | BI38: 4983.66 | BP38: 5298.48 | BT38: 1346.64 | BV38: =497.2+1325.92 -> 1823.12 | CF38: =SUM(BI38:CE38) -> 13451.9 | CJ38: 7916.6 | DF38: =CJ38+CK38+CL38+CM38+CN38+CO38+CP38+CQ38+CR38+CS38+CT38+CU38+CV38+CW38+CX38+CY38+CZ38+DA38+DB38+DC38+DD38+DE38+CI38+CH38 -> 7916.6 | DJ38: =(DH38+DI38)/$DH$69 -> 0 | DM38: =(DK38+DL38)/$DK$69 -> 0 | DN38: 1440.98 | DP38: =(DN38+DO38)/$DN$69 -> 0.0019307858 | EI38: =DK38+DL38+DN38+DO38+DQ38+DR38+DS38+DT38+DU38+DV38+DW38+DX38+DY38+DZ38+EA38+EB38+EC38+ED38+EE38+EF38+EG38+EH38+DI38+DH38 -> 1440.98
A39: DOMESTIC REFUSE | B39: 228742.97 | D39: =8716.6+5054.85 -> 13771.45 | F39: =9976.79+3008.4 -> 12985.19 | H39: =10042.66+5114.28 -> 15156.94 | J39: =D39+F39+H39 -> 41913.58 | K39: =E39+G39+I39 -> 0 | L39: 13635.62 | N39: 20249.12 | P39: 20370.73 | R39: =L39+N39+P39 -> 54255.47 | S39: =M39+O39+Q39 -> 0 | T39: 19837.43 | V39: 29657.7 | X39: 17049.88 | Z39: =T39+V39+X39 -> 66545.01 | AA39: =U39+W39+Y39 -> 0 | AD39: 12545 | AF39: 4584.53 | AH39: =D39+E39+F39+G39+H39+I39+L39+M39+N39+O39+P39+Q39+T39+U39+V39+W39+X39+Y39+AB39+AC39+AD39+AE39+AF39+AG39 -> 179843.59 | AK39: 12069.25 | AM39: 5890.28 | AO39: 9505.35 | AQ39: 7338.1 | AS39: 13903.99 | AU39: =14786.75-AV39 -> 11850.09 | AV39: 2936.66 | AW39: 12248.15 | AY39: 18745.82 | BA39: 23398.97 | BC39: 11271.61 | BE39: 23165.13 | BG39: =AI39+AJ39+AK39+AL39+AM39+AN39+AO39+AP39+AQ39+AR39+AS39+AT39+AU39+AV39+AW39+AX39+AY39+AZ39+BA39+BB39+BC39+BD39+BE39+BF39 -> 152323.4 | BI39: 24843.23 | BR39: 5347.32 | BT39: 6761.58 | BV39: =1092.15+4600.3 -> 5692.45 | CB39: 17518.38 | CD39: =2404.97 -> 2404.97 | CF39: =SUM(BI39:CE39) -> 62567.93 | CH39: 6214.72 | CJ39: 8805.85 | CL39: 5924.93 | CN39: 5607.05 | CP39: 7508.58 | CR39: 6181 | CV39: 11976.78 | CX39: 6541.42 | CZ39: 10794.09 | DB39: 7454.56 | DC39: 2265.66 | DD39: =[3]Sheet1!$D$173+[3]Sheet1!$F$173 -> 8827.88 | DF39: =CJ39+CK39+CL39+CM39+CN39+CO39+CP39+CQ39+CR39+CS39+CT39+CU39+CV39+CW39+CX39+CY39+CZ39+DA39+DB39+DC39+DD39+DE39+CI39+CH39 -> 88102.52 | DH39: 0 | DJ39: =(DH39+DI39)/$DH$69 -> 0 | DK39: 14350.78 | DM39: =(DK39+DL39)/$DK$69 -> 0.023249304 | DN39: 12133.01 | DP39: =(DN39+DO39)/$DN$69 -> 0.01625716 | EI39: =DK39+DL39+DN39+DO39+DQ39+DR39+DS39+DT39+DU39+DV39+DW39+DX39+DY39+DZ39+EA39+EB39+EC39+ED39+EE39+EF39+EG39+EH39+DI39+DH39 -> 26483.79
